BEGIN:VCALENDAR
VERSION:2.0
PRODID:-//Dwight Foster Public Library - ECPv6.15.20//NONSGML v1.0//EN
CALSCALE:GREGORIAN
METHOD:PUBLISH
X-ORIGINAL-URL:https://www.fortlibrary.org
X-WR-CALDESC:Events for Dwight Foster Public Library
REFRESH-INTERVAL;VALUE=DURATION:PT1H
X-Robots-Tag:noindex
X-PUBLISHED-TTL:PT1H
BEGIN:VTIMEZONE
TZID:America/Chicago
BEGIN:DAYLIGHT
TZOFFSETFROM:-0600
TZOFFSETTO:-0500
TZNAME:CDT
DTSTART:20250309T080000
END:DAYLIGHT
BEGIN:STANDARD
TZOFFSETFROM:-0500
TZOFFSETTO:-0600
TZNAME:CST
DTSTART:20251102T070000
END:STANDARD
BEGIN:DAYLIGHT
TZOFFSETFROM:-0600
TZOFFSETTO:-0500
TZNAME:CDT
DTSTART:20260308T080000
END:DAYLIGHT
BEGIN:STANDARD
TZOFFSETFROM:-0500
TZOFFSETTO:-0600
TZNAME:CST
DTSTART:20261101T070000
END:STANDARD
BEGIN:DAYLIGHT
TZOFFSETFROM:-0600
TZOFFSETTO:-0500
TZNAME:CDT
DTSTART:20270314T080000
END:DAYLIGHT
BEGIN:STANDARD
TZOFFSETFROM:-0500
TZOFFSETTO:-0600
TZNAME:CST
DTSTART:20271107T070000
END:STANDARD
BEGIN:DAYLIGHT
TZOFFSETFROM:-0600
TZOFFSETTO:-0500
TZNAME:CDT
DTSTART:20280312T080000
END:DAYLIGHT
BEGIN:STANDARD
TZOFFSETFROM:-0500
TZOFFSETTO:-0600
TZNAME:CST
DTSTART:20281105T070000
END:STANDARD
END:VTIMEZONE
BEGIN:VEVENT
DTSTART;TZID=America/Chicago:20261010T090000
DTEND;TZID=America/Chicago:20261010T120000
DTSTAMP:20260422T171022
CREATED:20211213T212512Z
LAST-MODIFIED:20211213T212512Z
UID:35770-1791622800-1791633600@www.fortlibrary.org
SUMMARY:Friends of the Library Book Sale
DESCRIPTION:The first hour (9 a.m. to 10 a.m.) is open to Friends of the Library members only. Memberships are always sold at the sale. The Friends have adult and children’s books\, DVDs and audio books.
URL:https://www.fortlibrary.org/event/friends-of-the-library-book-sale-2026-10-10/
LOCATION:Dwight Foster Public Library Rogers Room
ATTACH;FMTTYPE=image/jpeg:https://www.fortlibrary.org/wp-content/uploads/2021/12/Friends-book-sale-WEBSITE-300-x-300-px.jpg
END:VEVENT
BEGIN:VEVENT
DTSTART;TZID=America/Chicago:20261012T093000
DTEND;TZID=America/Chicago:20261012T103000
DTSTAMP:20260422T171022
CREATED:20220429T185907Z
LAST-MODIFIED:20220429T185907Z
UID:35771-1791797400-1791801000@www.fortlibrary.org
SUMMARY:Library Board Meeting
DESCRIPTION:The Library Board meets generally the second Monday of the month at 9:30 a.m. in the Library meeting rooms. View our current Strategic Plan here.
URL:https://www.fortlibrary.org/event/library-board-meeting-2026-10-12/
LOCATION:Dwight Foster Public Library – Rotary Room
ATTACH;FMTTYPE=image/jpeg:https://www.fortlibrary.org/wp-content/uploads/2022/04/Library-Board-Meeting-Website-square-300-x-300-px.jpg
END:VEVENT
BEGIN:VEVENT
DTSTART;TZID=America/Chicago:20261109T093000
DTEND;TZID=America/Chicago:20261109T103000
DTSTAMP:20260422T171022
CREATED:20220429T185907Z
LAST-MODIFIED:20220429T185907Z
UID:35802-1794216600-1794220200@www.fortlibrary.org
SUMMARY:Library Board Meeting
DESCRIPTION:The Library Board meets generally the second Monday of the month at 9:30 a.m. in the Library meeting rooms. View our current Strategic Plan here.
URL:https://www.fortlibrary.org/event/library-board-meeting-2026-11-09/
LOCATION:Dwight Foster Public Library – Rotary Room
ATTACH;FMTTYPE=image/jpeg:https://www.fortlibrary.org/wp-content/uploads/2022/04/Library-Board-Meeting-Website-square-300-x-300-px.jpg
END:VEVENT
BEGIN:VEVENT
DTSTART;TZID=America/Chicago:20261114T090000
DTEND;TZID=America/Chicago:20261114T120000
DTSTAMP:20260422T171022
CREATED:20211213T212512Z
LAST-MODIFIED:20211213T212512Z
UID:35822-1794646800-1794657600@www.fortlibrary.org
SUMMARY:Friends of the Library Book Sale
DESCRIPTION:The first hour (9 a.m. to 10 a.m.) is open to Friends of the Library members only. Memberships are always sold at the sale. The Friends have adult and children’s books\, DVDs and audio books.
URL:https://www.fortlibrary.org/event/friends-of-the-library-book-sale-2026-11-14/
LOCATION:Dwight Foster Public Library Rogers Room
ATTACH;FMTTYPE=image/jpeg:https://www.fortlibrary.org/wp-content/uploads/2021/12/Friends-book-sale-WEBSITE-300-x-300-px.jpg
END:VEVENT
BEGIN:VEVENT
DTSTART;TZID=America/Chicago:20261212T090000
DTEND;TZID=America/Chicago:20261212T120000
DTSTAMP:20260422T171022
CREATED:20211213T212512Z
LAST-MODIFIED:20211213T212512Z
UID:35858-1797066000-1797076800@www.fortlibrary.org
SUMMARY:Friends of the Library Book Sale
DESCRIPTION:The first hour (9 a.m. to 10 a.m.) is open to Friends of the Library members only. Memberships are always sold at the sale. The Friends have adult and children’s books\, DVDs and audio books.
URL:https://www.fortlibrary.org/event/friends-of-the-library-book-sale-2026-12-12/
LOCATION:Dwight Foster Public Library Rogers Room
ATTACH;FMTTYPE=image/jpeg:https://www.fortlibrary.org/wp-content/uploads/2021/12/Friends-book-sale-WEBSITE-300-x-300-px.jpg
END:VEVENT
BEGIN:VEVENT
DTSTART;TZID=America/Chicago:20261214T093000
DTEND;TZID=America/Chicago:20261214T103000
DTSTAMP:20260422T171022
CREATED:20220429T185907Z
LAST-MODIFIED:20220429T185907Z
UID:35859-1797240600-1797244200@www.fortlibrary.org
SUMMARY:Library Board Meeting
DESCRIPTION:The Library Board meets generally the second Monday of the month at 9:30 a.m. in the Library meeting rooms. View our current Strategic Plan here.
URL:https://www.fortlibrary.org/event/library-board-meeting-2026-12-14/
LOCATION:Dwight Foster Public Library – Rotary Room
ATTACH;FMTTYPE=image/jpeg:https://www.fortlibrary.org/wp-content/uploads/2022/04/Library-Board-Meeting-Website-square-300-x-300-px.jpg
END:VEVENT
BEGIN:VEVENT
DTSTART;TZID=America/Chicago:20270109T090000
DTEND;TZID=America/Chicago:20270109T120000
DTSTAMP:20260422T171022
CREATED:20211213T212512Z
LAST-MODIFIED:20211213T212512Z
UID:35880-1799485200-1799496000@www.fortlibrary.org
SUMMARY:Friends of the Library Book Sale
DESCRIPTION:The first hour (9 a.m. to 10 a.m.) is open to Friends of the Library members only. Memberships are always sold at the sale. The Friends have adult and children’s books\, DVDs and audio books.
URL:https://www.fortlibrary.org/event/friends-of-the-library-book-sale-2027-01-09/
LOCATION:Dwight Foster Public Library Rogers Room
ATTACH;FMTTYPE=image/jpeg:https://www.fortlibrary.org/wp-content/uploads/2021/12/Friends-book-sale-WEBSITE-300-x-300-px.jpg
END:VEVENT
BEGIN:VEVENT
DTSTART;TZID=America/Chicago:20270111T093000
DTEND;TZID=America/Chicago:20270111T103000
DTSTAMP:20260422T171022
CREATED:20220429T185907Z
LAST-MODIFIED:20220429T185907Z
UID:35889-1799659800-1799663400@www.fortlibrary.org
SUMMARY:Library Board Meeting
DESCRIPTION:The Library Board meets generally the second Monday of the month at 9:30 a.m. in the Library meeting rooms. View our current Strategic Plan here.
URL:https://www.fortlibrary.org/event/library-board-meeting-2027-01-11/
LOCATION:Dwight Foster Public Library – Rotary Room
ATTACH;FMTTYPE=image/jpeg:https://www.fortlibrary.org/wp-content/uploads/2022/04/Library-Board-Meeting-Website-square-300-x-300-px.jpg
END:VEVENT
BEGIN:VEVENT
DTSTART;TZID=America/Chicago:20270208T093000
DTEND;TZID=America/Chicago:20270208T103000
DTSTAMP:20260422T171022
CREATED:20220429T185907Z
LAST-MODIFIED:20220429T185907Z
UID:35924-1802079000-1802082600@www.fortlibrary.org
SUMMARY:Library Board Meeting
DESCRIPTION:The Library Board meets generally the second Monday of the month at 9:30 a.m. in the Library meeting rooms. View our current Strategic Plan here.
URL:https://www.fortlibrary.org/event/library-board-meeting-2027-02-08/
LOCATION:Dwight Foster Public Library – Rotary Room
ATTACH;FMTTYPE=image/jpeg:https://www.fortlibrary.org/wp-content/uploads/2022/04/Library-Board-Meeting-Website-square-300-x-300-px.jpg
END:VEVENT
BEGIN:VEVENT
DTSTART;TZID=America/Chicago:20270213T090000
DTEND;TZID=America/Chicago:20270213T120000
DTSTAMP:20260422T171022
CREATED:20211213T212512Z
LAST-MODIFIED:20211213T212512Z
UID:35931-1802509200-1802520000@www.fortlibrary.org
SUMMARY:Friends of the Library Book Sale
DESCRIPTION:The first hour (9 a.m. to 10 a.m.) is open to Friends of the Library members only. Memberships are always sold at the sale. The Friends have adult and children’s books\, DVDs and audio books.
URL:https://www.fortlibrary.org/event/friends-of-the-library-book-sale-2027-02-13/
LOCATION:Dwight Foster Public Library Rogers Room
ATTACH;FMTTYPE=image/jpeg:https://www.fortlibrary.org/wp-content/uploads/2021/12/Friends-book-sale-WEBSITE-300-x-300-px.jpg
END:VEVENT
BEGIN:VEVENT
DTSTART;TZID=America/Chicago:20270308T093000
DTEND;TZID=America/Chicago:20270308T103000
DTSTAMP:20260422T171022
CREATED:20220429T185907Z
LAST-MODIFIED:20220429T185907Z
UID:36059-1804498200-1804501800@www.fortlibrary.org
SUMMARY:Library Board Meeting
DESCRIPTION:The Library Board meets generally the second Monday of the month at 9:30 a.m. in the Library meeting rooms. View our current Strategic Plan here.
URL:https://www.fortlibrary.org/event/library-board-meeting-2027-03-08/
LOCATION:Dwight Foster Public Library – Rotary Room
ATTACH;FMTTYPE=image/jpeg:https://www.fortlibrary.org/wp-content/uploads/2022/04/Library-Board-Meeting-Website-square-300-x-300-px.jpg
END:VEVENT
BEGIN:VEVENT
DTSTART;TZID=America/Chicago:20270313T090000
DTEND;TZID=America/Chicago:20270313T120000
DTSTAMP:20260422T171022
CREATED:20211213T212512Z
LAST-MODIFIED:20211213T212512Z
UID:36073-1804928400-1804939200@www.fortlibrary.org
SUMMARY:Friends of the Library Book Sale
DESCRIPTION:The first hour (9 a.m. to 10 a.m.) is open to Friends of the Library members only. Memberships are always sold at the sale. The Friends have adult and children’s books\, DVDs and audio books.
URL:https://www.fortlibrary.org/event/friends-of-the-library-book-sale-2027-03-13/
LOCATION:Dwight Foster Public Library Rogers Room
ATTACH;FMTTYPE=image/jpeg:https://www.fortlibrary.org/wp-content/uploads/2021/12/Friends-book-sale-WEBSITE-300-x-300-px.jpg
END:VEVENT
BEGIN:VEVENT
DTSTART;TZID=America/Chicago:20270410T090000
DTEND;TZID=America/Chicago:20270410T120000
DTSTAMP:20260422T171022
CREATED:20211213T212512Z
LAST-MODIFIED:20211213T212512Z
UID:36103-1807347600-1807358400@www.fortlibrary.org
SUMMARY:Friends of the Library Book Sale
DESCRIPTION:The first hour (9 a.m. to 10 a.m.) is open to Friends of the Library members only. Memberships are always sold at the sale. The Friends have adult and children’s books\, DVDs and audio books.
URL:https://www.fortlibrary.org/event/friends-of-the-library-book-sale-2027-04-10/
LOCATION:Dwight Foster Public Library Rogers Room
ATTACH;FMTTYPE=image/jpeg:https://www.fortlibrary.org/wp-content/uploads/2021/12/Friends-book-sale-WEBSITE-300-x-300-px.jpg
END:VEVENT
BEGIN:VEVENT
DTSTART;TZID=America/Chicago:20270412T093000
DTEND;TZID=America/Chicago:20270412T103000
DTSTAMP:20260422T171022
CREATED:20220429T185907Z
LAST-MODIFIED:20220429T185907Z
UID:36104-1807522200-1807525800@www.fortlibrary.org
SUMMARY:Library Board Meeting
DESCRIPTION:The Library Board meets generally the second Monday of the month at 9:30 a.m. in the Library meeting rooms. View our current Strategic Plan here.
URL:https://www.fortlibrary.org/event/library-board-meeting-2027-04-12/
LOCATION:Dwight Foster Public Library – Rotary Room
ATTACH;FMTTYPE=image/jpeg:https://www.fortlibrary.org/wp-content/uploads/2022/04/Library-Board-Meeting-Website-square-300-x-300-px.jpg
END:VEVENT
BEGIN:VEVENT
DTSTART;TZID=America/Chicago:20270508T090000
DTEND;TZID=America/Chicago:20270508T120000
DTSTAMP:20260422T171022
CREATED:20211213T212512Z
LAST-MODIFIED:20211213T212512Z
UID:36138-1809766800-1809777600@www.fortlibrary.org
SUMMARY:Friends of the Library Book Sale
DESCRIPTION:The first hour (9 a.m. to 10 a.m.) is open to Friends of the Library members only. Memberships are always sold at the sale. The Friends have adult and children’s books\, DVDs and audio books.
URL:https://www.fortlibrary.org/event/friends-of-the-library-book-sale-2027-05-08/
LOCATION:Dwight Foster Public Library Rogers Room
ATTACH;FMTTYPE=image/jpeg:https://www.fortlibrary.org/wp-content/uploads/2021/12/Friends-book-sale-WEBSITE-300-x-300-px.jpg
END:VEVENT
BEGIN:VEVENT
DTSTART;TZID=America/Chicago:20270510T093000
DTEND;TZID=America/Chicago:20270510T103000
DTSTAMP:20260422T171022
CREATED:20220429T185907Z
LAST-MODIFIED:20220429T185907Z
UID:36139-1809941400-1809945000@www.fortlibrary.org
SUMMARY:Library Board Meeting
DESCRIPTION:The Library Board meets generally the second Monday of the month at 9:30 a.m. in the Library meeting rooms. View our current Strategic Plan here.
URL:https://www.fortlibrary.org/event/library-board-meeting-2027-05-10/
LOCATION:Dwight Foster Public Library – Rotary Room
ATTACH;FMTTYPE=image/jpeg:https://www.fortlibrary.org/wp-content/uploads/2022/04/Library-Board-Meeting-Website-square-300-x-300-px.jpg
END:VEVENT
BEGIN:VEVENT
DTSTART;TZID=America/Chicago:20270612T090000
DTEND;TZID=America/Chicago:20270612T120000
DTSTAMP:20260422T171022
CREATED:20211213T212512Z
LAST-MODIFIED:20211213T212512Z
UID:36168-1812790800-1812801600@www.fortlibrary.org
SUMMARY:Friends of the Library Book Sale
DESCRIPTION:The first hour (9 a.m. to 10 a.m.) is open to Friends of the Library members only. Memberships are always sold at the sale. The Friends have adult and children’s books\, DVDs and audio books.
URL:https://www.fortlibrary.org/event/friends-of-the-library-book-sale-2027-06-12/
LOCATION:Dwight Foster Public Library Rogers Room
ATTACH;FMTTYPE=image/jpeg:https://www.fortlibrary.org/wp-content/uploads/2021/12/Friends-book-sale-WEBSITE-300-x-300-px.jpg
END:VEVENT
BEGIN:VEVENT
DTSTART;TZID=America/Chicago:20270614T093000
DTEND;TZID=America/Chicago:20270614T103000
DTSTAMP:20260422T171022
CREATED:20220429T185907Z
LAST-MODIFIED:20220429T185907Z
UID:36169-1812965400-1812969000@www.fortlibrary.org
SUMMARY:Library Board Meeting
DESCRIPTION:The Library Board meets generally the second Monday of the month at 9:30 a.m. in the Library meeting rooms. View our current Strategic Plan here.
URL:https://www.fortlibrary.org/event/library-board-meeting-2027-06-14/
LOCATION:Dwight Foster Public Library – Rotary Room
ATTACH;FMTTYPE=image/jpeg:https://www.fortlibrary.org/wp-content/uploads/2022/04/Library-Board-Meeting-Website-square-300-x-300-px.jpg
END:VEVENT
BEGIN:VEVENT
DTSTART;TZID=America/Chicago:20270710T090000
DTEND;TZID=America/Chicago:20270710T120000
DTSTAMP:20260422T171022
CREATED:20211213T212512Z
LAST-MODIFIED:20211213T212512Z
UID:36176-1815210000-1815220800@www.fortlibrary.org
SUMMARY:Friends of the Library Book Sale
DESCRIPTION:The first hour (9 a.m. to 10 a.m.) is open to Friends of the Library members only. Memberships are always sold at the sale. The Friends have adult and children’s books\, DVDs and audio books.
URL:https://www.fortlibrary.org/event/friends-of-the-library-book-sale-2027-07-10/
LOCATION:Dwight Foster Public Library Rogers Room
ATTACH;FMTTYPE=image/jpeg:https://www.fortlibrary.org/wp-content/uploads/2021/12/Friends-book-sale-WEBSITE-300-x-300-px.jpg
END:VEVENT
BEGIN:VEVENT
DTSTART;TZID=America/Chicago:20270712T093000
DTEND;TZID=America/Chicago:20270712T103000
DTSTAMP:20260422T171022
CREATED:20220429T185907Z
LAST-MODIFIED:20220429T185907Z
UID:36177-1815384600-1815388200@www.fortlibrary.org
SUMMARY:Library Board Meeting
DESCRIPTION:The Library Board meets generally the second Monday of the month at 9:30 a.m. in the Library meeting rooms. View our current Strategic Plan here.
URL:https://www.fortlibrary.org/event/library-board-meeting-2027-07-12/
LOCATION:Dwight Foster Public Library – Rotary Room
ATTACH;FMTTYPE=image/jpeg:https://www.fortlibrary.org/wp-content/uploads/2022/04/Library-Board-Meeting-Website-square-300-x-300-px.jpg
END:VEVENT
BEGIN:VEVENT
DTSTART;TZID=America/Chicago:20270809T093000
DTEND;TZID=America/Chicago:20270809T103000
DTSTAMP:20260422T171022
CREATED:20220429T185907Z
LAST-MODIFIED:20220429T185907Z
UID:36216-1817803800-1817807400@www.fortlibrary.org
SUMMARY:Library Board Meeting
DESCRIPTION:The Library Board meets generally the second Monday of the month at 9:30 a.m. in the Library meeting rooms. View our current Strategic Plan here.
URL:https://www.fortlibrary.org/event/library-board-meeting-2027-08-09/
LOCATION:Dwight Foster Public Library – Rotary Room
ATTACH;FMTTYPE=image/jpeg:https://www.fortlibrary.org/wp-content/uploads/2022/04/Library-Board-Meeting-Website-square-300-x-300-px.jpg
END:VEVENT
BEGIN:VEVENT
DTSTART;TZID=America/Chicago:20270814T090000
DTEND;TZID=America/Chicago:20270814T120000
DTSTAMP:20260422T171022
CREATED:20211213T212512Z
LAST-MODIFIED:20211213T212512Z
UID:36228-1818234000-1818244800@www.fortlibrary.org
SUMMARY:Friends of the Library Book Sale
DESCRIPTION:The first hour (9 a.m. to 10 a.m.) is open to Friends of the Library members only. Memberships are always sold at the sale. The Friends have adult and children’s books\, DVDs and audio books.
URL:https://www.fortlibrary.org/event/friends-of-the-library-book-sale-2027-08-14/
LOCATION:Dwight Foster Public Library Rogers Room
ATTACH;FMTTYPE=image/jpeg:https://www.fortlibrary.org/wp-content/uploads/2021/12/Friends-book-sale-WEBSITE-300-x-300-px.jpg
END:VEVENT
BEGIN:VEVENT
DTSTART;TZID=America/Chicago:20270911T090000
DTEND;TZID=America/Chicago:20270911T120000
DTSTAMP:20260422T171022
CREATED:20211213T212512Z
LAST-MODIFIED:20211213T212512Z
UID:36252-1820653200-1820664000@www.fortlibrary.org
SUMMARY:Friends of the Library Book Sale
DESCRIPTION:The first hour (9 a.m. to 10 a.m.) is open to Friends of the Library members only. Memberships are always sold at the sale. The Friends have adult and children’s books\, DVDs and audio books.
URL:https://www.fortlibrary.org/event/friends-of-the-library-book-sale-2027-09-11/
LOCATION:Dwight Foster Public Library Rogers Room
ATTACH;FMTTYPE=image/jpeg:https://www.fortlibrary.org/wp-content/uploads/2021/12/Friends-book-sale-WEBSITE-300-x-300-px.jpg
END:VEVENT
BEGIN:VEVENT
DTSTART;TZID=America/Chicago:20270913T093000
DTEND;TZID=America/Chicago:20270913T103000
DTSTAMP:20260422T171022
CREATED:20220429T185907Z
LAST-MODIFIED:20220429T185907Z
UID:36253-1820827800-1820831400@www.fortlibrary.org
SUMMARY:Library Board Meeting
DESCRIPTION:The Library Board meets generally the second Monday of the month at 9:30 a.m. in the Library meeting rooms. View our current Strategic Plan here.
URL:https://www.fortlibrary.org/event/library-board-meeting-2027-09-13/
LOCATION:Dwight Foster Public Library – Rotary Room
ATTACH;FMTTYPE=image/jpeg:https://www.fortlibrary.org/wp-content/uploads/2022/04/Library-Board-Meeting-Website-square-300-x-300-px.jpg
END:VEVENT
BEGIN:VEVENT
DTSTART;TZID=America/Chicago:20271009T090000
DTEND;TZID=America/Chicago:20271009T120000
DTSTAMP:20260422T171022
CREATED:20211213T212512Z
LAST-MODIFIED:20211213T212512Z
UID:36263-1823072400-1823083200@www.fortlibrary.org
SUMMARY:Friends of the Library Book Sale
DESCRIPTION:The first hour (9 a.m. to 10 a.m.) is open to Friends of the Library members only. Memberships are always sold at the sale. The Friends have adult and children’s books\, DVDs and audio books.
URL:https://www.fortlibrary.org/event/friends-of-the-library-book-sale-2027-10-09/
LOCATION:Dwight Foster Public Library Rogers Room
ATTACH;FMTTYPE=image/jpeg:https://www.fortlibrary.org/wp-content/uploads/2021/12/Friends-book-sale-WEBSITE-300-x-300-px.jpg
END:VEVENT
BEGIN:VEVENT
DTSTART;TZID=America/Chicago:20271011T093000
DTEND;TZID=America/Chicago:20271011T103000
DTSTAMP:20260422T171022
CREATED:20220429T185907Z
LAST-MODIFIED:20220429T185907Z
UID:36265-1823247000-1823250600@www.fortlibrary.org
SUMMARY:Library Board Meeting
DESCRIPTION:The Library Board meets generally the second Monday of the month at 9:30 a.m. in the Library meeting rooms. View our current Strategic Plan here.
URL:https://www.fortlibrary.org/event/library-board-meeting-2027-10-11/
LOCATION:Dwight Foster Public Library – Rotary Room
ATTACH;FMTTYPE=image/jpeg:https://www.fortlibrary.org/wp-content/uploads/2022/04/Library-Board-Meeting-Website-square-300-x-300-px.jpg
END:VEVENT
BEGIN:VEVENT
DTSTART;TZID=America/Chicago:20271108T093000
DTEND;TZID=America/Chicago:20271108T103000
DTSTAMP:20260422T171022
CREATED:20220429T185907Z
LAST-MODIFIED:20220429T185907Z
UID:36276-1825666200-1825669800@www.fortlibrary.org
SUMMARY:Library Board Meeting
DESCRIPTION:The Library Board meets generally the second Monday of the month at 9:30 a.m. in the Library meeting rooms. View our current Strategic Plan here.
URL:https://www.fortlibrary.org/event/library-board-meeting-2027-11-08/
LOCATION:Dwight Foster Public Library – Rotary Room
ATTACH;FMTTYPE=image/jpeg:https://www.fortlibrary.org/wp-content/uploads/2022/04/Library-Board-Meeting-Website-square-300-x-300-px.jpg
END:VEVENT
BEGIN:VEVENT
DTSTART;TZID=America/Chicago:20271113T090000
DTEND;TZID=America/Chicago:20271113T120000
DTSTAMP:20260422T171022
CREATED:20211213T212512Z
LAST-MODIFIED:20211213T212512Z
UID:36294-1826096400-1826107200@www.fortlibrary.org
SUMMARY:Friends of the Library Book Sale
DESCRIPTION:The first hour (9 a.m. to 10 a.m.) is open to Friends of the Library members only. Memberships are always sold at the sale. The Friends have adult and children’s books\, DVDs and audio books.
URL:https://www.fortlibrary.org/event/friends-of-the-library-book-sale-2027-11-13/
LOCATION:Dwight Foster Public Library Rogers Room
ATTACH;FMTTYPE=image/jpeg:https://www.fortlibrary.org/wp-content/uploads/2021/12/Friends-book-sale-WEBSITE-300-x-300-px.jpg
END:VEVENT
BEGIN:VEVENT
DTSTART;TZID=America/Chicago:20271211T090000
DTEND;TZID=America/Chicago:20271211T120000
DTSTAMP:20260422T171022
CREATED:20211213T212512Z
LAST-MODIFIED:20211213T212512Z
UID:36307-1828515600-1828526400@www.fortlibrary.org
SUMMARY:Friends of the Library Book Sale
DESCRIPTION:The first hour (9 a.m. to 10 a.m.) is open to Friends of the Library members only. Memberships are always sold at the sale. The Friends have adult and children’s books\, DVDs and audio books.
URL:https://www.fortlibrary.org/event/friends-of-the-library-book-sale-2027-12-11/
LOCATION:Dwight Foster Public Library Rogers Room
ATTACH;FMTTYPE=image/jpeg:https://www.fortlibrary.org/wp-content/uploads/2021/12/Friends-book-sale-WEBSITE-300-x-300-px.jpg
END:VEVENT
BEGIN:VEVENT
DTSTART;TZID=America/Chicago:20271213T093000
DTEND;TZID=America/Chicago:20271213T103000
DTSTAMP:20260422T171022
CREATED:20220429T185907Z
LAST-MODIFIED:20220429T185907Z
UID:36308-1828690200-1828693800@www.fortlibrary.org
SUMMARY:Library Board Meeting
DESCRIPTION:The Library Board meets generally the second Monday of the month at 9:30 a.m. in the Library meeting rooms. View our current Strategic Plan here.
URL:https://www.fortlibrary.org/event/library-board-meeting-2027-12-13/
LOCATION:Dwight Foster Public Library – Rotary Room
ATTACH;FMTTYPE=image/jpeg:https://www.fortlibrary.org/wp-content/uploads/2022/04/Library-Board-Meeting-Website-square-300-x-300-px.jpg
END:VEVENT
END:VCALENDAR