BEGIN:VCALENDAR
VERSION:2.0
PRODID:-//Dwight Foster Public Library - ECPv6.15.20//NONSGML v1.0//EN
CALSCALE:GREGORIAN
METHOD:PUBLISH
X-ORIGINAL-URL:https://www.fortlibrary.org
X-WR-CALDESC:Events for Dwight Foster Public Library
REFRESH-INTERVAL;VALUE=DURATION:PT1H
X-Robots-Tag:noindex
X-PUBLISHED-TTL:PT1H
BEGIN:VTIMEZONE
TZID:America/Chicago
BEGIN:DAYLIGHT
TZOFFSETFROM:-0600
TZOFFSETTO:-0500
TZNAME:CDT
DTSTART:20230312T080000
END:DAYLIGHT
BEGIN:STANDARD
TZOFFSETFROM:-0500
TZOFFSETTO:-0600
TZNAME:CST
DTSTART:20231105T070000
END:STANDARD
BEGIN:DAYLIGHT
TZOFFSETFROM:-0600
TZOFFSETTO:-0500
TZNAME:CDT
DTSTART:20240310T080000
END:DAYLIGHT
BEGIN:STANDARD
TZOFFSETFROM:-0500
TZOFFSETTO:-0600
TZNAME:CST
DTSTART:20241103T070000
END:STANDARD
BEGIN:DAYLIGHT
TZOFFSETFROM:-0600
TZOFFSETTO:-0500
TZNAME:CDT
DTSTART:20250309T080000
END:DAYLIGHT
BEGIN:STANDARD
TZOFFSETFROM:-0500
TZOFFSETTO:-0600
TZNAME:CST
DTSTART:20251102T070000
END:STANDARD
END:VTIMEZONE
BEGIN:VEVENT
DTSTART;TZID=America/Chicago:20241108T173000
DTEND;TZID=America/Chicago:20241108T193000
DTSTAMP:20260425T053033
CREATED:20240806T153647Z
LAST-MODIFIED:20240806T153647Z
UID:35605-1731087000-1731094200@www.fortlibrary.org
SUMMARY:Pages and Pie Silent Reading Lock In
DESCRIPTION:Snuggle up with a book and enjoy a slice of pie during our fall silent reading lock-in. Doors lock at 6 p.m.
URL:https://www.fortlibrary.org/event/pages-and-pie-silent-reading-lock-in/
ATTACH;FMTTYPE=image/jpeg:https://www.fortlibrary.org/wp-content/uploads/2024/08/Square-Pages-and-Pie-Nov-2024-300-x-300-px.jpg
END:VEVENT
BEGIN:VEVENT
DTSTART;TZID=America/Chicago:20241024T183000
DTEND;TZID=America/Chicago:20241024T193000
DTSTAMP:20260425T053033
CREATED:20240806T153309Z
LAST-MODIFIED:20240806T153309Z
UID:35603-1729794600-1729798200@www.fortlibrary.org
SUMMARY:Great Lakes\, Great Read Book Discussion
DESCRIPTION:Join Adult Services Librarian Deb Bauer for this fall’s adult book club featuring the Great Lakes\, Great Read title “The Best Part of Us” by Sally Cole-Misch. This award-winning novel explores a family’s ties to an island in the Canadian waters of an inland lake just north of Lake Huron and how those ties are tested both through natural processes and family dynamics. Copies of the title can be requested at the Main Service Desk.
URL:https://www.fortlibrary.org/event/great-lakes-great-read-book-discussion-2/
ATTACH;FMTTYPE=image/png:https://www.fortlibrary.org/wp-content/uploads/2024/08/color-great-lakes-great-read-logo.png
END:VEVENT
BEGIN:VEVENT
DTSTART;TZID=America/Chicago:20241022T140000
DTEND;TZID=America/Chicago:20241022T150000
DTSTAMP:20260425T053033
CREATED:20240806T153210Z
LAST-MODIFIED:20240806T153210Z
UID:35601-1729605600-1729609200@www.fortlibrary.org
SUMMARY:Great Lakes\, Great Read Book Discussion
DESCRIPTION:Join Adult Services Librarian Deb Bauer for this fall’s adult book club featuring the Great Lakes\, Great Read title “The Best Part of Us” by Sally Cole-Misch. This award-winning novel explores a family’s ties to an island in the Canadian waters of an inland lake just north of Lake Huron and how those ties are tested both through natural processes and family dynamics. Copies of the title can be requested at the Main Service Desk.
URL:https://www.fortlibrary.org/event/great-lakes-great-read-book-discussion/
ATTACH;FMTTYPE=image/png:https://www.fortlibrary.org/wp-content/uploads/2024/08/color-great-lakes-great-read-logo.png
END:VEVENT
BEGIN:VEVENT
DTSTART;TZID=America/Chicago:20241010T180000
DTEND;TZID=America/Chicago:20241010T190000
DTSTAMP:20260425T053033
CREATED:20240806T152944Z
LAST-MODIFIED:20240806T152944Z
UID:35598-1728583200-1728586800@www.fortlibrary.org
SUMMARY:Badger Talks:  How Will the Great Lakes Respond to Our Changing Winters?
DESCRIPTION:Join Dr. Zach Feiner\, research scientist from UW-Madison\, as he discusses how winters are changing in Wisconsin due to climate change\, and how reduced or lost ice cover on our lakes impacts how they function and provide habitat to the plankton\, fish\, and other animals that live in our lakes.
URL:https://www.fortlibrary.org/event/badger-talks-how-will-the-great-lakes-respond-to-our-changing-winters/
ATTACH;FMTTYPE=image/jpeg:https://www.fortlibrary.org/wp-content/uploads/2024/08/Badger-Talk-Square-300-x-300-px.jpg
END:VEVENT
BEGIN:VEVENT
DTSTART;TZID=America/Chicago:20241009T100000
DTEND;TZID=America/Chicago:20241009T110000
DTSTAMP:20260425T053033
CREATED:20240806T151404Z
LAST-MODIFIED:20240806T151404Z
UID:35595-1728468000-1728471600@www.fortlibrary.org
SUMMARY:Cybersecurity:  How to Protect Yourself Online
DESCRIPTION:Join Tanya Mordecai\, Director of Intergenerational Technology Services at UW-Whitewater\, to learn about cybersecurity and how to stay safe online.  Learn how to protect yourself through the creation of strong passwords and the utilization of two factor authentication. Other topics to be discussed include wi-fi use\, identifying scams\, and finding trustworthy apps.
URL:https://www.fortlibrary.org/event/cybersecurity-how-to-protect-yourself-online/
ATTACH;FMTTYPE=image/jpeg:https://www.fortlibrary.org/wp-content/uploads/2024/08/Cyber-Security-Square-2024.jpg
END:VEVENT
BEGIN:VEVENT
DTSTART;TZID=America/Chicago:20241002T180000
DTEND;TZID=America/Chicago:20241002T190000
DTSTAMP:20260425T053033
CREATED:20240806T142512Z
LAST-MODIFIED:20240806T142512Z
UID:35589-1727892000-1727895600@www.fortlibrary.org
SUMMARY:Great Lakes\, Great Read with Sally Cole-Misch
DESCRIPTION:Finding The Best Part of Us through Nature and Our Precious Great Lakes: A Conversation with Sally Cole-Misch.
URL:https://www.fortlibrary.org/event/great-lakes-great-read-with-sally-cole-misch/
ATTACH;FMTTYPE=image/png:https://www.fortlibrary.org/wp-content/uploads/2024/08/color-great-lakes-great-read-logo.png
END:VEVENT
BEGIN:VEVENT
DTSTART;TZID=America/Chicago:20240927T173000
DTEND;TZID=America/Chicago:20240927T193000
DTSTAMP:20260425T053033
CREATED:20240806T151052Z
LAST-MODIFIED:20240806T151052Z
UID:35591-1727458200-1727465400@www.fortlibrary.org
SUMMARY:Banned Books Week Puzzle Palooza (Lock In)
DESCRIPTION:Celebrate your freedom to read with a puzzle building competition! Race to see which team can build a 500-piece banned books puzzle the fastest! Prizes to the top three teams will be awarded at the end. Register your team of four or fewer at the Second Floor Service Desk and may the best puzzlers win!
URL:https://www.fortlibrary.org/event/banned-books-week-puzzle-palooza-lock-in/
ATTACH;FMTTYPE=image/jpeg:https://www.fortlibrary.org/wp-content/uploads/2024/08/Team-Puzzle-competition-Square-300-x-300-px-1.jpg
END:VEVENT
BEGIN:VEVENT
DTSTART;TZID=America/Chicago:20240925T180000
DTEND;TZID=America/Chicago:20240925T193000
DTSTAMP:20260425T053033
CREATED:20240806T142202Z
LAST-MODIFIED:20240806T142202Z
UID:35584-1727287200-1727292600@www.fortlibrary.org
SUMMARY:Great Lakes\, Great Read Meet the Authors Webinar
DESCRIPTION:Meet the authors of the 2024 Great Lakes\, Great Read selections by joining us for this webinar\, A Conversation with Sally Cole-Misch and Joanne Robertson.
URL:https://www.fortlibrary.org/event/great-lakes-great-read-meet-the-authors-webinar/
ATTACH;FMTTYPE=image/png:https://www.fortlibrary.org/wp-content/uploads/2024/08/color-great-lakes-great-read-logo.png
END:VEVENT
BEGIN:VEVENT
DTSTART;TZID=America/Chicago:20240919T180000
DTEND;TZID=America/Chicago:20240919T190000
DTSTAMP:20260425T053033
CREATED:20240808T171737Z
LAST-MODIFIED:20240808T171825Z
UID:35612-1726768800-1726772400@www.fortlibrary.org
SUMMARY:Friends Annual Meeting
DESCRIPTION:
URL:https://www.fortlibrary.org/event/friends-annual-meeting/
LOCATION:Dwight Foster Public Library – FCCU Community Room
ATTACH;FMTTYPE=image/jpeg:https://www.fortlibrary.org/wp-content/uploads/2024/08/Friends-of-the-Library-Logo.jpg
END:VEVENT
BEGIN:VEVENT
DTSTART;VALUE=DATE:20240916
DTEND;VALUE=DATE:20240929
DTSTAMP:20260425T053033
CREATED:20240810T153952Z
LAST-MODIFIED:20240812T185214Z
UID:35620-1726444800-1727567999@www.fortlibrary.org
SUMMARY:Kindergarten Round Up!
DESCRIPTION:Kindergarten Buckaroos: If you get a library card during these two weeks (or use the library card you already have to check out five or more books)\, you will receive a cowboy hat and a bag.
URL:https://www.fortlibrary.org/event/kindergarten-round-up-4/
ATTACH;FMTTYPE=image/jpeg:https://www.fortlibrary.org/wp-content/uploads/2023/08/Kindergarten-Round-Up.jpg
END:VEVENT
BEGIN:VEVENT
DTSTART;TZID=America/Chicago:20240910T140000
DTEND;TZID=America/Chicago:20240910T150000
DTSTAMP:20260425T053033
CREATED:20240810T152807Z
LAST-MODIFIED:20240810T152807Z
UID:35616-1725976800-1725980400@www.fortlibrary.org
SUMMARY:Parenting Play Group
DESCRIPTION:The Parenting Play Group is a shared time for parents and their children\, ages zero to five\, to engage in social connections through open-ended playtime\, specific developmental activities\, and interactions with other families. This group is led by registered nurses with the Jefferson County Health Department who specialize in breastfeeding support\, car seat safety\, social connectedness\, and developmental stages.
URL:https://www.fortlibrary.org/event/parenting-play-group-2/
ATTACH;FMTTYPE=image/png:https://www.fortlibrary.org/wp-content/uploads/2024/04/Parenting-Play-Group.png
END:VEVENT
BEGIN:VEVENT
DTSTART;TZID=America/Chicago:20240909T103000
DTEND;TZID=America/Chicago:20240909T120000
DTSTAMP:20260425T053033
CREATED:20240627T164151Z
LAST-MODIFIED:20240627T164605Z
UID:35460-1725877800-1725883200@www.fortlibrary.org
SUMMARY:Memory Cafe:  Fall Hike at Dorothy Carnes County Park
DESCRIPTION:Gather with us as we hike the paved path at Dorothy Carnes County Park (N3220 Radloff Ln\, Fort Atkinson).  We will go to the lookout over Rose Lake\, bird watch\, craft with leaves\, and then enjoy some trail mix with conversation.  We will meet at the shelter that is at the entrance off of Radloff Ln.
URL:https://www.fortlibrary.org/event/memory-cafe-fall-hike-at-dorothy-carnes-county-park/
LOCATION:Dorothy Carnes County Park\, N3220 Radloff Ln\, Fort Atkinson\, 53538\, United States
ATTACH;FMTTYPE=image/jpeg:https://www.fortlibrary.org/wp-content/uploads/2024/06/Memory-Cafe-Website-Square-300-x-300-px-2.jpg
END:VEVENT
BEGIN:VEVENT
DTSTART;TZID=America/Chicago:20240905T100000
DTEND;TZID=America/Chicago:20240905T103000
DTSTAMP:20260425T053033
CREATED:20240810T171330Z
LAST-MODIFIED:20240810T171330Z
UID:35650-1725530400-1725532200@www.fortlibrary.org
SUMMARY:Baby Time
DESCRIPTION:Baby Time is a fun time for babies from birth to 18 months and their parents or caregivers. Each gathering consists of rhymes\, songs\, and a few simple books. Baby Time introduces babies to literacy and encourages talking and positive interactions between the baby and the adult. Baby Time occurs Thursday mornings at 10 a.m. in the Storytime Room.
URL:https://www.fortlibrary.org/event/baby-time-12/
ATTACH;FMTTYPE=image/png:https://www.fortlibrary.org/wp-content/uploads/2024/04/Baby-Time.png
END:VEVENT
BEGIN:VEVENT
DTSTART;TZID=America/Chicago:20240904T100000
DTEND;TZID=America/Chicago:20240904T103000
DTSTAMP:20260425T053033
CREATED:20240810T155721Z
LAST-MODIFIED:20240819T212713Z
UID:35636-1725444000-1725445800@www.fortlibrary.org
SUMMARY:Family Storytime
DESCRIPTION:Join us every Wednesday morning for Family Storytime for stories and songs in the Storytime Room.
URL:https://www.fortlibrary.org/event/family-storytime-10/
ATTACH;FMTTYPE=image/png:https://www.fortlibrary.org/wp-content/uploads/2024/08/Family-Storytime.png
END:VEVENT
BEGIN:VEVENT
DTSTART;TZID=America/Chicago:20240903T100000
DTEND;TZID=America/Chicago:20240903T103000
DTSTAMP:20260425T053033
CREATED:20240810T155533Z
LAST-MODIFIED:20240810T155533Z
UID:35622-1725357600-1725359400@www.fortlibrary.org
SUMMARY:Toddler Time
DESCRIPTION:Toddler Time aims to introduce toddlers ages 18 to 36 months to literacy and encourage positive brain and motor development. Each gathering consists of books\, music or movement activities\, and a craft or sensory experience. Toddler Time can expand toddlers’ vocabulary\, help them play with letters and sounds\, improve their ability to describe things or tell stories\, and encourage an understanding and enjoyment of books and reading.
URL:https://www.fortlibrary.org/event/toddler-time-11/
ATTACH;FMTTYPE=image/png:https://www.fortlibrary.org/wp-content/uploads/2024/04/Toddler-Time.png
END:VEVENT
BEGIN:VEVENT
DTSTART;VALUE=DATE:20240902
DTEND;VALUE=DATE:20240903
DTSTAMP:20260425T053033
CREATED:20240402T135353Z
LAST-MODIFIED:20240403T190337Z
UID:34888-1725235200-1725321599@www.fortlibrary.org
SUMMARY:Library Closed
DESCRIPTION:The library will be closed on Monday\, September 2\, 2024\, in observance of Labor Day. We will be open our regular hours on Tuesday\, September 3\, 2024.
URL:https://www.fortlibrary.org/event/library-closed-15/
ATTACH;FMTTYPE=image/png:https://www.fortlibrary.org/wp-content/uploads/2024/04/1.png
END:VEVENT
BEGIN:VEVENT
DTSTART;TZID=America/Chicago:20240824T090000
DTEND;TZID=America/Chicago:20240824T140000
DTSTAMP:20260425T053033
CREATED:20240510T142951Z
LAST-MODIFIED:20240627T215856Z
UID:35230-1724490000-1724508000@www.fortlibrary.org
SUMMARY:Community Voices (Inspired by Story Corps®)
DESCRIPTION:We invite you to share and record a conversation with a family member or friend for generations to come with our new Gathering and Sharing Stories initiative. Sign up today to record your story by contacting Amy Christian at achristian@fortlibrary.org or (920) 563-7790.
URL:https://www.fortlibrary.org/event/inspired-by-story-corps/
ATTACH;FMTTYPE=image/png:https://www.fortlibrary.org/wp-content/uploads/2024/05/Community-Voices-logo-Website-Square-300-x-300-px.png
END:VEVENT
BEGIN:VEVENT
DTSTART;TZID=America/Chicago:20240823T160000
DTEND;TZID=America/Chicago:20240823T170000
DTSTAMP:20260425T053033
CREATED:20240723T195404Z
LAST-MODIFIED:20240723T195404Z
UID:35534-1724428800-1724432400@www.fortlibrary.org
SUMMARY:Library Board Finance Committee Meeting
DESCRIPTION:
URL:https://www.fortlibrary.org/event/library-board-finance-committee-meeting/
LOCATION:Dwight Foster Public Library – Rotary Room
ATTACH;FMTTYPE=image/jpeg:https://www.fortlibrary.org/wp-content/uploads/2022/04/Library-Board-Meeting-Website-square-300-x-300-px.jpg
END:VEVENT
BEGIN:VEVENT
DTSTART;TZID=America/Chicago:20240823T090000
DTEND;TZID=America/Chicago:20240823T170000
DTSTAMP:20260425T053033
CREATED:20240522T184240Z
LAST-MODIFIED:20240627T220031Z
UID:35303-1724403600-1724432400@www.fortlibrary.org
SUMMARY:Community Voices (Inspired by Story Corps®)
DESCRIPTION:We invite you to share and record a conversation with a family member or friend for generations to come with our new Gathering and Sharing Stories initiative. Sign up today to record your story by contacting Amy Christian at achristian@fortlibrary.org or (920) 563-7790.
URL:https://www.fortlibrary.org/event/inspired-by-story-corps-2/
ATTACH;FMTTYPE=image/png:https://www.fortlibrary.org/wp-content/uploads/2024/05/Community-Voices-logo-Website-Square-300-x-300-px.png
END:VEVENT
BEGIN:VEVENT
DTSTART;TZID=America/Chicago:20240816T080000
DTEND;TZID=America/Chicago:20240816T130000
DTSTAMP:20260425T053033
CREATED:20240723T141906Z
LAST-MODIFIED:20240723T142156Z
UID:35529-1723795200-1723813200@www.fortlibrary.org
SUMMARY:Library Closed until 1 p.m./All Staff In-Service
DESCRIPTION:
URL:https://www.fortlibrary.org/event/library-closed-until-1-p-m-all-staff-in-service/
ATTACH;FMTTYPE=image/jpeg:https://www.fortlibrary.org/wp-content/uploads/2024/07/Library-Closed-Closing-Early-for-Website.jpg
END:VEVENT
BEGIN:VEVENT
DTSTART;TZID=America/Chicago:20240815T180000
DTEND;TZID=America/Chicago:20240815T200000
DTSTAMP:20260425T053033
CREATED:20240726T003649Z
LAST-MODIFIED:20240726T003649Z
UID:35541-1723744800-1723752000@www.fortlibrary.org
SUMMARY:Friends of the Library Book Giveaway for Teachers
DESCRIPTION:
URL:https://www.fortlibrary.org/event/friends-of-the-library-book-giveaway-for-teachers/
LOCATION:Dwight Foster Public Library Rogers Room
ATTACH;FMTTYPE=image/jpeg:https://www.fortlibrary.org/wp-content/uploads/2024/04/Books-300-x-300-px.jpg
END:VEVENT
BEGIN:VEVENT
DTSTART;TZID=America/Chicago:20240725T183000
DTEND;TZID=America/Chicago:20240725T193000
DTSTAMP:20260425T053033
CREATED:20240510T144624Z
LAST-MODIFIED:20240510T144624Z
UID:35235-1721932200-1721935800@www.fortlibrary.org
SUMMARY:Adult Book Club
DESCRIPTION:Join Adult Services Librarian Deb Bauer to discuss Kristin Hannah’s The Women\, “a moving\, gripping tale that pays tribute to the under appreciated skill and courage of combat nurses.“—Booklist starred review. Copies of the title may be requested at the main floor service desk.
URL:https://www.fortlibrary.org/event/adult-book-club-6/
ATTACH;FMTTYPE=image/png:https://www.fortlibrary.org/wp-content/uploads/2024/05/Adult-Book-Club-Website-square-300-x-300-px.png
END:VEVENT
BEGIN:VEVENT
DTSTART;TZID=America/Chicago:20240723T160000
DTEND;TZID=America/Chicago:20240723T170000
DTSTAMP:20260425T053033
CREATED:20240427T173648Z
LAST-MODIFIED:20240427T173648Z
UID:35080-1721750400-1721754000@www.fortlibrary.org
SUMMARY:Donut Decorating with Papa Brunk (for Grades 6-12)
DESCRIPTION:Decorate donuts with Papa Brunk from Papa Brunk’s Bakery! Registration is required and space is limited. Please call the library at (920) 563-7790 to register or stop at the library’s front desk!
URL:https://www.fortlibrary.org/event/donut-decorating-with-papa-brunk-for-grades-6-12/
ATTACH;FMTTYPE=image/png:https://www.fortlibrary.org/wp-content/uploads/2024/04/Monoprinting-for-Teens-2.png
END:VEVENT
BEGIN:VEVENT
DTSTART;TZID=America/Chicago:20240723T140000
DTEND;TZID=America/Chicago:20240723T150000
DTSTAMP:20260425T053033
CREATED:20240510T144518Z
LAST-MODIFIED:20240510T144518Z
UID:35233-1721743200-1721746800@www.fortlibrary.org
SUMMARY:Adult Book Club
DESCRIPTION:Join Adult Services Librarian Deb Bauer to discuss Kristin Hannah’s The Women\, “a moving\, gripping tale that pays tribute to the under appreciated skill and courage of combat nurses.“—Booklist starred review. Copies of the title may be requested at the main floor service desk.
URL:https://www.fortlibrary.org/event/adult-book-club-5/
ATTACH;FMTTYPE=image/png:https://www.fortlibrary.org/wp-content/uploads/2024/05/Adult-Book-Club-Website-square-300-x-300-px.png
END:VEVENT
BEGIN:VEVENT
DTSTART;TZID=America/Chicago:20240718T133000
DTEND;TZID=America/Chicago:20240718T143000
DTSTAMP:20260425T053033
CREATED:20240427T172354Z
LAST-MODIFIED:20240427T172354Z
UID:35074-1721309400-1721313000@www.fortlibrary.org
SUMMARY:Mad Science: Up\, Up\, and Away (for Kids)
DESCRIPTION:During this event\, experiments demonstrating the principles of air and pressure will captivate the audience. A dry-cleaning bag that becomes a hot air balloon\, creating air vortexes with our vortex generator\, and an exothermic reaction will leave the audience “blown” away!
URL:https://www.fortlibrary.org/event/mad-science-up-up-and-away-for-kids/
ATTACH;FMTTYPE=image/png:https://www.fortlibrary.org/wp-content/uploads/2024/04/Mad-Science.png
END:VEVENT
BEGIN:VEVENT
DTSTART;TZID=America/Chicago:20240711T133000
DTEND;TZID=America/Chicago:20240711T143000
DTSTAMP:20260425T053033
CREATED:20240427T171933Z
LAST-MODIFIED:20240427T171933Z
UID:35072-1720704600-1720708200@www.fortlibrary.org
SUMMARY:Duke Otherwise\, Musician (for Kids)
DESCRIPTION:With his guitar\, tap shoes\, and unique baritone\, Duke Otherwise performs a highly-interactive show featuring his witty original songs and his outstanding musicianship.
URL:https://www.fortlibrary.org/event/duke-otherwise-musician-for-kids/
ATTACH;FMTTYPE=image/png:https://www.fortlibrary.org/wp-content/uploads/2024/04/Duke-Otherwise.png
END:VEVENT
BEGIN:VEVENT
DTSTART;TZID=America/Chicago:20240710T100000
DTEND;TZID=America/Chicago:20240710T110000
DTSTAMP:20260425T053033
CREATED:20240510T141554Z
LAST-MODIFIED:20240510T141554Z
UID:35225-1720605600-1720609200@www.fortlibrary.org
SUMMARY:Outdoor Silent Reading at Barrie Park (for Adults)
DESCRIPTION:Grab a blanket or bring a lawn chair and join a librarian at Barrie Park for some quiet outdoor reading time. Bring your favorite book to read (or listen to one on Libby) and enjoy nature.  Check our Facebook page or call the library for possible weather-related cancellations.
URL:https://www.fortlibrary.org/event/outdoor-silent-reading-at-barrie-park-for-adults/
ATTACH;FMTTYPE=image/png:https://www.fortlibrary.org/wp-content/uploads/2024/05/Outdoor-Silent-Reading-at-Barrie-Park-Square-300-x-300-px.png
END:VEVENT
BEGIN:VEVENT
DTSTART;TZID=America/Chicago:20240709T183000
DTEND;TZID=America/Chicago:20240709T193000
DTSTAMP:20260425T053033
CREATED:20240427T171034Z
LAST-MODIFIED:20240427T171034Z
UID:35070-1720549800-1720553400@www.fortlibrary.org
SUMMARY:Bingo for Books (for Kids)
DESCRIPTION:Families are invited to play bingo at the library (with children’s books as prizes).
URL:https://www.fortlibrary.org/event/bingo-for-books-for-kids/
ATTACH;FMTTYPE=image/png:https://www.fortlibrary.org/wp-content/uploads/2024/04/bingo-for-books.png
END:VEVENT
BEGIN:VEVENT
DTSTART;TZID=America/Chicago:20240708T093000
DTEND;TZID=America/Chicago:20240708T103000
DTSTAMP:20260425T053033
CREATED:20220429T185907Z
LAST-MODIFIED:20240701T160933Z
UID:26737-1720431000-1720434600@www.fortlibrary.org
SUMMARY:Library Board Special Meeting
DESCRIPTION:The Library Board meets generally the second Monday of the month at 9:30 a.m. in the Library meeting rooms. View our current Strategic Plan here.
URL:https://www.fortlibrary.org/event/library-board-meeting-2024-07-08/
LOCATION:Dwight Foster Public Library – Rotary Room
ATTACH;FMTTYPE=image/jpeg:https://www.fortlibrary.org/wp-content/uploads/2022/04/Library-Board-Meeting-Website-square-300-x-300-px.jpg
END:VEVENT
BEGIN:VEVENT
DTSTART;VALUE=DATE:20240704
DTEND;VALUE=DATE:20240705
DTSTAMP:20260425T053033
CREATED:20240402T135158Z
LAST-MODIFIED:20240403T190322Z
UID:34886-1720051200-1720137599@www.fortlibrary.org
SUMMARY:Library Closed
DESCRIPTION:The library will be closed Thursday\, July 4\, 2024\, in observance of the Fourth of July. We will be open our regular hours on Friday\, July 5\, 2024.
URL:https://www.fortlibrary.org/event/library-closed-14/
ATTACH;FMTTYPE=image/png:https://www.fortlibrary.org/wp-content/uploads/2024/04/1.png
END:VEVENT
END:VCALENDAR