BEGIN:VCALENDAR
VERSION:2.0
PRODID:-//Dwight Foster Public Library - ECPv6.15.20//NONSGML v1.0//EN
CALSCALE:GREGORIAN
METHOD:PUBLISH
X-ORIGINAL-URL:https://www.fortlibrary.org
X-WR-CALDESC:Events for Dwight Foster Public Library
REFRESH-INTERVAL;VALUE=DURATION:PT1H
X-Robots-Tag:noindex
X-PUBLISHED-TTL:PT1H
BEGIN:VTIMEZONE
TZID:America/Chicago
BEGIN:DAYLIGHT
TZOFFSETFROM:-0600
TZOFFSETTO:-0500
TZNAME:CDT
DTSTART:20230312T080000
END:DAYLIGHT
BEGIN:STANDARD
TZOFFSETFROM:-0500
TZOFFSETTO:-0600
TZNAME:CST
DTSTART:20231105T070000
END:STANDARD
BEGIN:DAYLIGHT
TZOFFSETFROM:-0600
TZOFFSETTO:-0500
TZNAME:CDT
DTSTART:20240310T080000
END:DAYLIGHT
BEGIN:STANDARD
TZOFFSETFROM:-0500
TZOFFSETTO:-0600
TZNAME:CST
DTSTART:20241103T070000
END:STANDARD
BEGIN:DAYLIGHT
TZOFFSETFROM:-0600
TZOFFSETTO:-0500
TZNAME:CDT
DTSTART:20250309T080000
END:DAYLIGHT
BEGIN:STANDARD
TZOFFSETFROM:-0500
TZOFFSETTO:-0600
TZNAME:CST
DTSTART:20251102T070000
END:STANDARD
BEGIN:DAYLIGHT
TZOFFSETFROM:-0600
TZOFFSETTO:-0500
TZNAME:CDT
DTSTART:20260308T080000
END:DAYLIGHT
BEGIN:STANDARD
TZOFFSETFROM:-0500
TZOFFSETTO:-0600
TZNAME:CST
DTSTART:20261101T070000
END:STANDARD
END:VTIMEZONE
BEGIN:VEVENT
DTSTART;TZID=America/Chicago:20250811T093000
DTEND;TZID=America/Chicago:20250811T103000
DTSTAMP:20260422T190911
CREATED:20220429T185907Z
LAST-MODIFIED:20240416T203153Z
UID:32639-1754904600-1754908200@www.fortlibrary.org
SUMMARY:Library Board Meeting
DESCRIPTION:The Library Board meets generally the second Monday of the month at 9:30 a.m. in the Library meeting rooms. View our current Strategic Plan here.
URL:https://www.fortlibrary.org/event/library-board-meeting-2025-08-11/
LOCATION:Dwight Foster Public Library – Rotary Room
ATTACH;FMTTYPE=image/jpeg:https://www.fortlibrary.org/wp-content/uploads/2022/04/Library-Board-Meeting-Website-square-300-x-300-px.jpg
END:VEVENT
BEGIN:VEVENT
DTSTART;TZID=America/Chicago:20250809T090000
DTEND;TZID=America/Chicago:20250809T120000
DTSTAMP:20260422T190911
CREATED:20211213T212512Z
LAST-MODIFIED:20240220T221824Z
UID:34227-1754730000-1754740800@www.fortlibrary.org
SUMMARY:Friends of the Library Book Sale
DESCRIPTION:The first hour (9 a.m. to 10 a.m.) is open to Friends of the Library members only. Memberships are always sold at the sale. The Friends have adult and children’s books\, DVDs and audio books.
URL:https://www.fortlibrary.org/event/friends-of-the-library-book-sale-2025-08-09/
LOCATION:Dwight Foster Public Library Rogers Room
ATTACH;FMTTYPE=image/jpeg:https://www.fortlibrary.org/wp-content/uploads/2021/12/Friends-book-sale-WEBSITE-300-x-300-px.jpg
END:VEVENT
BEGIN:VEVENT
DTSTART;TZID=America/Chicago:20250715T183000
DTEND;TZID=America/Chicago:20250715T193000
DTSTAMP:20260422T190911
CREATED:20230725T135840Z
LAST-MODIFIED:20240305T191155Z
UID:34672-1752604200-1752607800@www.fortlibrary.org
SUMMARY:Cooking Club
DESCRIPTION:The DFPL Cooking Club meets on the third Tuesday of each month from 6:30 – 7:30 p.m. in the Community Room. The selected cookbook will be on display at the 2nd Floor Service Desk so simply stop by the library to choose a recipe and then bring the dish you make to the Cooking Club. We will eat together in the Community Room while we talk about the recipes we made and then choose the next month’s cookbook.
URL:https://www.fortlibrary.org/event/dfpl-cooking-club-2-2025-07-15/
LOCATION:Dwight Foster Public Library – FCCU Community Room
ATTACH;FMTTYPE=image/jpeg:https://www.fortlibrary.org/wp-content/uploads/2023/07/cooking-club-Website-Square-300-x-300-px.jpg
END:VEVENT
BEGIN:VEVENT
DTSTART;TZID=America/Chicago:20250714T093000
DTEND;TZID=America/Chicago:20250714T103000
DTSTAMP:20260422T190911
CREATED:20220429T185907Z
LAST-MODIFIED:20240416T203153Z
UID:32408-1752485400-1752489000@www.fortlibrary.org
SUMMARY:Library Board Meeting
DESCRIPTION:The Library Board meets generally the second Monday of the month at 9:30 a.m. in the Library meeting rooms. View our current Strategic Plan here.
URL:https://www.fortlibrary.org/event/library-board-meeting-2025-07-14/
LOCATION:Dwight Foster Public Library – Rotary Room
ATTACH;FMTTYPE=image/jpeg:https://www.fortlibrary.org/wp-content/uploads/2022/04/Library-Board-Meeting-Website-square-300-x-300-px.jpg
END:VEVENT
BEGIN:VEVENT
DTSTART;TZID=America/Chicago:20250712T090000
DTEND;TZID=America/Chicago:20250712T120000
DTSTAMP:20260422T190911
CREATED:20211213T212512Z
LAST-MODIFIED:20240220T221823Z
UID:34226-1752310800-1752321600@www.fortlibrary.org
SUMMARY:Friends of the Library Book Sale
DESCRIPTION:The first hour (9 a.m. to 10 a.m.) is open to Friends of the Library members only. Memberships are always sold at the sale. The Friends have adult and children’s books\, DVDs and audio books.
URL:https://www.fortlibrary.org/event/friends-of-the-library-book-sale-2025-07-12/
LOCATION:Dwight Foster Public Library Rogers Room
ATTACH;FMTTYPE=image/jpeg:https://www.fortlibrary.org/wp-content/uploads/2021/12/Friends-book-sale-WEBSITE-300-x-300-px.jpg
END:VEVENT
BEGIN:VEVENT
DTSTART;TZID=America/Chicago:20250617T183000
DTEND;TZID=America/Chicago:20250617T193000
DTSTAMP:20260422T190911
CREATED:20230725T135840Z
LAST-MODIFIED:20240305T191155Z
UID:34671-1750185000-1750188600@www.fortlibrary.org
SUMMARY:Cooking Club
DESCRIPTION:The DFPL Cooking Club meets on the third Tuesday of each month from 6:30 – 7:30 p.m. in the Community Room. The selected cookbook will be on display at the 2nd Floor Service Desk so simply stop by the library to choose a recipe and then bring the dish you make to the Cooking Club. We will eat together in the Community Room while we talk about the recipes we made and then choose the next month’s cookbook.
URL:https://www.fortlibrary.org/event/dfpl-cooking-club-2-2025-06-17/
LOCATION:Dwight Foster Public Library – FCCU Community Room
ATTACH;FMTTYPE=image/jpeg:https://www.fortlibrary.org/wp-content/uploads/2023/07/cooking-club-Website-Square-300-x-300-px.jpg
END:VEVENT
BEGIN:VEVENT
DTSTART;TZID=America/Chicago:20250614T090000
DTEND;TZID=America/Chicago:20250614T120000
DTSTAMP:20260422T190911
CREATED:20211213T212512Z
LAST-MODIFIED:20240220T221823Z
UID:34225-1749891600-1749902400@www.fortlibrary.org
SUMMARY:Friends of the Library Book Sale
DESCRIPTION:The first hour (9 a.m. to 10 a.m.) is open to Friends of the Library members only. Memberships are always sold at the sale. The Friends have adult and children’s books\, DVDs and audio books.
URL:https://www.fortlibrary.org/event/friends-of-the-library-book-sale-2025-06-14/
LOCATION:Dwight Foster Public Library Rogers Room
ATTACH;FMTTYPE=image/jpeg:https://www.fortlibrary.org/wp-content/uploads/2021/12/Friends-book-sale-WEBSITE-300-x-300-px.jpg
END:VEVENT
BEGIN:VEVENT
DTSTART;TZID=America/Chicago:20250609T093000
DTEND;TZID=America/Chicago:20250609T103000
DTSTAMP:20260422T190911
CREATED:20220429T185907Z
LAST-MODIFIED:20240416T203153Z
UID:32021-1749461400-1749465000@www.fortlibrary.org
SUMMARY:Library Board Meeting
DESCRIPTION:The Library Board meets generally the second Monday of the month at 9:30 a.m. in the Library meeting rooms. View our current Strategic Plan here.
URL:https://www.fortlibrary.org/event/library-board-meeting-2025-06-09/
LOCATION:Dwight Foster Public Library – Rotary Room
ATTACH;FMTTYPE=image/jpeg:https://www.fortlibrary.org/wp-content/uploads/2022/04/Library-Board-Meeting-Website-square-300-x-300-px.jpg
END:VEVENT
BEGIN:VEVENT
DTSTART;TZID=America/Chicago:20250520T183000
DTEND;TZID=America/Chicago:20250520T193000
DTSTAMP:20260422T190911
CREATED:20230725T135840Z
LAST-MODIFIED:20240305T191155Z
UID:34670-1747765800-1747769400@www.fortlibrary.org
SUMMARY:Cooking Club
DESCRIPTION:The DFPL Cooking Club meets on the third Tuesday of each month from 6:30 – 7:30 p.m. in the Community Room. The selected cookbook will be on display at the 2nd Floor Service Desk so simply stop by the library to choose a recipe and then bring the dish you make to the Cooking Club. We will eat together in the Community Room while we talk about the recipes we made and then choose the next month’s cookbook.
URL:https://www.fortlibrary.org/event/dfpl-cooking-club-2-2025-05-20/
LOCATION:Dwight Foster Public Library – FCCU Community Room
ATTACH;FMTTYPE=image/jpeg:https://www.fortlibrary.org/wp-content/uploads/2023/07/cooking-club-Website-Square-300-x-300-px.jpg
END:VEVENT
BEGIN:VEVENT
DTSTART;TZID=America/Chicago:20250512T093000
DTEND;TZID=America/Chicago:20250512T103000
DTSTAMP:20260422T190911
CREATED:20220429T185907Z
LAST-MODIFIED:20240416T203153Z
UID:31894-1747042200-1747045800@www.fortlibrary.org
SUMMARY:Library Board Meeting
DESCRIPTION:The Library Board meets generally the second Monday of the month at 9:30 a.m. in the Library meeting rooms. View our current Strategic Plan here.
URL:https://www.fortlibrary.org/event/library-board-meeting-2025-05-12/
LOCATION:Dwight Foster Public Library – Rotary Room
ATTACH;FMTTYPE=image/jpeg:https://www.fortlibrary.org/wp-content/uploads/2022/04/Library-Board-Meeting-Website-square-300-x-300-px.jpg
END:VEVENT
BEGIN:VEVENT
DTSTART;TZID=America/Chicago:20250510T090000
DTEND;TZID=America/Chicago:20250510T120000
DTSTAMP:20260422T190911
CREATED:20211213T212512Z
LAST-MODIFIED:20240220T221823Z
UID:34224-1746867600-1746878400@www.fortlibrary.org
SUMMARY:Friends of the Library Book Sale
DESCRIPTION:The first hour (9 a.m. to 10 a.m.) is open to Friends of the Library members only. Memberships are always sold at the sale. The Friends have adult and children’s books\, DVDs and audio books.
URL:https://www.fortlibrary.org/event/friends-of-the-library-book-sale-2025-05-10/
LOCATION:Dwight Foster Public Library Rogers Room
ATTACH;FMTTYPE=image/jpeg:https://www.fortlibrary.org/wp-content/uploads/2021/12/Friends-book-sale-WEBSITE-300-x-300-px.jpg
END:VEVENT
BEGIN:VEVENT
DTSTART;TZID=America/Chicago:20250415T183000
DTEND;TZID=America/Chicago:20250415T193000
DTSTAMP:20260422T190911
CREATED:20230725T135840Z
LAST-MODIFIED:20240305T191154Z
UID:34669-1744741800-1744745400@www.fortlibrary.org
SUMMARY:Cooking Club
DESCRIPTION:The DFPL Cooking Club meets on the third Tuesday of each month from 6:30 – 7:30 p.m. in the Community Room. The selected cookbook will be on display at the 2nd Floor Service Desk so simply stop by the library to choose a recipe and then bring the dish you make to the Cooking Club. We will eat together in the Community Room while we talk about the recipes we made and then choose the next month’s cookbook.
URL:https://www.fortlibrary.org/event/dfpl-cooking-club-2-2025-04-15/
LOCATION:Dwight Foster Public Library – FCCU Community Room
ATTACH;FMTTYPE=image/jpeg:https://www.fortlibrary.org/wp-content/uploads/2023/07/cooking-club-Website-Square-300-x-300-px.jpg
END:VEVENT
BEGIN:VEVENT
DTSTART;TZID=America/Chicago:20250414T093000
DTEND;TZID=America/Chicago:20250414T103000
DTSTAMP:20260422T190911
CREATED:20220429T185907Z
LAST-MODIFIED:20240416T203153Z
UID:31644-1744623000-1744626600@www.fortlibrary.org
SUMMARY:Library Board Meeting
DESCRIPTION:The Library Board meets generally the second Monday of the month at 9:30 a.m. in the Library meeting rooms. View our current Strategic Plan here.
URL:https://www.fortlibrary.org/event/library-board-meeting-2025-04-14/
LOCATION:Dwight Foster Public Library – Rotary Room
ATTACH;FMTTYPE=image/jpeg:https://www.fortlibrary.org/wp-content/uploads/2022/04/Library-Board-Meeting-Website-square-300-x-300-px.jpg
END:VEVENT
BEGIN:VEVENT
DTSTART;TZID=America/Chicago:20250412T090000
DTEND;TZID=America/Chicago:20250412T120000
DTSTAMP:20260422T190911
CREATED:20211213T212512Z
LAST-MODIFIED:20240220T221823Z
UID:34223-1744448400-1744459200@www.fortlibrary.org
SUMMARY:Friends of the Library Book Sale
DESCRIPTION:The first hour (9 a.m. to 10 a.m.) is open to Friends of the Library members only. Memberships are always sold at the sale. The Friends have adult and children’s books\, DVDs and audio books.
URL:https://www.fortlibrary.org/event/friends-of-the-library-book-sale-2025-04-12/
LOCATION:Dwight Foster Public Library Rogers Room
ATTACH;FMTTYPE=image/jpeg:https://www.fortlibrary.org/wp-content/uploads/2021/12/Friends-book-sale-WEBSITE-300-x-300-px.jpg
END:VEVENT
BEGIN:VEVENT
DTSTART;TZID=America/Chicago:20250318T183000
DTEND;TZID=America/Chicago:20250318T193000
DTSTAMP:20260422T190911
CREATED:20230725T135840Z
LAST-MODIFIED:20240305T191154Z
UID:34668-1742322600-1742326200@www.fortlibrary.org
SUMMARY:Cooking Club
DESCRIPTION:The DFPL Cooking Club meets on the third Tuesday of each month from 6:30 – 7:30 p.m. in the Community Room. The selected cookbook will be on display at the 2nd Floor Service Desk so simply stop by the library to choose a recipe and then bring the dish you make to the Cooking Club. We will eat together in the Community Room while we talk about the recipes we made and then choose the next month’s cookbook.
URL:https://www.fortlibrary.org/event/dfpl-cooking-club-2-2025-03-18/
LOCATION:Dwight Foster Public Library – FCCU Community Room
ATTACH;FMTTYPE=image/jpeg:https://www.fortlibrary.org/wp-content/uploads/2023/07/cooking-club-Website-Square-300-x-300-px.jpg
END:VEVENT
BEGIN:VEVENT
DTSTART;TZID=America/Chicago:20250310T093000
DTEND;TZID=America/Chicago:20250310T103000
DTSTAMP:20260422T190911
CREATED:20220429T185907Z
LAST-MODIFIED:20240416T203152Z
UID:31454-1741599000-1741602600@www.fortlibrary.org
SUMMARY:Library Board Meeting
DESCRIPTION:The Library Board meets generally the second Monday of the month at 9:30 a.m. in the Library meeting rooms. View our current Strategic Plan here.
URL:https://www.fortlibrary.org/event/library-board-meeting-2025-03-10/
LOCATION:Dwight Foster Public Library – Rotary Room
ATTACH;FMTTYPE=image/jpeg:https://www.fortlibrary.org/wp-content/uploads/2022/04/Library-Board-Meeting-Website-square-300-x-300-px.jpg
END:VEVENT
BEGIN:VEVENT
DTSTART;TZID=America/Chicago:20250308T090000
DTEND;TZID=America/Chicago:20250308T120000
DTSTAMP:20260422T190911
CREATED:20211213T212512Z
LAST-MODIFIED:20240220T221823Z
UID:34222-1741424400-1741435200@www.fortlibrary.org
SUMMARY:Friends of the Library Book Sale
DESCRIPTION:The first hour (9 a.m. to 10 a.m.) is open to Friends of the Library members only. Memberships are always sold at the sale. The Friends have adult and children’s books\, DVDs and audio books.
URL:https://www.fortlibrary.org/event/friends-of-the-library-book-sale-2025-03-08/
LOCATION:Dwight Foster Public Library Rogers Room
ATTACH;FMTTYPE=image/jpeg:https://www.fortlibrary.org/wp-content/uploads/2021/12/Friends-book-sale-WEBSITE-300-x-300-px.jpg
END:VEVENT
BEGIN:VEVENT
DTSTART;TZID=America/Chicago:20250218T183000
DTEND;TZID=America/Chicago:20250218T193000
DTSTAMP:20260422T190911
CREATED:20230725T135840Z
LAST-MODIFIED:20240305T191154Z
UID:34667-1739903400-1739907000@www.fortlibrary.org
SUMMARY:Cooking Club
DESCRIPTION:The DFPL Cooking Club meets on the third Tuesday of each month from 6:30 – 7:30 p.m. in the Community Room. The selected cookbook will be on display at the 2nd Floor Service Desk so simply stop by the library to choose a recipe and then bring the dish you make to the Cooking Club. We will eat together in the Community Room while we talk about the recipes we made and then choose the next month’s cookbook.
URL:https://www.fortlibrary.org/event/dfpl-cooking-club-2-2025-02-18/
LOCATION:Dwight Foster Public Library – FCCU Community Room
ATTACH;FMTTYPE=image/jpeg:https://www.fortlibrary.org/wp-content/uploads/2023/07/cooking-club-Website-Square-300-x-300-px.jpg
END:VEVENT
BEGIN:VEVENT
DTSTART;TZID=America/Chicago:20250210T093000
DTEND;TZID=America/Chicago:20250210T103000
DTSTAMP:20260422T190911
CREATED:20220429T185907Z
LAST-MODIFIED:20240416T203152Z
UID:31149-1739179800-1739183400@www.fortlibrary.org
SUMMARY:Library Board Meeting
DESCRIPTION:The Library Board meets generally the second Monday of the month at 9:30 a.m. in the Library meeting rooms. View our current Strategic Plan here.
URL:https://www.fortlibrary.org/event/library-board-meeting-2025-02-10/
LOCATION:Dwight Foster Public Library – Rotary Room
ATTACH;FMTTYPE=image/jpeg:https://www.fortlibrary.org/wp-content/uploads/2022/04/Library-Board-Meeting-Website-square-300-x-300-px.jpg
END:VEVENT
BEGIN:VEVENT
DTSTART;TZID=America/Chicago:20250208T090000
DTEND;TZID=America/Chicago:20250208T120000
DTSTAMP:20260422T190911
CREATED:20211213T212512Z
LAST-MODIFIED:20240220T221823Z
UID:34221-1739005200-1739016000@www.fortlibrary.org
SUMMARY:Friends of the Library Book Sale
DESCRIPTION:The first hour (9 a.m. to 10 a.m.) is open to Friends of the Library members only. Memberships are always sold at the sale. The Friends have adult and children’s books\, DVDs and audio books.
URL:https://www.fortlibrary.org/event/friends-of-the-library-book-sale-2025-02-08/
LOCATION:Dwight Foster Public Library Rogers Room
ATTACH;FMTTYPE=image/jpeg:https://www.fortlibrary.org/wp-content/uploads/2021/12/Friends-book-sale-WEBSITE-300-x-300-px.jpg
END:VEVENT
BEGIN:VEVENT
DTSTART;TZID=America/Chicago:20250121T183000
DTEND;TZID=America/Chicago:20250121T193000
DTSTAMP:20260422T190911
CREATED:20230725T135840Z
LAST-MODIFIED:20240305T191154Z
UID:34666-1737484200-1737487800@www.fortlibrary.org
SUMMARY:Cooking Club
DESCRIPTION:The DFPL Cooking Club meets on the third Tuesday of each month from 6:30 – 7:30 p.m. in the Community Room. The selected cookbook will be on display at the 2nd Floor Service Desk so simply stop by the library to choose a recipe and then bring the dish you make to the Cooking Club. We will eat together in the Community Room while we talk about the recipes we made and then choose the next month’s cookbook.
URL:https://www.fortlibrary.org/event/dfpl-cooking-club-2-2025-01-21/
LOCATION:Dwight Foster Public Library – FCCU Community Room
ATTACH;FMTTYPE=image/jpeg:https://www.fortlibrary.org/wp-content/uploads/2023/07/cooking-club-Website-Square-300-x-300-px.jpg
END:VEVENT
BEGIN:VEVENT
DTSTART;TZID=America/Chicago:20250113T093000
DTEND;TZID=America/Chicago:20250113T103000
DTSTAMP:20260422T190911
CREATED:20220429T185907Z
LAST-MODIFIED:20240416T203151Z
UID:30917-1736760600-1736764200@www.fortlibrary.org
SUMMARY:Library Board Meeting
DESCRIPTION:The Library Board meets generally the second Monday of the month at 9:30 a.m. in the Library meeting rooms. View our current Strategic Plan here.
URL:https://www.fortlibrary.org/event/library-board-meeting-2025-01-13/
LOCATION:Dwight Foster Public Library – Rotary Room
ATTACH;FMTTYPE=image/jpeg:https://www.fortlibrary.org/wp-content/uploads/2022/04/Library-Board-Meeting-Website-square-300-x-300-px.jpg
END:VEVENT
BEGIN:VEVENT
DTSTART;VALUE=DATE:20241231
DTEND;VALUE=DATE:20250101
DTSTAMP:20260422T190911
CREATED:20240402T140121Z
LAST-MODIFIED:20240502T213904Z
UID:34894-1735603200-1735689599@www.fortlibrary.org
SUMMARY:Library Closed
DESCRIPTION:The library will be closed on Tuesday\, December 31\, 2024\, and Wednesday\, January 1\, 2025\, in observance of New Years. We will be open our regular hours on Thursday\, January 2\, 2025.
URL:https://www.fortlibrary.org/event/library-closed-18/
ATTACH;FMTTYPE=image/png:https://www.fortlibrary.org/wp-content/uploads/2024/04/1.png
END:VEVENT
BEGIN:VEVENT
DTSTART;VALUE=DATE:20241230
DTEND;VALUE=DATE:20241231
DTSTAMP:20260422T190911
CREATED:20240403T194902Z
LAST-MODIFIED:20240403T194902Z
UID:34919-1735516800-1735603199@www.fortlibrary.org
SUMMARY:Library Closing Early at 5 p.m.
DESCRIPTION:The library will be closing early at 5 p.m.
URL:https://www.fortlibrary.org/event/library-closing-early-at-5-p-m-5/
ATTACH;FMTTYPE=image/png:https://www.fortlibrary.org/wp-content/uploads/2024/04/2.png
END:VEVENT
BEGIN:VEVENT
DTSTART;VALUE=DATE:20241227
DTEND;VALUE=DATE:20241228
DTSTAMP:20260422T190911
CREATED:20240403T193038Z
LAST-MODIFIED:20240403T193038Z
UID:34917-1735257600-1735343999@www.fortlibrary.org
SUMMARY:Library Closing Early at 5 p.m.
DESCRIPTION:The library will be closing early at 5 p.m.
URL:https://www.fortlibrary.org/event/library-closing-early-at-5-p-m-4/
ATTACH;FMTTYPE=image/png:https://www.fortlibrary.org/wp-content/uploads/2024/04/2.png
END:VEVENT
BEGIN:VEVENT
DTSTART;VALUE=DATE:20241226
DTEND;VALUE=DATE:20241227
DTSTAMP:20260422T190911
CREATED:20240403T192906Z
LAST-MODIFIED:20240403T192906Z
UID:34914-1735171200-1735257599@www.fortlibrary.org
SUMMARY:Library Closing Early at 5 p.m.
DESCRIPTION:The library will be closing early at 5 p.m.
URL:https://www.fortlibrary.org/event/library-closing-early-at-5-p-m-3/
ATTACH;FMTTYPE=image/png:https://www.fortlibrary.org/wp-content/uploads/2024/04/2.png
END:VEVENT
BEGIN:VEVENT
DTSTART;VALUE=DATE:20241224
DTEND;VALUE=DATE:20241225
DTSTAMP:20260422T190911
CREATED:20240402T135907Z
LAST-MODIFIED:20240502T213812Z
UID:34892-1734998400-1735084799@www.fortlibrary.org
SUMMARY:Library Closed
DESCRIPTION:The library will be closed on Tuesday\, December 24\, 2024\, and Wednesday\, December 25\, 2024\, in observance of Christmas. We will be open 8 a.m. to 5 p.m. on Thursday\, December 26\, 2024.
URL:https://www.fortlibrary.org/event/library-closed-17/
ATTACH;FMTTYPE=image/png:https://www.fortlibrary.org/wp-content/uploads/2024/04/1.png
END:VEVENT
BEGIN:VEVENT
DTSTART;VALUE=DATE:20241223
DTEND;VALUE=DATE:20241224
DTSTAMP:20260422T190911
CREATED:20240403T192521Z
LAST-MODIFIED:20240403T192521Z
UID:34912-1734912000-1734998399@www.fortlibrary.org
SUMMARY:Library Closing Early at 5 p.m.
DESCRIPTION:The library will be closing early at 5 p.m.
URL:https://www.fortlibrary.org/event/library-closing-early-at-5-p-m-2/
ATTACH;FMTTYPE=image/png:https://www.fortlibrary.org/wp-content/uploads/2024/04/2.png
END:VEVENT
BEGIN:VEVENT
DTSTART;VALUE=DATE:20241128
DTEND;VALUE=DATE:20241129
DTSTAMP:20260422T190911
CREATED:20240402T135718Z
LAST-MODIFIED:20240502T213525Z
UID:34890-1732752000-1732838399@www.fortlibrary.org
SUMMARY:Library Closed
DESCRIPTION:The library will be closed on Thursday\, November 28\, 2024\, and Friday\, November 29\, 2024\, in observance of Thanksgiving. We will be open our regular hours on Saturday\, November 30\, 2024.
URL:https://www.fortlibrary.org/event/library-closed-16/
ATTACH;FMTTYPE=image/png:https://www.fortlibrary.org/wp-content/uploads/2024/04/1.png
END:VEVENT
BEGIN:VEVENT
DTSTART;VALUE=DATE:20241127
DTEND;VALUE=DATE:20241128
DTSTAMP:20260422T190911
CREATED:20240403T192407Z
LAST-MODIFIED:20240403T192407Z
UID:34910-1732665600-1732751999@www.fortlibrary.org
SUMMARY:Library Closing Early at 5 p.m.
DESCRIPTION:The library will be closing early at 5 p.m.
URL:https://www.fortlibrary.org/event/library-closing-early-at-5-p-m/
ATTACH;FMTTYPE=image/png:https://www.fortlibrary.org/wp-content/uploads/2024/04/2.png
END:VEVENT
END:VCALENDAR