BEGIN:VCALENDAR
VERSION:2.0
PRODID:-//Dwight Foster Public Library - ECPv6.15.20//NONSGML v1.0//EN
CALSCALE:GREGORIAN
METHOD:PUBLISH
X-WR-CALNAME:Dwight Foster Public Library
X-ORIGINAL-URL:https://www.fortlibrary.org
X-WR-CALDESC:Events for Dwight Foster Public Library
REFRESH-INTERVAL;VALUE=DURATION:PT1H
X-Robots-Tag:noindex
X-PUBLISHED-TTL:PT1H
BEGIN:VTIMEZONE
TZID:America/Chicago
BEGIN:DAYLIGHT
TZOFFSETFROM:-0600
TZOFFSETTO:-0500
TZNAME:CDT
DTSTART:20220313T080000
END:DAYLIGHT
BEGIN:STANDARD
TZOFFSETFROM:-0500
TZOFFSETTO:-0600
TZNAME:CST
DTSTART:20221106T070000
END:STANDARD
BEGIN:DAYLIGHT
TZOFFSETFROM:-0600
TZOFFSETTO:-0500
TZNAME:CDT
DTSTART:20230312T080000
END:DAYLIGHT
BEGIN:STANDARD
TZOFFSETFROM:-0500
TZOFFSETTO:-0600
TZNAME:CST
DTSTART:20231105T070000
END:STANDARD
BEGIN:DAYLIGHT
TZOFFSETFROM:-0600
TZOFFSETTO:-0500
TZNAME:CDT
DTSTART:20240310T080000
END:DAYLIGHT
BEGIN:STANDARD
TZOFFSETFROM:-0500
TZOFFSETTO:-0600
TZNAME:CST
DTSTART:20241103T070000
END:STANDARD
BEGIN:DAYLIGHT
TZOFFSETFROM:-0600
TZOFFSETTO:-0500
TZNAME:CDT
DTSTART:20250309T080000
END:DAYLIGHT
BEGIN:STANDARD
TZOFFSETFROM:-0500
TZOFFSETTO:-0600
TZNAME:CST
DTSTART:20251102T070000
END:STANDARD
END:VTIMEZONE
BEGIN:VEVENT
DTSTART;TZID=America/Chicago:20240103T100000
DTEND;TZID=America/Chicago:20240103T103000
DTSTAMP:20260425T215122
CREATED:20231023T233317Z
LAST-MODIFIED:20231023T233317Z
UID:33087-1704276000-1704277800@www.fortlibrary.org
SUMMARY:Family Storytime
DESCRIPTION:Join us every Wednesday morning for Family Storytime for stories and songs in the Storytime Room
URL:https://www.fortlibrary.org/event/family-storytime-8/
ATTACH;FMTTYPE=image/png:https://www.fortlibrary.org/wp-content/uploads/2023/10/Family-Storytime.png
END:VEVENT
BEGIN:VEVENT
DTSTART;TZID=America/Chicago:20240102T100000
DTEND;TZID=America/Chicago:20240102T103000
DTSTAMP:20260425T215122
CREATED:20231024T002412Z
LAST-MODIFIED:20240220T214355Z
UID:33115-1704189600-1704191400@www.fortlibrary.org
SUMMARY:Toddler Time
DESCRIPTION:Toddler Time aims to introduce toddlers ages 18 to 36 months to literacy and encourage positive brain and motor development. Each gathering consists of books\, music or movement activities\, and a craft or sensory experience. Toddler Time can expand toddlers’ vocabulary\, help them play with letters and sounds\, improve their ability to describe things or tell stories\, and encourage an understanding and enjoyment of books and reading.
URL:https://www.fortlibrary.org/event/toddler-time-8/
ATTACH;FMTTYPE=image/jpeg:https://www.fortlibrary.org/wp-content/uploads/2023/10/Toddler-Time.jpg
END:VEVENT
BEGIN:VEVENT
DTSTART;VALUE=DATE:20240101
DTEND;VALUE=DATE:20240102
DTSTAMP:20260425T215122
CREATED:20231120T192613Z
LAST-MODIFIED:20231120T192613Z
UID:33285-1704067200-1704153599@www.fortlibrary.org
SUMMARY:Library Closed
DESCRIPTION:
URL:https://www.fortlibrary.org/event/library-closed-11/
END:VEVENT
BEGIN:VEVENT
DTSTART;VALUE=DATE:20231226
DTEND;VALUE=DATE:20231227
DTSTAMP:20260425T215122
CREATED:20231120T192545Z
LAST-MODIFIED:20231120T192545Z
UID:33280-1703548800-1703635199@www.fortlibrary.org
SUMMARY:Library closes at 5pm
DESCRIPTION:
URL:https://www.fortlibrary.org/event/library-closes-at-5pm/
END:VEVENT
BEGIN:VEVENT
DTSTART;VALUE=DATE:20231225
DTEND;VALUE=DATE:20231226
DTSTAMP:20260425T215122
CREATED:20231120T192131Z
LAST-MODIFIED:20231120T192131Z
UID:33278-1703462400-1703548799@www.fortlibrary.org
SUMMARY:Library Closed
DESCRIPTION:
URL:https://www.fortlibrary.org/event/library-closed-10/
END:VEVENT
BEGIN:VEVENT
DTSTART;TZID=America/Chicago:20231219T130000
DTEND;TZID=America/Chicago:20231219T140000
DTSTAMP:20260425T215122
CREATED:20231130T145234Z
LAST-MODIFIED:20231227T204247Z
UID:33704-1702990800-1702994400@www.fortlibrary.org
SUMMARY:DFPL Cooking Club
DESCRIPTION:The DFPL Cooking Club meets on the third Tuesday of each month from 1:00 – 2:00 p.m. in the Community Room. The selected cookbook will be on display at the 2nd Floor Service Desk so simply stop by the library to choose a recipe and then bring the dish you make to the Cooking Club. We will eat together in the Community Room while we talk about the recipes we made and then choose the next month’s cookbook.
URL:https://www.fortlibrary.org/event/dfpl-cooking-club-3/
ATTACH;FMTTYPE=image/jpeg:https://www.fortlibrary.org/wp-content/uploads/2023/11/January-2024-cooking-club-Display.jpg
END:VEVENT
BEGIN:VEVENT
DTSTART;TZID=America/Chicago:20231205T173000
DTEND;TZID=America/Chicago:20231205T183000
DTSTAMP:20260425T215122
CREATED:20231114T001941Z
LAST-MODIFIED:20231114T002001Z
UID:33211-1701797400-1701801000@www.fortlibrary.org
SUMMARY:Normal Aging / Not Normal Aging
DESCRIPTION:Learn from the ARDC of Jefferson County the differences between normal aging and when a new trend is developing that is different from the aging process.
URL:https://www.fortlibrary.org/event/normal-aging-not-normal-aging/
LOCATION:Dwight Foster Public Library – FCCU Community Room
END:VEVENT
BEGIN:VEVENT
DTSTART;TZID=America/Chicago:20231128T130000
DTEND;TZID=America/Chicago:20231128T143000
DTSTAMP:20260425T215122
CREATED:20230523T205229Z
LAST-MODIFIED:20240220T214759Z
UID:31953-1701176400-1701181800@www.fortlibrary.org
SUMMARY:Tech Tuesday - Technology Instruction
DESCRIPTION:Want to learn about downloading apps on your devices\, digital books\, QR Codes\, streaming movies\, and music? Then bring your devices\, login information\, and passwords because these monthly workshops are designed to help you learn to use these incredible tools! \nJoin us in the Wisconsin Room.
URL:https://www.fortlibrary.org/event/tech-tuesday-technology-instruction/
ATTACH;FMTTYPE=image/jpeg:https://www.fortlibrary.org/wp-content/uploads/2023/05/Tech-Tueday-Website-Square-300-x-300-px.jpg
END:VEVENT
BEGIN:VEVENT
DTSTART;TZID=America/Chicago:20231123T080000
DTEND;TZID=America/Chicago:20231123T200000
DTSTAMP:20260425T215122
CREATED:20231031T184628Z
LAST-MODIFIED:20231120T190851Z
UID:33148-1700726400-1700769600@www.fortlibrary.org
SUMMARY:LIBRARY CLOSED ALL DAY
DESCRIPTION:
URL:https://www.fortlibrary.org/event/library-closed-all-day/
ATTACH;FMTTYPE=image/jpeg:https://www.fortlibrary.org/wp-content/uploads/2023/11/Thanksgiving-2023-Facebook-Post-1920-x-1080-px-1.jpg
END:VEVENT
BEGIN:VEVENT
DTSTART;TZID=America/Chicago:20231122T170000
DTEND;TZID=America/Chicago:20231122T200000
DTSTAMP:20260425T215122
CREATED:20231031T184715Z
LAST-MODIFIED:20231120T190621Z
UID:33150-1700672400-1700683200@www.fortlibrary.org
SUMMARY:LIBRARY CLOSES AT 5 P.M.
DESCRIPTION:
URL:https://www.fortlibrary.org/event/library-closes-at-5-p-m-3/
END:VEVENT
BEGIN:VEVENT
DTSTART;TZID=America/Chicago:20231031T180000
DTEND;TZID=America/Chicago:20231031T200000
DTSTAMP:20260425T215122
CREATED:20231030T144112Z
LAST-MODIFIED:20231030T144158Z
UID:33135-1698775200-1698782400@www.fortlibrary.org
SUMMARY:Trunk or Treat
DESCRIPTION:Trick or treat in the City of Fort Atkinson will be Sunday\, October 29 from 1-4 p.m. The Trunk or Treat at Jones Park will be on Tuesday\, October 31\, 2023\, from 6-8 p.m. Happy Halloween!
URL:https://www.fortlibrary.org/event/trunk-or-treat/
LOCATION:Jones Park\, 600 Janesville Ave\, Fort Atkinson\, WI\, 53538\, United States
ATTACH;FMTTYPE=image/png:https://www.fortlibrary.org/wp-content/uploads/2023/10/Purple-Vintage-Illustrative-Trick-Or-Treat-Halloween-Video.png
END:VEVENT
BEGIN:VEVENT
DTSTART;TZID=America/Chicago:20231026T183000
DTEND;TZID=America/Chicago:20231026T193000
DTSTAMP:20260425T215122
CREATED:20231010T175733Z
LAST-MODIFIED:20231023T211427Z
UID:32987-1698345000-1698348600@www.fortlibrary.org
SUMMARY:Adult Book Club “Fort Unicorn & the Duchess of Knothing”
DESCRIPTION:Madison author Andrea Nelson will join Adult Services Librarian Deb Bauer on Thursday\, October 26 at 6:30 p.m. for this fall’s adult book club to discuss Nelson’s heartbreaking memoir “Fort Unicorn & the Duchess of Knothing: A Mother’s Fight to Save Her Daughter”.  Copies of the title are available at the main service desk and the e-audiobook (read by the author) is available on Hoopla. Please contact Deb if you have any questions.
URL:https://www.fortlibrary.org/event/adult-book-club-fort-unicorn-and-the-duchess-of-knowthing-2/
ATTACH;FMTTYPE=image/png:https://www.fortlibrary.org/wp-content/uploads/2023/10/October-Adult-Book-Club-website-banner-640-×-349-px.png
END:VEVENT
BEGIN:VEVENT
DTSTART;TZID=America/Chicago:20231024T183000
DTEND;TZID=America/Chicago:20231024T193000
DTSTAMP:20260425T215122
CREATED:20230726T142429Z
LAST-MODIFIED:20230726T143239Z
UID:32538-1698172200-1698175800@www.fortlibrary.org
SUMMARY:FAHS Orchestra
DESCRIPTION:Join us for an experience with the Fort Atkinson High School Orchestra! Following a small performance\, kids will be able to try out different instruments!
URL:https://www.fortlibrary.org/event/fahs-orchestra/
LOCATION:Fort Atkinson\, WI\, 53538\, United States
ATTACH;FMTTYPE=image/png:https://www.fortlibrary.org/wp-content/uploads/2023/07/FAHS-Orchestra-1.png
END:VEVENT
BEGIN:VEVENT
DTSTART;TZID=America/Chicago:20231024T140000
DTEND;TZID=America/Chicago:20231024T150000
DTSTAMP:20260425T215122
CREATED:20231010T175611Z
LAST-MODIFIED:20231023T211250Z
UID:32984-1698156000-1698159600@www.fortlibrary.org
SUMMARY:Adult Book Club "Fort Unicorn & the Duchess of Knothing"
DESCRIPTION:Madison author Andrea Nelson will join Adult Services Librarian Deb Bauer on Tuesday\, October 24 at 2 p.m. for this fall’s adult book club to discuss Nelson’s heartbreaking memoir “Fort Unicorn & the Duchess of Knothing: A Mother’s Fight to Save Her Daughter”.  Copies of the title are available at the main service desk and the e-audiobook (read by the author) is available on Hoopla. Please contact Deb if you have any questions.
URL:https://www.fortlibrary.org/event/adult-book-club-fort-unicorn-and-the-duchess-of-knowthing/
ATTACH;FMTTYPE=image/png:https://www.fortlibrary.org/wp-content/uploads/2023/10/October-Adult-Book-Club-website-banner-640-×-349-px.png
END:VEVENT
BEGIN:VEVENT
DTSTART;TZID=America/Chicago:20231018T173000
DTEND;TZID=America/Chicago:20231018T183000
DTSTAMP:20260425T215122
CREATED:20231018T193600Z
LAST-MODIFIED:20231018T193600Z
UID:33018-1697650200-1697653800@www.fortlibrary.org
SUMMARY:Adult Lego Night
DESCRIPTION:Why should kids have all the Lego fun?! Stop by the library’s FCCU Community Room to create your own Lego masterpiece! Legos will be provided so just bring your imagination!
URL:https://www.fortlibrary.org/event/adult-lego-night-2/
LOCATION:Dwight Foster Public Library – FCCU Community Room
ATTACH;FMTTYPE=image/jpeg:https://www.fortlibrary.org/wp-content/uploads/2023/06/Adult-Lego-Club-Website.jpg
END:VEVENT
BEGIN:VEVENT
DTSTART;TZID=America/Chicago:20231012T183000
DTEND;TZID=America/Chicago:20231012T193000
DTSTAMP:20260425T215122
CREATED:20230927T143734Z
LAST-MODIFIED:20231012T213140Z
UID:32808-1697135400-1697139000@www.fortlibrary.org
SUMMARY:CANCELLED TONIGHT: Self-Publishing Seminar
DESCRIPTION:Kristen Emily Behl will be presenting a seminar in the Community Room about self-publishing to answer the common questions about cost\, how it works\, and finding resources. There will be time for questions following the presentation and the author’s books will be available for purchase and signing.
URL:https://www.fortlibrary.org/event/self-publishing-seminar/
LOCATION:Dwight Foster Public Library – FCCU Community Room
ATTACH;FMTTYPE=image/jpeg:https://www.fortlibrary.org/wp-content/uploads/2023/09/Self-publishing-seminar-websitebanner-640-×-349-px.jpg
END:VEVENT
BEGIN:VEVENT
DTSTART;TZID=America/Chicago:20231009T103000
DTEND;TZID=America/Chicago:20231009T113000
DTSTAMP:20260425T215122
CREATED:20230926T145316Z
LAST-MODIFIED:20230926T145619Z
UID:32797-1696847400-1696851000@www.fortlibrary.org
SUMMARY:Memory Cafe: Song writers of the Great American Songbook\, 1930s
DESCRIPTION:A Memory Café is an informal social gathering for individuals with early-stage memory loss and their care partner. October’s theme is music of the 1930s. For more information\, see our website at librarymemoryproject.org.
URL:https://www.fortlibrary.org/event/memory-cafe-song-writers-of-the-great-american-songbook-1930s/
LOCATION:Dwight Foster Public Library – FCCU Community Room
ATTACH;FMTTYPE=image/jpeg:https://www.fortlibrary.org/wp-content/uploads/2023/09/October-2023-LMP-Display-640-×-349-.jpg
END:VEVENT
BEGIN:VEVENT
DTSTART;TZID=America/Chicago:20231004T090000
DTEND;TZID=America/Chicago:20231004T094500
DTSTAMP:20260425T215122
CREATED:20230203T230342Z
LAST-MODIFIED:20230918T133405Z
UID:32673-1696410000-1696412700@www.fortlibrary.org
SUMMARY:CANCELLED: Breastfeeding Support Group
DESCRIPTION:Unfortunately\, we need to cancel the Breastfeeding Support Group scheduled for October 4\, 2023.  Sorry for the inconvenience.  We’ll see you in November.
URL:https://www.fortlibrary.org/event/breastfeeding-support-group-2023-09-07-2023-10-04/
LOCATION:Dwight Foster Public Library – Storytime Room
ATTACH;FMTTYPE=image/jpeg:https://www.fortlibrary.org/wp-content/uploads/2023/02/Breastfeeding-support-group-640-×-349-px-1.jpg
END:VEVENT
BEGIN:VEVENT
DTSTART;TZID=America/Chicago:20230925T160000
DTEND;TZID=America/Chicago:20230925T170000
DTSTAMP:20260425T215122
CREATED:20230719T182233Z
LAST-MODIFIED:20230719T182233Z
UID:32512-1695657600-1695661200@www.fortlibrary.org
SUMMARY:Play Pokémon!
DESCRIPTION:Come play the Pokémon Trading Card Game with other Pokémon trainers! You can bring your own cards or borrow a deck from the library to learn how to play. Kids in grades 3-9 are encouraged to join us.
URL:https://www.fortlibrary.org/event/play-pokemon-5/
LOCATION:Fort Atkinson\, WI\, 53538\, United States
ATTACH;FMTTYPE=image/png:https://www.fortlibrary.org/wp-content/uploads/2023/07/Play-Pokemon.png
END:VEVENT
BEGIN:VEVENT
DTSTART;TZID=America/Chicago:20230918T153000
DTEND;TZID=America/Chicago:20230918T163000
DTSTAMP:20260425T215122
CREATED:20230719T181909Z
LAST-MODIFIED:20230719T181909Z
UID:32506-1695051000-1695054600@www.fortlibrary.org
SUMMARY:Lego Club
DESCRIPTION:Join other Lego enthusiasts and build a Lego creation according to a monthly theme.
URL:https://www.fortlibrary.org/event/lego-club-7/
LOCATION:Fort Atkinson\, WI\, 53538\, United States
ATTACH;FMTTYPE=image/png:https://www.fortlibrary.org/wp-content/uploads/2023/07/Lego-Club.png
END:VEVENT
BEGIN:VEVENT
DTSTART;TZID=America/Chicago:20230918T000000
DTEND;TZID=America/Chicago:20230930T000000
DTSTAMP:20260425T215122
CREATED:20230719T181441Z
LAST-MODIFIED:20230719T181441Z
UID:32502-1694995200-1696032000@www.fortlibrary.org
SUMMARY:Kindergarten Round-Up
DESCRIPTION:Kindergarten Buckaroos: If you get a library card during these two weeks (or use the library card you already have to check out five or more books)\, you will receive a cowboy hat and a bag of goodies.
URL:https://www.fortlibrary.org/event/kindergarten-round-up-3/
LOCATION:Fort Atkinson\, WI\, 53538\, United States
ATTACH;FMTTYPE=image/png:https://www.fortlibrary.org/wp-content/uploads/2023/07/Kindergarten-Round-Up.png
END:VEVENT
BEGIN:VEVENT
DTSTART;TZID=America/Chicago:20230913T160000
DTEND;TZID=America/Chicago:20230913T170000
DTSTAMP:20260425T215122
CREATED:20230719T182951Z
LAST-MODIFIED:20230719T182951Z
UID:32518-1694620800-1694624400@www.fortlibrary.org
SUMMARY:Art Club for Teens
DESCRIPTION:Bring your current project or we have an assortment of crafts and basic supplies to choose from!
URL:https://www.fortlibrary.org/event/art-club-for-teens/
LOCATION:Dwight Foster Public Library – Rotary Room
ATTACH;FMTTYPE=image/png:https://www.fortlibrary.org/wp-content/uploads/2023/07/Art-Club-for-Teens.png
END:VEVENT
BEGIN:VEVENT
DTSTART;TZID=America/Chicago:20230912T183000
DTEND;TZID=America/Chicago:20230912T190000
DTSTAMP:20260425T215122
CREATED:20230719T175927Z
LAST-MODIFIED:20230719T175927Z
UID:32494-1694543400-1694545200@www.fortlibrary.org
SUMMARY:Pajama Storytime
DESCRIPTION:Join us once a month for Pajama Storytime for stories and songs in the Storytime Room. Wear your pajamas for this fun storytime event!
URL:https://www.fortlibrary.org/event/pajama-storytime-7/
LOCATION:Fort Atkinson\, WI\, 53538\, United States
ATTACH;FMTTYPE=image/png:https://www.fortlibrary.org/wp-content/uploads/2023/07/Pajama-Storytime.png
END:VEVENT
BEGIN:VEVENT
DTSTART;TZID=America/Chicago:20230910T110000
DTEND;TZID=America/Chicago:20230910T150000
DTSTAMP:20260425T215122
CREATED:20230714T132207Z
LAST-MODIFIED:20230908T185809Z
UID:32404-1694343600-1694358000@www.fortlibrary.org
SUMMARY:Food Truck Festival
DESCRIPTION:Food and fun at the library! Enjoy a variety of delicious food and drinks! Cuisines include Enjoy a variety of delicious food and drinks at our second annual food truck festival!  \nHere is our list of vendors for the event:\nSteve’s Deli Dog House\nInmoxicated\nJakarta Cafe\nJakarta Taco\nKettle Korn by Matty\nYumyum Thai Kitchen\nJmakin Jamaican\nThe Iron Salamander\nRMN Donuts\nCafe Costa Rica\nMindoro Island Grill\nPo’Manz Food\nKona Ice\nSarah’s Sweet Treats\nSweet Spot Icecream\nPLUS! Music with Jason Petitt \n 
URL:https://www.fortlibrary.org/event/food-truck-festival-2/
LOCATION:Dwight Foster Public Library
ATTACH;FMTTYPE=application/pdf:https://www.fortlibrary.org/wp-content/uploads/2023/07/fort-library-map.pdf
END:VEVENT
BEGIN:VEVENT
DTSTART;TZID=America/Chicago:20230907T100000
DTEND;TZID=America/Chicago:20230907T103000
DTSTAMP:20260425T215122
CREATED:20230719T153245Z
LAST-MODIFIED:20230719T153245Z
UID:32438-1694080800-1694082600@www.fortlibrary.org
SUMMARY:Baby Time
DESCRIPTION:Baby Time is a fun time for babies from birth to 18 months and their parents or caregivers. Each gathering consists of rhymes\, songs\, and a few simple books. Baby Time introduces babies to literacy and encourages talking and positive interactions between the baby and the adult. Baby Time occurs Thursday mornings at 10 a.m. in the Storytime Room.\nNO Baby Time November 23rd!\nJust as a reminder there is NO Storytimes in August or December!
URL:https://www.fortlibrary.org/event/baby-time-8/
LOCATION:Dwight Foster Public Library – Storytime Room
ATTACH;FMTTYPE=image/png:https://www.fortlibrary.org/wp-content/uploads/2023/07/Baby-Time.png
END:VEVENT
BEGIN:VEVENT
DTSTART;TZID=America/Chicago:20230906T130000
DTEND;TZID=America/Chicago:20230906T133000
DTSTAMP:20260425T215122
CREATED:20230721T220410Z
LAST-MODIFIED:20230721T220620Z
UID:32540-1694005200-1694007000@www.fortlibrary.org
SUMMARY:Sensory Storytime
DESCRIPTION:NEW Storytime! An opportunity for children with special sensory needs to experience storytime. Neurodiverse children and their families are invited to join us for an interactive storytime filled with stories\, songs\, socialization and sensory play! Sensory Storytime will be in the FCCU Room at the library. If you’d like to discuss additional accommodations for your child\, please email chein@fortlibrary.org. \nRecommended for ages 2-5. No registration required.
URL:https://www.fortlibrary.org/event/sensory-storytime/
LOCATION:Fort Atkinson\, WI\, 53538\, United States
ATTACH;FMTTYPE=image/png:https://www.fortlibrary.org/wp-content/uploads/2023/07/Sensory-Storytime-1.png
END:VEVENT
BEGIN:VEVENT
DTSTART;TZID=America/Chicago:20230906T100000
DTEND;TZID=America/Chicago:20230906T103000
DTSTAMP:20260425T215122
CREATED:20230719T161645Z
LAST-MODIFIED:20230719T161645Z
UID:32471-1693994400-1693996200@www.fortlibrary.org
SUMMARY:Family Storytime
DESCRIPTION:Join us every Wednesday morning for Family Storytime for stories and songs in the Storytime Room. \nJust as a reminder NO Storytime in August or December!
URL:https://www.fortlibrary.org/event/family-storytime-7/
LOCATION:Dwight Foster Public Library – Storytime Room
ATTACH;FMTTYPE=image/png:https://www.fortlibrary.org/wp-content/uploads/2023/07/Family-Storytime.png
END:VEVENT
BEGIN:VEVENT
DTSTART;TZID=America/Chicago:20230906T090000
DTEND;TZID=America/Chicago:20230906T120000
DTSTAMP:20260425T215122
CREATED:20230821T190100Z
LAST-MODIFIED:20240220T215812Z
UID:32698-1693990800-1694001600@www.fortlibrary.org
SUMMARY:StoryCorps
DESCRIPTION:We invite you to share and record a conversation with a family member or friend for generations to come with our new Gathering and Sharing Stories initiative. \nBridges Library System and Dwight Foster Public Library has partnered with StoryCorps®\, a national oral history non-profit\, to record and preserve community stories and we’d love for you to be part of it! \nAll stories are recorded with a trained facilitator from Dwight Foster Public Library. Recordings can then be added to the StoryCorps® Archive and Library of Congress (optional) or kept private based on the participants’ wishes. Participants are given access to their copies of their conversations as well. \nInterested? Contact Amy Christian at achristian@fortlibrary.org or 920-563-7790. You can also find more information here.
URL:https://www.fortlibrary.org/event/storycorps-3/
LOCATION:Dwight Foster Public Library – FCCU Community Room
ATTACH;FMTTYPE=image/jpeg:https://www.fortlibrary.org/wp-content/uploads/2023/08/Story-Corps-Website-Square-300-x-300-px.jpg
END:VEVENT
BEGIN:VEVENT
DTSTART;TZID=America/Chicago:20230905T100000
DTEND;TZID=America/Chicago:20230905T103000
DTSTAMP:20260425T215122
CREATED:20230719T155340Z
LAST-MODIFIED:20230719T155615Z
UID:32455-1693908000-1693909800@www.fortlibrary.org
SUMMARY:Toddler Time
DESCRIPTION:Toddler Time aims to introduce toddlers ages 18 to 36 months to literacy and encourage positive brain and motor development. Each gathering consists of books\, music or movement activities\, and a craft or sensory experience. Toddler Time can expand toddlers’ vocabulary\, help them play with letters and sounds\, improve their ability to describe things or tell stories\, and encourage an understanding and enjoyment of books and reading. \nJust as a reminder\, NO Storytimes in August or December.
URL:https://www.fortlibrary.org/event/toddler-time-7/
LOCATION:Fort Atkinson\, WI\, 53538\, United States
ATTACH;FMTTYPE=image/png:https://www.fortlibrary.org/wp-content/uploads/2023/04/SRP-2023-Storytime-Display-Images-1080-×-1080-px-640-×-349-px.png
END:VEVENT
BEGIN:VEVENT
DTSTART;VALUE=DATE:20230904
DTEND;VALUE=DATE:20230905
DTSTAMP:20260425T215122
CREATED:20230725T132951Z
LAST-MODIFIED:20230725T132951Z
UID:32554-1693785600-1693871999@www.fortlibrary.org
SUMMARY:Labor Day - Library Closed
DESCRIPTION:The library will be closed on Sept. 4 2023 is observance of Labor Day.
URL:https://www.fortlibrary.org/event/labor-day-library-closed/
LOCATION:Fort Atkinson\, WI\, 53538\, United States
END:VEVENT
END:VCALENDAR