BEGIN:VCALENDAR
VERSION:2.0
PRODID:-//Dwight Foster Public Library - ECPv6.15.20//NONSGML v1.0//EN
CALSCALE:GREGORIAN
METHOD:PUBLISH
X-WR-CALNAME:Dwight Foster Public Library
X-ORIGINAL-URL:https://www.fortlibrary.org
X-WR-CALDESC:Events for Dwight Foster Public Library
REFRESH-INTERVAL;VALUE=DURATION:PT1H
X-Robots-Tag:noindex
X-PUBLISHED-TTL:PT1H
BEGIN:VTIMEZONE
TZID:America/Chicago
BEGIN:DAYLIGHT
TZOFFSETFROM:-0600
TZOFFSETTO:-0500
TZNAME:CDT
DTSTART:20230312T080000
END:DAYLIGHT
BEGIN:STANDARD
TZOFFSETFROM:-0500
TZOFFSETTO:-0600
TZNAME:CST
DTSTART:20231105T070000
END:STANDARD
BEGIN:DAYLIGHT
TZOFFSETFROM:-0600
TZOFFSETTO:-0500
TZNAME:CDT
DTSTART:20240310T080000
END:DAYLIGHT
BEGIN:STANDARD
TZOFFSETFROM:-0500
TZOFFSETTO:-0600
TZNAME:CST
DTSTART:20241103T070000
END:STANDARD
BEGIN:DAYLIGHT
TZOFFSETFROM:-0600
TZOFFSETTO:-0500
TZNAME:CDT
DTSTART:20250309T080000
END:DAYLIGHT
BEGIN:STANDARD
TZOFFSETFROM:-0500
TZOFFSETTO:-0600
TZNAME:CST
DTSTART:20251102T070000
END:STANDARD
END:VTIMEZONE
BEGIN:VEVENT
DTSTART;TZID=America/Chicago:20240318T153000
DTEND;TZID=America/Chicago:20240318T163000
DTSTAMP:20260425T185037
CREATED:20240220T174315Z
LAST-MODIFIED:20240220T223354Z
UID:34433-1710775800-1710779400@www.fortlibrary.org
SUMMARY:Lego Club
DESCRIPTION:Join other Lego enthusiasts and build a Lego creation according to a monthly theme.
URL:https://www.fortlibrary.org/event/lego-club-9/
ATTACH;FMTTYPE=image/jpeg:https://www.fortlibrary.org/wp-content/uploads/2024/02/Lego-Club.jpg
END:VEVENT
BEGIN:VEVENT
DTSTART;TZID=America/Chicago:20240315T080000
DTEND;TZID=America/Chicago:20240315T130000
DTSTAMP:20260425T185037
CREATED:20240215T174444Z
LAST-MODIFIED:20240215T174444Z
UID:34365-1710489600-1710507600@www.fortlibrary.org
SUMMARY:Library Closed (8a - 1pm) for staff training
DESCRIPTION:We will be closed on Friday March 15\, 2024 from 8 am – 1pm for staff training. We will re-open to the public at 1pm and be open to 6 pm.
URL:https://www.fortlibrary.org/event/library-closed-8a-1pm-for-staff-training/
END:VEVENT
BEGIN:VEVENT
DTSTART;TZID=America/Chicago:20240314T140000
DTEND;TZID=America/Chicago:20240314T190000
DTSTAMP:20260425T185037
CREATED:20240215T155458Z
LAST-MODIFIED:20240314T185117Z
UID:34333-1710424800-1710442800@www.fortlibrary.org
SUMMARY:Pi Day (Fundraiser)
DESCRIPTION:Stop by on Thursday\, March 14 between 2 p.m. and 7 p.m. to purchase a slice or a whole pie! The sale will end earlier if we sell out. Proceeds go to the Heart of the City and the Friends of the Library. \nIf you are interested in making a sweet or savory pie for this fundraiser\, please sign up here: https://forms.gle/Km9Wa5qDdhh6wkzY9
URL:https://www.fortlibrary.org/event/pi-day-fundraiser/
ATTACH;FMTTYPE=image/jpeg:https://www.fortlibrary.org/wp-content/uploads/2024/02/Untitled-design-1.jpg
END:VEVENT
BEGIN:VEVENT
DTSTART;TZID=America/Chicago:20240313T160000
DTEND;TZID=America/Chicago:20240313T170000
DTSTAMP:20260425T185037
CREATED:20240220T010800Z
LAST-MODIFIED:20240220T223123Z
UID:34373-1710345600-1710349200@www.fortlibrary.org
SUMMARY:Art Club for Teens
DESCRIPTION:Bring your current project or use the basic supplies we provide. Light snacks will be provided!
URL:https://www.fortlibrary.org/event/art-club-for-teens-3/
ATTACH;FMTTYPE=image/jpeg:https://www.fortlibrary.org/wp-content/uploads/2024/02/Art-Club-for-Teens-2.jpg
END:VEVENT
BEGIN:VEVENT
DTSTART;TZID=America/Chicago:20240312T183000
DTEND;TZID=America/Chicago:20240312T190000
DTSTAMP:20260425T185037
CREATED:20240220T173515Z
LAST-MODIFIED:20240220T222950Z
UID:34424-1710268200-1710270000@www.fortlibrary.org
SUMMARY:Pajama Storytime
DESCRIPTION:Join us once a month for Pajama Storytime for stories and songs in the Storytime Room. Wear your pajamas for this fun storytime event!
URL:https://www.fortlibrary.org/event/pajama-storytime-9/
ATTACH;FMTTYPE=image/jpeg:https://www.fortlibrary.org/wp-content/uploads/2024/02/Pajama-Storytime-1.jpg
END:VEVENT
BEGIN:VEVENT
DTSTART;TZID=America/Chicago:20240312T140000
DTEND;TZID=America/Chicago:20240312T150000
DTSTAMP:20260425T185037
CREATED:20240220T014242Z
LAST-MODIFIED:20240220T222806Z
UID:34419-1710252000-1710255600@www.fortlibrary.org
SUMMARY:The Parenting Play Group
DESCRIPTION:The Parenting Play Group is a shared time for parents and their children\, ages zero to five years of age\, to engage in social connections through open-ended playtime\, specific developmental activities\, and interactions with other families. This group is led by registered nurses with the Jefferson County Health Department\, specializing in Breastfeeding Support\, Car Seat Safety\, Social Connectedness\, and Developmental Stages. \nEl Grupo de Juego para Padres es un tiempo compartido para los padres y sus hijos\, de cero a cinco años de edad\, para participar en las conexiones sociales a través de tiempo de juego abierto\, actividades específicas de desarrollo\, y las interacciones con otras familias. Este grupo es conducido por las enfermeras registradas con el departamento de la salud del condado de Jefferson\, especializándose en ayuda del amamantamiento\, seguridad del asiento de coche\, conexión social\, y etapas de desarrollo.
URL:https://www.fortlibrary.org/event/the-parenting-play-group/
ATTACH;FMTTYPE=image/jpeg:https://www.fortlibrary.org/wp-content/uploads/2024/02/Parenting-Play-Group-1.jpg
END:VEVENT
BEGIN:VEVENT
DTSTART;TZID=America/Chicago:20240311T180000
DTEND;TZID=America/Chicago:20240311T190000
DTSTAMP:20260425T185037
CREATED:20240213T222941Z
LAST-MODIFIED:20240312T150753Z
UID:34309-1710180000-1710183600@www.fortlibrary.org
SUMMARY:Spanish/English Language Exchange. Intercambio Lengua Español/Inglés
DESCRIPTION:Practice your language skills\, make new friends and have some fun. Fluency is not required. The group is participant-led. No registration is required. All ages welcome! \nPractique sus conocimientos lingüísticos\, haga nuevos amigos y diviértase. No se requiere fluidez. El grupo está dirigido por los participantes. No es necesario inscribirse. Todas las edades son bienvenidas.
URL:https://www.fortlibrary.org/event/spanish-english-language-exchange-intercambio-leguna-espanol-ingles/
LOCATION:Dwight Foster Public Library – FCCU Community Room
ATTACH;FMTTYPE=image/jpeg:https://www.fortlibrary.org/wp-content/uploads/2024/02/SpanishEnglish-Language-Exchange-300-x-300-px-1.jpg
END:VEVENT
BEGIN:VEVENT
DTSTART;TZID=America/Chicago:20240311T140000
DTEND;TZID=America/Chicago:20240311T150000
DTSTAMP:20260425T185037
CREATED:20240215T170801Z
LAST-MODIFIED:20240220T222105Z
UID:34362-1710165600-1710169200@www.fortlibrary.org
SUMMARY:Gardening Small
DESCRIPTION:Join Julie Hill\, Horticulture Outreach Specialist at the UW-Madison Extension\, who will kick off the opening of our Seed Library with a talk about Gardening Small.
URL:https://www.fortlibrary.org/event/gardening-small/
LOCATION:Dwight Foster Public Library – FCCU Community Room
ATTACH;FMTTYPE=image/jpeg:https://www.fortlibrary.org/wp-content/uploads/2024/02/Small-Gardening-Julie-Hill-Website-Square-300-x-300-px.jpg
END:VEVENT
BEGIN:VEVENT
DTSTART;TZID=America/Chicago:20240311T080000
DTEND;TZID=America/Chicago:20240311T200000
DTSTAMP:20260425T185037
CREATED:20240215T215019Z
LAST-MODIFIED:20240215T215114Z
UID:34370-1710144000-1710187200@www.fortlibrary.org
SUMMARY:Seed Library starts today!
DESCRIPTION:This year’s Seed Library kicks off on Monday\, March 11 at the Gardening Small program! \nBe sure to stop in to our lobby to pick up seeds to get ready for your spring planting.
URL:https://www.fortlibrary.org/event/seed-library-starts-today/
ATTACH;FMTTYPE=image/jpeg:https://www.fortlibrary.org/wp-content/uploads/2024/02/Seed-Library-Banner-Facebook-Cover.jpg
END:VEVENT
BEGIN:VEVENT
DTSTART;TZID=America/Chicago:20240307T100000
DTEND;TZID=America/Chicago:20240307T103000
DTSTAMP:20260425T185037
CREATED:20240220T011514Z
LAST-MODIFIED:20240220T221609Z
UID:34381-1709805600-1709807400@www.fortlibrary.org
SUMMARY:Baby Time
DESCRIPTION:Baby Time is a fun time for babies from birth to 18 months and their parents or caregivers. Each gathering consists of rhymes\, songs\, and a few simple books. Baby Time introduces babies to literacy and encourages talking and positive interactions between the baby and the adult. Baby Time occurs Thursday mornings at 10 a.m. in the Storytime Room
URL:https://www.fortlibrary.org/event/baby-time-10/
ATTACH;FMTTYPE=image/jpeg:https://www.fortlibrary.org/wp-content/uploads/2023/10/Baby-Time.jpg
END:VEVENT
BEGIN:VEVENT
DTSTART;TZID=America/Chicago:20240306T100000
DTEND;TZID=America/Chicago:20240306T103000
DTSTAMP:20260425T185037
CREATED:20240220T011833Z
LAST-MODIFIED:20240220T221511Z
UID:34391-1709719200-1709721000@www.fortlibrary.org
SUMMARY:Family Storytime
DESCRIPTION:Join us every Wednesday morning for Family Storytime for stories and songs in the Storytime Room
URL:https://www.fortlibrary.org/event/family-storytime-9/
ATTACH;FMTTYPE=image/jpeg:https://www.fortlibrary.org/wp-content/uploads/2024/02/Family-Storytime-1.jpg
END:VEVENT
BEGIN:VEVENT
DTSTART;TZID=America/Chicago:20240305T100000
DTEND;TZID=America/Chicago:20240305T103000
DTSTAMP:20260425T185037
CREATED:20240220T012352Z
LAST-MODIFIED:20240220T215011Z
UID:34408-1709632800-1709634600@www.fortlibrary.org
SUMMARY:Toddler Time
DESCRIPTION:Toddler Time aims to introduce toddlers ages 18 to 36 months to literacy and encourage positive brain and motor development. Each gathering consists of books\, music or movement activities\, and a craft or sensory experience. Toddler Time can expand toddlers’ vocabulary\, help them play with letters and sounds\, improve their ability to describe things or tell stories\, and encourage an understanding and enjoyment of books and reading.
URL:https://www.fortlibrary.org/event/toddler-time-9/
ATTACH;FMTTYPE=image/jpeg:https://www.fortlibrary.org/wp-content/uploads/2024/02/Toddler-Time-1.jpg
END:VEVENT
BEGIN:VEVENT
DTSTART;TZID=America/Chicago:20240222T180000
DTEND;TZID=America/Chicago:20240222T190000
DTSTAMP:20260425T185037
CREATED:20240122T221212Z
LAST-MODIFIED:20240122T221627Z
UID:34130-1708624800-1708628400@www.fortlibrary.org
SUMMARY:Biking Across America Travelogue
DESCRIPTION:Join local cycling enthusiast Chick Westby as he tells the cross country bike tale of his travels from the West Coast to the East Coast with his son in the summer of 2023. Find inspiration for your next biking adventure!
URL:https://www.fortlibrary.org/event/biking-across-america-travelogue/
LOCATION:Dwight Foster Public Library – FCCU Community Room
ATTACH;FMTTYPE=image/png:https://www.fortlibrary.org/wp-content/uploads/2024/01/Biking-Across-America-Display.png
END:VEVENT
BEGIN:VEVENT
DTSTART;TZID=America/Chicago:20240213T183000
DTEND;TZID=America/Chicago:20240213T190000
DTSTAMP:20260425T185037
CREATED:20231024T001013Z
LAST-MODIFIED:20240109T162025Z
UID:33107-1707849000-1707850800@www.fortlibrary.org
SUMMARY:Pajama Storytime
DESCRIPTION:Join us once a month for Pajama Storytime for stories and songs in the Storytime Room. Wear your pajamas for this fun storytime event!
URL:https://www.fortlibrary.org/event/pajama-storytime-8-2024-02-13/
ATTACH;FMTTYPE=image/png:https://www.fortlibrary.org/wp-content/uploads/2023/10/Pajama-Storytime.png
END:VEVENT
BEGIN:VEVENT
DTSTART;TZID=America/Chicago:20240210T090000
DTEND;TZID=America/Chicago:20240210T120000
DTSTAMP:20260425T185037
CREATED:20211213T212512Z
LAST-MODIFIED:20240220T221819Z
UID:23635-1707555600-1707566400@www.fortlibrary.org
SUMMARY:Friends of the Library Book Sale
DESCRIPTION:The first hour (9 a.m. to 10 a.m.) is open to Friends of the Library members only. Memberships are always sold at the sale. The Friends have adult and children’s books\, DVDs and audio books.
URL:https://www.fortlibrary.org/event/friends-of-the-library-book-sale/
LOCATION:Dwight Foster Public Library Rogers Room
ATTACH;FMTTYPE=image/jpeg:https://www.fortlibrary.org/wp-content/uploads/2021/12/Friends-book-sale-WEBSITE-300-x-300-px.jpg
END:VEVENT
BEGIN:VEVENT
DTSTART;TZID=America/Chicago:20240209T173000
DTEND;TZID=America/Chicago:20240209T190000
DTSTAMP:20260425T185037
CREATED:20240122T201248Z
LAST-MODIFIED:20240122T201248Z
UID:34127-1707499800-1707505200@www.fortlibrary.org
SUMMARY:Late Night Hygge and Hot Cocoa Lock-In
DESCRIPTION:Stay late at the library for a cozy winter evening warming up with Danish concept of hygge. Bring your favorite fluffy blanket\, fuzzy slippers\, and a good book\, and we’ll provide the hot cocoa\, tea lights\, and warmth from our fireplaces. Doors lock at 6 p.m. sharp.
URL:https://www.fortlibrary.org/event/late-night-hygge-and-hot-cocoa-lock-in/
ATTACH;FMTTYPE=image/png:https://www.fortlibrary.org/wp-content/uploads/2024/01/Late-Night-Hygge-and-Hot-Cocoa-Lock-In-Display.png
END:VEVENT
BEGIN:VEVENT
DTSTART;TZID=America/Chicago:20240130T170000
DTEND;TZID=America/Chicago:20240130T183000
DTSTAMP:20260425T185037
CREATED:20231103T172719Z
LAST-MODIFIED:20240129T165531Z
UID:33170-1706634000-1706639400@www.fortlibrary.org
SUMMARY:4K Art Gala
DESCRIPTION:
URL:https://www.fortlibrary.org/event/4k-art-gala-3/
LOCATION:Dwight Foster Public Library
ATTACH;FMTTYPE=image/jpeg:https://www.fortlibrary.org/wp-content/uploads/2023/11/thumbnail_IMG_6426.jpg
END:VEVENT
BEGIN:VEVENT
DTSTART;TZID=America/Chicago:20240125T183000
DTEND;TZID=America/Chicago:20240125T193000
DTSTAMP:20260425T185037
CREATED:20231227T210001Z
LAST-MODIFIED:20231227T210001Z
UID:34020-1706207400-1706211000@www.fortlibrary.org
SUMMARY:Adult Book Club
DESCRIPTION:Join the Adult Service Librarian Deb Bauer to discuss beloved author Ann Patchett’s newest novel “Tom Lake.” Copies of the title are available in multiple formats at the main service desk. “poignant and reflective\, cementing Patchett’s stature as one of the finest novelists.” — Kirkus Reviews
URL:https://www.fortlibrary.org/event/adult-book-club-2/
LOCATION:Dwight Foster Public Library – FCCU Community Room
ATTACH;FMTTYPE=image/jpeg:https://www.fortlibrary.org/wp-content/uploads/2023/12/January-24-Adult-Book-Club-Display-1920-x-1080-px.jpg
END:VEVENT
BEGIN:VEVENT
DTSTART;TZID=America/Chicago:20240123T140000
DTEND;TZID=America/Chicago:20240123T150000
DTSTAMP:20260425T185037
CREATED:20231227T205838Z
LAST-MODIFIED:20231227T205838Z
UID:34016-1706018400-1706022000@www.fortlibrary.org
SUMMARY:Adult Book Club
DESCRIPTION:Join the Adult Service Librarian Deb Bauer to discuss beloved author Ann Patchett’s newest novel “Tom Lake.” Copies of the title are available in multiple formats at the main service desk. “poignant and reflective\, cementing Patchett’s stature as one of the finest novelists.” — Kirkus Reviews
URL:https://www.fortlibrary.org/event/adult-book-club/
LOCATION:Dwight Foster Public Library – FCCU Community Room
ATTACH;FMTTYPE=image/jpeg:https://www.fortlibrary.org/wp-content/uploads/2023/12/January-24-Adult-Book-Club-Display-1920-x-1080-px.jpg
END:VEVENT
BEGIN:VEVENT
DTSTART;TZID=America/Chicago:20240122T160000
DTEND;TZID=America/Chicago:20240122T170000
DTSTAMP:20260425T185037
CREATED:20231024T001418Z
LAST-MODIFIED:20231024T001418Z
UID:33108-1705939200-1705942800@www.fortlibrary.org
SUMMARY:Play Pokémon
DESCRIPTION:Join us to play with other Pokémon trainers! Feel free to bring your own cards or borrow a deck from us to learn how to play! Recommended for kids ages 7-12.
URL:https://www.fortlibrary.org/event/play-pokemon-6/
ATTACH;FMTTYPE=image/jpeg:https://www.fortlibrary.org/wp-content/uploads/2023/08/Play-Pokemon.jpg
END:VEVENT
BEGIN:VEVENT
DTSTART;TZID=America/Chicago:20240119T173000
DTEND;TZID=America/Chicago:20240119T190000
DTSTAMP:20260425T185037
CREATED:20231023T232637Z
LAST-MODIFIED:20231023T232637Z
UID:33084-1705685400-1705690800@www.fortlibrary.org
SUMMARY:Family Fort Building
DESCRIPTION:Stay in the library after hours to create a cool reading fort! Bring a good book\, a flashlight\, and indoor fort-building materials–such as sheets\, pillows\, and blankets. The library doors will be locked at 6 p.m. All kids must be accompanied by a responsible adult. \nGlow sticks and a snack will be provided.
URL:https://www.fortlibrary.org/event/family-fort-building-3/
ATTACH;FMTTYPE=image/png:https://www.fortlibrary.org/wp-content/uploads/2023/10/Family-Fort-Building-1.png
END:VEVENT
BEGIN:VEVENT
DTSTART;TZID=America/Chicago:20240117T113000
DTEND;TZID=America/Chicago:20240117T123000
DTSTAMP:20260425T185037
CREATED:20231024T000009Z
LAST-MODIFIED:20231024T000009Z
UID:33101-1705491000-1705494600@www.fortlibrary.org
SUMMARY:Lunch Bunch for Homeschoolers
DESCRIPTION:Bring your lunch to the library and meet other homeschooling families. Library staff will share library resources\, and offer time to chat and socialize
URL:https://www.fortlibrary.org/event/lunch-bunch-for-homeschoolers-6/
ATTACH;FMTTYPE=image/jpeg:https://www.fortlibrary.org/wp-content/uploads/2023/08/Lunch-Bunch-for-Homeschoolers.jpg
END:VEVENT
BEGIN:VEVENT
DTSTART;TZID=America/Chicago:20240116T130000
DTEND;TZID=America/Chicago:20240116T140000
DTSTAMP:20260425T185037
CREATED:20231227T205054Z
LAST-MODIFIED:20240122T221757Z
UID:34004-1705410000-1705413600@www.fortlibrary.org
SUMMARY:DFPL Cooking Club
DESCRIPTION:The DFPL Cooking Club meets on the third Tuesday of each month from 1 p.m. – 2 p.m. in the Community Room. The selected cookbook will be on display at the 2nd Floor Service Desk so simply stop by the library to choose a recipe and then bring the dish you make to the Cooking Club. We will eat together in the Community Room while we talk about the recipes we made and then choose the next month’s cookbook.
URL:https://www.fortlibrary.org/event/dfpl-cooking-club-4/
LOCATION:Dwight Foster Public Library – FCCU Community Room
ATTACH;FMTTYPE=image/jpeg:https://www.fortlibrary.org/wp-content/uploads/2024/01/February-cooking-club-Display.jpg
END:VEVENT
BEGIN:VEVENT
DTSTART;TZID=America/Chicago:20240115T153000
DTEND;TZID=America/Chicago:20240115T163000
DTSTAMP:20260425T185037
CREATED:20231023T233725Z
LAST-MODIFIED:20231023T233725Z
UID:33098-1705332600-1705336200@www.fortlibrary.org
SUMMARY:Lego Club
DESCRIPTION:Join other Lego enthusiasts and build a Lego creation according to a theme.
URL:https://www.fortlibrary.org/event/lego-club-8/
ATTACH;FMTTYPE=image/jpeg:https://www.fortlibrary.org/wp-content/uploads/2023/08/Lego-Club.jpg
END:VEVENT
BEGIN:VEVENT
DTSTART;TZID=America/Chicago:20240110T173000
DTEND;TZID=America/Chicago:20240110T190000
DTSTAMP:20260425T185037
CREATED:20231227T203015Z
LAST-MODIFIED:20231227T203035Z
UID:33979-1704907800-1704913200@www.fortlibrary.org
SUMMARY:Board Game Night for Grown Ups
DESCRIPTION:Join s at the local restaurant Mr. Brews Tap (201 N Main Fort Atkinson) to try out some of the newest board games that have been added to out Library of Things collection! You can order a drink and food while competing against friends and trying out new games.
URL:https://www.fortlibrary.org/event/board-game-night-for-grown-ups/
LOCATION:Mr. Brews\, 201 N Main St\, Fort Atkinson\, WI\, 53538
ATTACH;FMTTYPE=image/jpeg:https://www.fortlibrary.org/wp-content/uploads/2023/12/Board-Game-Night-for-Grown-Ups-Display.jpg
END:VEVENT
BEGIN:VEVENT
DTSTART;TZID=America/Chicago:20240110T160000
DTEND;TZID=America/Chicago:20240110T170000
DTSTAMP:20260425T185037
CREATED:20231023T225321Z
LAST-MODIFIED:20231023T225321Z
UID:33057-1704902400-1704906000@www.fortlibrary.org
SUMMARY:Art Club for Teens
DESCRIPTION:Bring your current project or we have an assortment of crafts and basic supplies to choose from!
URL:https://www.fortlibrary.org/event/art-club-for-teens-2/
ATTACH;FMTTYPE=image/jpeg:https://www.fortlibrary.org/wp-content/uploads/2023/08/Art-Club-for-Teens.jpg
END:VEVENT
BEGIN:VEVENT
DTSTART;TZID=America/Chicago:20240109T183000
DTEND;TZID=America/Chicago:20240109T190000
DTSTAMP:20260425T185037
CREATED:20231024T001013Z
LAST-MODIFIED:20240109T162158Z
UID:33104-1704825000-1704826800@www.fortlibrary.org
SUMMARY:CANCELED Pajama Storytime
DESCRIPTION:Pajama Storytime on January 9 is canceled. The Dwight Foster Public Library (Fort Atkinson) will be closing at noon due to the expected weather. Stay warm and safe!
URL:https://www.fortlibrary.org/event/pajama-storytime-8/
ATTACH;FMTTYPE=image/png:https://www.fortlibrary.org/wp-content/uploads/2023/10/Pajama-Storytime.png
END:VEVENT
BEGIN:VEVENT
DTSTART;TZID=America/Chicago:20240108T103000
DTEND;TZID=America/Chicago:20240108T120000
DTSTAMP:20260425T185037
CREATED:20231227T200805Z
LAST-MODIFIED:20231227T200833Z
UID:33975-1704709800-1704715200@www.fortlibrary.org
SUMMARY:Memory Café: FAHS Show Choir and Winter Warm-up
DESCRIPTION:Join us for a lively performance from the Fort Atkinson High School Show Choir and then warm up with some hot cocoa while we chat about our favorite winter memories. A Memory Café is an informal social gathering for individuals living with early-stage memory loss and their care partner. For more information\, see our website at librarymemoryproject.org.
URL:https://www.fortlibrary.org/event/memory-cafe-fahs-show-choir-and-winter-warm-up/
LOCATION:Dwight Foster Public Library – FCCU Community Room
ATTACH;FMTTYPE=image/jpeg:https://www.fortlibrary.org/wp-content/uploads/2023/12/LMP-Jan-2024-FaceBook-Event-1920-×-1080-px.jpg
END:VEVENT
BEGIN:VEVENT
DTSTART;TZID=America/Chicago:20240104T100000
DTEND;TZID=America/Chicago:20240104T103000
DTSTAMP:20260425T185037
CREATED:20231023T225658Z
LAST-MODIFIED:20240220T214057Z
UID:33060-1704362400-1704364200@www.fortlibrary.org
SUMMARY:Baby Time
DESCRIPTION:Baby Time is a fun time for babies from birth to 18 months and their parents or caregivers. Each gathering consists of rhymes\, songs\, and a few simple books. Baby Time introduces babies to literacy and encourages talking and positive interactions between the baby and the adult. Baby Time occurs Thursday mornings at 10 a.m. in the Storytime Room
URL:https://www.fortlibrary.org/event/baby-time-9/
ATTACH;FMTTYPE=image/jpeg:https://www.fortlibrary.org/wp-content/uploads/2023/10/Baby-Time.jpg
END:VEVENT
BEGIN:VEVENT
DTSTART;TZID=America/Chicago:20240103T160000
DTEND;TZID=America/Chicago:20240103T170000
DTSTAMP:20260425T185037
CREATED:20231024T001946Z
LAST-MODIFIED:20231024T001946Z
UID:33111-1704297600-1704301200@www.fortlibrary.org
SUMMARY:Sensory Storytime
DESCRIPTION:NEW time! An opportunity for children with special sensory needs to experience storytime. Neurodiverse children and their families are invited to join us for an interactive storytime filled with stories\, songs\, socialization and sensory play! Sensory Storytime will be in the FCCU Room at the library. If you’d like to discuss additional accommodations for your child\, please email chein@fortlibrary.org.
URL:https://www.fortlibrary.org/event/sensory-storytime-2/
ATTACH;FMTTYPE=image/png:https://www.fortlibrary.org/wp-content/uploads/2023/10/Sensory-Storytime.png
END:VEVENT
END:VCALENDAR