BEGIN:VCALENDAR
VERSION:2.0
PRODID:-//Dwight Foster Public Library - ECPv6.15.20//NONSGML v1.0//EN
CALSCALE:GREGORIAN
METHOD:PUBLISH
X-WR-CALNAME:Dwight Foster Public Library
X-ORIGINAL-URL:https://www.fortlibrary.org
X-WR-CALDESC:Events for Dwight Foster Public Library
REFRESH-INTERVAL;VALUE=DURATION:PT1H
X-Robots-Tag:noindex
X-PUBLISHED-TTL:PT1H
BEGIN:VTIMEZONE
TZID:America/Chicago
BEGIN:DAYLIGHT
TZOFFSETFROM:-0600
TZOFFSETTO:-0500
TZNAME:CDT
DTSTART:20230312T080000
END:DAYLIGHT
BEGIN:STANDARD
TZOFFSETFROM:-0500
TZOFFSETTO:-0600
TZNAME:CST
DTSTART:20231105T070000
END:STANDARD
BEGIN:DAYLIGHT
TZOFFSETFROM:-0600
TZOFFSETTO:-0500
TZNAME:CDT
DTSTART:20240310T080000
END:DAYLIGHT
BEGIN:STANDARD
TZOFFSETFROM:-0500
TZOFFSETTO:-0600
TZNAME:CST
DTSTART:20241103T070000
END:STANDARD
BEGIN:DAYLIGHT
TZOFFSETFROM:-0600
TZOFFSETTO:-0500
TZNAME:CDT
DTSTART:20250309T080000
END:DAYLIGHT
BEGIN:STANDARD
TZOFFSETFROM:-0500
TZOFFSETTO:-0600
TZNAME:CST
DTSTART:20251102T070000
END:STANDARD
END:VTIMEZONE
BEGIN:VEVENT
DTSTART;TZID=America/Chicago:20240524T140000
DTEND;TZID=America/Chicago:20240524T150000
DTSTAMP:20260425T140043
CREATED:20240516T150803Z
LAST-MODIFIED:20240516T150803Z
UID:35267-1716559200-1716562800@www.fortlibrary.org
SUMMARY:Library Board Hiring Committee Meeting
DESCRIPTION:
URL:https://www.fortlibrary.org/event/library-board-hiring-committee-meeting-2/
LOCATION:Dwight Foster Public Library – Rotary Room
END:VEVENT
BEGIN:VEVENT
DTSTART;TZID=America/Chicago:20240514T170000
DTEND;TZID=America/Chicago:20240514T180000
DTSTAMP:20260425T140043
CREATED:20240513T163141Z
LAST-MODIFIED:20240513T163141Z
UID:35241-1715706000-1715709600@www.fortlibrary.org
SUMMARY:Library Board Hiring Committee Meeting
DESCRIPTION:
URL:https://www.fortlibrary.org/event/library-board-hiring-committee-meeting/
LOCATION:Dwight Foster Public Library – Rotary Room
ATTACH;FMTTYPE=image/jpeg:https://www.fortlibrary.org/wp-content/uploads/2022/04/Library-Board-Meeting-Website-square-300-x-300-px.jpg
END:VEVENT
BEGIN:VEVENT
DTSTART;TZID=America/Chicago:20240514T151500
DTEND;TZID=America/Chicago:20240514T180000
DTSTAMP:20260425T140043
CREATED:20240416T234732Z
LAST-MODIFIED:20240509T201631Z
UID:34979-1715699700-1715709600@www.fortlibrary.org
SUMMARY:Barrie Bronco Night at the Dwight Foster Public Library
DESCRIPTION:Families from Barrie Elementary are encouraged to stop by the Dwight Foster Public Library to browse for books\, complete a scavenger hunt\, create a corner bookmark\, register for the summer reading program\, and more.  The library will be open to the general public during this time.
URL:https://www.fortlibrary.org/event/barrie-bronco-night-night-at-the-dwight-foster-public-library/
LOCATION:Dwight Foster Public Library
ATTACH;FMTTYPE=image/jpeg:https://www.fortlibrary.org/wp-content/uploads/2024/04/Books-300-x-300-px.jpg
END:VEVENT
BEGIN:VEVENT
DTSTART;TZID=America/Chicago:20240513T103000
DTEND;TZID=America/Chicago:20240513T113000
DTSTAMP:20260425T140043
CREATED:20240227T223105Z
LAST-MODIFIED:20240227T223105Z
UID:34649-1715596200-1715599800@www.fortlibrary.org
SUMMARY:Memory Cafe: Sunflowers
DESCRIPTION:Help us welcome spring with sunflowers! We’ll talk about gardening\, play a seed guessing game\, and then plant some seeds to grow at home. A Memory Cafe is an informal social gathering for individuals living with early-stage memory loss and their care partner. For more information\, see our website at librarymemoryproject.org. \nContact: Amy Christian (achristian@fortlibrary.org)
URL:https://www.fortlibrary.org/event/memory-cafe-sunflowers/
LOCATION:Dwight Foster Public Library – FCCU Community Room
ATTACH;FMTTYPE=image/jpeg:https://www.fortlibrary.org/wp-content/uploads/2024/02/Memory-Cafe-Website-Square-300-x-300-px-1.jpg
END:VEVENT
BEGIN:VEVENT
DTSTART;TZID=America/Chicago:20240509T180000
DTEND;TZID=America/Chicago:20240509T190000
DTSTAMP:20260425T140043
CREATED:20240227T222722Z
LAST-MODIFIED:20240227T222722Z
UID:34647-1715277600-1715281200@www.fortlibrary.org
SUMMARY:Hiking the Appalachian Trial
DESCRIPTION:Join Fort Atkinson resident David Fiari as he shares the adventures of his thru-hike of the Appalachian Trail. He completed the 2\,200+ mile journey from Georgia to Maine in 2023 in six months. David will share his preparations\, the history of hiking the trail\, and stories from his journey. \nContact: Deb Bauer (dbauer@fortlibrary.org)
URL:https://www.fortlibrary.org/event/hiking-the-appalachian-trial/
LOCATION:Dwight Foster Public Library – FCCU Community Room
ATTACH;FMTTYPE=image/jpeg:https://www.fortlibrary.org/wp-content/uploads/2024/02/Hiking-the-Appalachian-Trail-Website-Square-300-x-300-px.jpg
END:VEVENT
BEGIN:VEVENT
DTSTART;TZID=America/Chicago:20240429T170000
DTEND;TZID=America/Chicago:20240429T180000
DTSTAMP:20260425T140043
CREATED:20240426T202252Z
LAST-MODIFIED:20240426T202252Z
UID:35007-1714410000-1714413600@www.fortlibrary.org
SUMMARY:Library Board - Closed Session
DESCRIPTION:Special Session Library Board Meeting  \nMonday\, April 29\, 2024 at 5:00 p.m. \nLocation: Zoom  \nAgenda: \n\nCall to order\nRoll call\nThe Library Board may consider a motion to convene in closed session pursuant to State Stat. §19.85(1)(c) (See: https://docs.legis.wisconsin.gov/statutes/statutes/19/v/85/1/c) considering employment\, promotion\, compensation or performance evaluation data of any public employee over which the governmental body has jurisdiction or exercises responsibility. (Action: Approve convening closed session)\nThe Library Board may return from closed session and may act to appoint an Interim Library Director (Action: Approve Appointment)\nAdjournment\n\n If you have special needs or circumstances that may make communication or accessibility difficult at the meeting\, please call (920) 563-7790 at least three (3) days before the meeting date.  Accommodations will\, to the fullest extent possible\, be made available on request by a person with a disability. \nLibrary Board Meeting Dates – 2024 \nJanuary 8 February 12 March 11 April 8 May 13 June 10 August 12 September 9 October 14 November 11 December 9
URL:https://www.fortlibrary.org/event/library-board-closed-session/
LOCATION:Dwight Foster Public Library
END:VEVENT
BEGIN:VEVENT
DTSTART;TZID=America/Chicago:20240429T130000
DTEND;TZID=America/Chicago:20240429T150000
DTSTAMP:20260425T140043
CREATED:20240412T133931Z
LAST-MODIFIED:20240416T194300Z
UID:34942-1714395600-1714402800@www.fortlibrary.org
SUMMARY:Farewell Open House for Eric Robinson
DESCRIPTION:Join us from 1-3 p.m. on Monday\, April 29 at the library to wish Library Director Eric Robinson farewell and congratulations on a new chapter in his book of life. Enjoy donuts provided by our Friends of the Library!
URL:https://www.fortlibrary.org/event/farewell-open-house-for-eric-robinson/
LOCATION:Dwight Foster Public Library
ATTACH;FMTTYPE=image/jpeg:https://www.fortlibrary.org/wp-content/uploads/2024/04/Eric-Farewell-Invite-300-x-300-px.jpg
END:VEVENT
BEGIN:VEVENT
DTSTART;TZID=America/Chicago:20240426T123000
DTEND;TZID=America/Chicago:20240426T133000
DTSTAMP:20260425T140043
CREATED:20240424T024008Z
LAST-MODIFIED:20240424T025341Z
UID:34993-1714134600-1714138200@www.fortlibrary.org
SUMMARY:Library Board Meeting (Closed Session)
DESCRIPTION:The Library Board may consider a motion to convene in closed session pursuant to State Stat. §19.85(1)(c)  (See: https://docs.legis.wisconsin.gov/statutes/statutes/19/v/85/1/c) considering employment\, promotion\, compensation or performance evaluation data of any public employee over which the governmental body has jurisdiction or exercises responsibility.
URL:https://www.fortlibrary.org/event/library-board-meeting-closed-session/
LOCATION:Dwight Foster Public Library – Wisconsin Room
ATTACH;FMTTYPE=image/jpeg:https://www.fortlibrary.org/wp-content/uploads/2022/04/Library-Board-Meeting-Website-square-300-x-300-px.jpg
END:VEVENT
BEGIN:VEVENT
DTSTART;TZID=America/Chicago:20240425T183000
DTEND;TZID=America/Chicago:20240425T193000
DTSTAMP:20260425T140043
CREATED:20240227T222353Z
LAST-MODIFIED:20240227T222353Z
UID:34645-1714069800-1714073400@www.fortlibrary.org
SUMMARY:Adult Book Club
DESCRIPTION:Join Adult Services Librarian Deb Bauer to discuss Master Slave Husband Wife by Ilyon Woo\, one of The New York Times’s 10 Best Books of 2023. Copies of the title can be requested in multiple formats using the link below and additional copies will be available at the Main Service Desk later next month. \n“It’s an edge-of-your-seat drama that will leave many wondering why the duo’s remarkable story has been so overlooked by history.” – Time\, “100 Must-Read Books of 2023” \nContact: Deb Bauer (dbauer@fortlibrary.org)
URL:https://www.fortlibrary.org/event/adult-book-club-4/
LOCATION:Dwight Foster Public Library – FCCU Community Room
ATTACH;FMTTYPE=image/jpeg:https://www.fortlibrary.org/wp-content/uploads/2024/02/Copy-of-Adult-Book-Club-April-2024-DisplayBannerFaceBook-Event-1920-x-1080-px-300-x-300-px.jpg
END:VEVENT
BEGIN:VEVENT
DTSTART;TZID=America/Chicago:20240423T140000
DTEND;TZID=America/Chicago:20240423T150000
DTSTAMP:20260425T140043
CREATED:20240227T221430Z
LAST-MODIFIED:20240227T221430Z
UID:34643-1713880800-1713884400@www.fortlibrary.org
SUMMARY:Adult Book Club
DESCRIPTION:Join Adult Services Librarian Deb Bauer to discuss Master Slave Husband Wife by Ilyon Woo\, one of The New York Times’s 10 Best Books of 2023. Copies of the title can be requested in multiple formats using the link below and additional copies will be available at the Main Service Desk later next month. \n“It’s an edge-of-your-seat drama that will leave many wondering why the duo’s remarkable story has been so overlooked by history.” – Time\, “100 Must-Read Books of 2023” \nContact: Deb Bauer (dbauer@fortlibrary.org)
URL:https://www.fortlibrary.org/event/adult-book-club-3/
LOCATION:Dwight Foster Public Library – FCCU Community Room
ATTACH;FMTTYPE=image/jpeg:https://www.fortlibrary.org/wp-content/uploads/2024/02/Copy-of-Adult-Book-Club-April-2024-DisplayBannerFaceBook-Event-1920-x-1080-px-300-x-300-px.jpg
END:VEVENT
BEGIN:VEVENT
DTSTART;TZID=America/Chicago:20240421T130000
DTEND;TZID=America/Chicago:20240421T160000
DTSTAMP:20260425T140043
CREATED:20240227T221337Z
LAST-MODIFIED:20240227T221337Z
UID:34641-1713704400-1713715200@www.fortlibrary.org
SUMMARY:Library Memory Project: Jefferson County Family Day
DESCRIPTION:We invite those living with memory loss\, and their care partners and families\, to attend our first ever Jefferson County FREE family-firendly outing at the Dwight Foster Public Library. This event included entertainment\, crafts\, and refreshments. Sign up at https://www.librarymemoryproject.org/event/family-day/. \nContact: Amy Christian (achristian@fortlibrary.org)
URL:https://www.fortlibrary.org/event/library-memory-project-jefferson-county-family-day/
LOCATION:Dwight Foster Public Library – FCCU Community Room
ATTACH;FMTTYPE=image/jpeg:https://www.fortlibrary.org/wp-content/uploads/2024/02/LMP-Jan-2024-LMP-Display-640-×-349-1920-x-1080-px-300-x-300-px.jpg
END:VEVENT
BEGIN:VEVENT
DTSTART;TZID=America/Chicago:20240410T183000
DTEND;TZID=America/Chicago:20240410T193000
DTSTAMP:20260425T140043
CREATED:20240220T011136Z
LAST-MODIFIED:20240220T011136Z
UID:34378-1712773800-1712777400@www.fortlibrary.org
SUMMARY:Author Talk with Jen Bailey
DESCRIPTION:Local author Jen Bailey is excited to visit the Dwight Foster Public Library to introduce her young adult novel Unexpecting. Jen will do a brief reading from Unexpecting and host a Q&A session with the audience. Jen will have copies of her book available for sale\, along with treats and swag for attendees. This program is designed for teens\, but adults are welcome to attend as well.
URL:https://www.fortlibrary.org/event/author-talk-with-jen-bailey/
ATTACH;FMTTYPE=image/jpeg:https://www.fortlibrary.org/wp-content/uploads/2024/02/Author-Talk-with-Jen-Bailey-1.jpg
END:VEVENT
BEGIN:VEVENT
DTSTART;TZID=America/Chicago:20240403T173000
DTEND;TZID=America/Chicago:20240403T190000
DTSTAMP:20260425T140043
CREATED:20240227T220941Z
LAST-MODIFIED:20240227T220941Z
UID:34638-1712165400-1712170800@www.fortlibrary.org
SUMMARY:Brews and Board Games
DESCRIPTION:Join us at Mr. Brews Taphouse (201 N Main St #220\, Fort Atkinson) to try out some of the newest board games that have been added to our Library of Things collection! Order food and drinks while ocmpeting against friends! \nContact: Deb Bauer (dbauer@fortlibrary.org)
URL:https://www.fortlibrary.org/event/brews-and-board-games/
LOCATION:Mr. Brews\, 201 N Main St\, Fort Atkinson\, WI\, 53538
ATTACH;FMTTYPE=image/jpeg:https://www.fortlibrary.org/wp-content/uploads/2024/02/Brews-and-Board-Games-Website-Square-300-x-300-px.jpg
END:VEVENT
BEGIN:VEVENT
DTSTART;TZID=America/Chicago:20240401T130000
DTEND;TZID=America/Chicago:20240401T140000
DTSTAMP:20260425T140043
CREATED:20240227T220849Z
LAST-MODIFIED:20240312T154846Z
UID:34636-1711976400-1711980000@www.fortlibrary.org
SUMMARY:Eyes on the Skies
DESCRIPTION:Get ready for April’s solar exlpse with free solar eclipse glasses and a presentation from Jim Lattis\, Director of UW’s Space Place! \nContact: Deb Bauer (dbauer@fortlibrary.org)
URL:https://www.fortlibrary.org/event/eyes-on-the-skies/
LOCATION:Dwight Foster Public Library – FCCU Community Room
ATTACH;FMTTYPE=image/jpeg:https://www.fortlibrary.org/wp-content/uploads/2024/03/Eyes-On-The-Skies-Display-300-x-300-px.jpg
END:VEVENT
BEGIN:VEVENT
DTSTART;VALUE=DATE:20240329
DTEND;VALUE=DATE:20240330
DTSTAMP:20260425T140043
CREATED:20240304T221247Z
LAST-MODIFIED:20240304T221247Z
UID:34662-1711670400-1711756799@www.fortlibrary.org
SUMMARY:Library Closed
DESCRIPTION:The library will be closed today.
URL:https://www.fortlibrary.org/event/library-closed-12/
END:VEVENT
BEGIN:VEVENT
DTSTART;TZID=America/Chicago:20240325T160000
DTEND;TZID=America/Chicago:20240325T170000
DTSTAMP:20260425T140043
CREATED:20240220T174611Z
LAST-MODIFIED:20240220T174611Z
UID:34437-1711382400-1711386000@www.fortlibrary.org
SUMMARY:Play Pokémon
DESCRIPTION:Come play the Pokémon Trading Card Game with other Pokémon trainers! You can bring your own cards or borrow a deck from the library to learn how to play. Recommended for kids ages 7-12.
URL:https://www.fortlibrary.org/event/play-pokemon-7/
ATTACH;FMTTYPE=image/jpeg:https://www.fortlibrary.org/wp-content/uploads/2024/02/Play-Pokemon.jpg
END:VEVENT
BEGIN:VEVENT
DTSTART;TZID=America/Chicago:20240325T140000
DTEND;TZID=America/Chicago:20240325T150000
DTSTAMP:20260425T140043
CREATED:20240227T220729Z
LAST-MODIFIED:20240227T220729Z
UID:34634-1711375200-1711378800@www.fortlibrary.org
SUMMARY:Introduction to Genealogy
DESCRIPTION:Connect to your past through an Introduction to Genealogy with Scott Norrick of Ancestral Past. Participants will receive an overview of genealogy basics. \nContact: Deb Bauer (dbauer@fortlibrary.org)
URL:https://www.fortlibrary.org/event/introduction-to-genealogy/
LOCATION:Dwight Foster Public Library – FCCU Community Room
ATTACH;FMTTYPE=image/jpeg:https://www.fortlibrary.org/wp-content/uploads/2024/02/Intro-to-Genealogy-Website-Square-300-x-300-px.jpg
END:VEVENT
BEGIN:VEVENT
DTSTART;TZID=America/Chicago:20240322T080000
DTEND;TZID=America/Chicago:20240322T130000
DTSTAMP:20260425T140043
CREATED:20240322T114144Z
LAST-MODIFIED:20240322T114144Z
UID:34820-1711094400-1711112400@www.fortlibrary.org
SUMMARY:Library Closed until 1 pm (weather)
DESCRIPTION:We will be closed until 1 pm on Friday 3/22/24 due to snow. We will be open 1 pm to 6pm.
URL:https://www.fortlibrary.org/event/library-closed-until-1-pm-weather/
ATTACH;FMTTYPE=image/jpeg:https://www.fortlibrary.org/wp-content/uploads/2024/03/Closed-Staff-Training-1640-x-924-px.jpg
END:VEVENT
BEGIN:VEVENT
DTSTART;TZID=America/Chicago:20240320T113000
DTEND;TZID=America/Chicago:20240320T123000
DTSTAMP:20260425T140043
CREATED:20240220T173922Z
LAST-MODIFIED:20240220T223749Z
UID:34428-1710934200-1710937800@www.fortlibrary.org
SUMMARY:Lunch Bunch for Homeschoolers
DESCRIPTION:March 20\, April 17 (at the Municipal Building)\, and May 15 (with Officer Lawrence and K-9 Smitty) from 11:30 a.m.-12:30 p.m. Bring your lunch to the library and meet other homeschooling families. Library staff will share library resources and offer time to chat and socialize. On April 17\, the group will meet at 101 N. Main Street in Fort Atkinson.
URL:https://www.fortlibrary.org/event/lunch-bunch-for-homeschoolers-7/
ATTACH;FMTTYPE=image/jpeg:https://www.fortlibrary.org/wp-content/uploads/2024/02/Lunch-Bunch-for-Homeschoolers-1.jpg
END:VEVENT
BEGIN:VEVENT
DTSTART;TZID=America/Chicago:20240319T130000
DTEND;TZID=America/Chicago:20240319T140000
DTSTAMP:20260425T140043
CREATED:20240227T220123Z
LAST-MODIFIED:20240627T151641Z
UID:34630-1710853200-1710856800@www.fortlibrary.org
SUMMARY:Cooking Club
DESCRIPTION:The DFPL Cooking Club meets on the third Tuesday of each month from 1 – 2  p.m. in the Community Room. The selected cookbook will be on display at the 2nd Floor Service Desk so simply stop by the library to choose a recipe and then bring the dish you make to the Cooking Club. We will eat together in the Community Room while we talk about the recipes we made and then choose the next month’s cookbook. \nContact: Deb Bauer (dbauer@fortlibrary.org)
URL:https://www.fortlibrary.org/event/cooking-club/
LOCATION:Dwight Foster Public Library – FCCU Community Room
ATTACH;FMTTYPE=image/jpeg:https://www.fortlibrary.org/wp-content/uploads/2023/07/cooking-club-Website-Square-300-x-300-px.jpg
END:VEVENT
BEGIN:VEVENT
DTSTART;TZID=America/Chicago:20240318T153000
DTEND;TZID=America/Chicago:20240318T163000
DTSTAMP:20260425T140043
CREATED:20240220T174315Z
LAST-MODIFIED:20240220T223354Z
UID:34433-1710775800-1710779400@www.fortlibrary.org
SUMMARY:Lego Club
DESCRIPTION:Join other Lego enthusiasts and build a Lego creation according to a monthly theme.
URL:https://www.fortlibrary.org/event/lego-club-9/
ATTACH;FMTTYPE=image/jpeg:https://www.fortlibrary.org/wp-content/uploads/2024/02/Lego-Club.jpg
END:VEVENT
BEGIN:VEVENT
DTSTART;TZID=America/Chicago:20240315T080000
DTEND;TZID=America/Chicago:20240315T130000
DTSTAMP:20260425T140043
CREATED:20240215T174444Z
LAST-MODIFIED:20240215T174444Z
UID:34365-1710489600-1710507600@www.fortlibrary.org
SUMMARY:Library Closed (8a - 1pm) for staff training
DESCRIPTION:We will be closed on Friday March 15\, 2024 from 8 am – 1pm for staff training. We will re-open to the public at 1pm and be open to 6 pm.
URL:https://www.fortlibrary.org/event/library-closed-8a-1pm-for-staff-training/
END:VEVENT
BEGIN:VEVENT
DTSTART;TZID=America/Chicago:20240314T140000
DTEND;TZID=America/Chicago:20240314T190000
DTSTAMP:20260425T140043
CREATED:20240215T155458Z
LAST-MODIFIED:20240314T185117Z
UID:34333-1710424800-1710442800@www.fortlibrary.org
SUMMARY:Pi Day (Fundraiser)
DESCRIPTION:Stop by on Thursday\, March 14 between 2 p.m. and 7 p.m. to purchase a slice or a whole pie! The sale will end earlier if we sell out. Proceeds go to the Heart of the City and the Friends of the Library. \nIf you are interested in making a sweet or savory pie for this fundraiser\, please sign up here: https://forms.gle/Km9Wa5qDdhh6wkzY9
URL:https://www.fortlibrary.org/event/pi-day-fundraiser/
ATTACH;FMTTYPE=image/jpeg:https://www.fortlibrary.org/wp-content/uploads/2024/02/Untitled-design-1.jpg
END:VEVENT
BEGIN:VEVENT
DTSTART;TZID=America/Chicago:20240313T160000
DTEND;TZID=America/Chicago:20240313T170000
DTSTAMP:20260425T140043
CREATED:20240220T010800Z
LAST-MODIFIED:20240220T223123Z
UID:34373-1710345600-1710349200@www.fortlibrary.org
SUMMARY:Art Club for Teens
DESCRIPTION:Bring your current project or use the basic supplies we provide. Light snacks will be provided!
URL:https://www.fortlibrary.org/event/art-club-for-teens-3/
ATTACH;FMTTYPE=image/jpeg:https://www.fortlibrary.org/wp-content/uploads/2024/02/Art-Club-for-Teens-2.jpg
END:VEVENT
BEGIN:VEVENT
DTSTART;TZID=America/Chicago:20240312T183000
DTEND;TZID=America/Chicago:20240312T190000
DTSTAMP:20260425T140043
CREATED:20240220T173515Z
LAST-MODIFIED:20240220T222950Z
UID:34424-1710268200-1710270000@www.fortlibrary.org
SUMMARY:Pajama Storytime
DESCRIPTION:Join us once a month for Pajama Storytime for stories and songs in the Storytime Room. Wear your pajamas for this fun storytime event!
URL:https://www.fortlibrary.org/event/pajama-storytime-9/
ATTACH;FMTTYPE=image/jpeg:https://www.fortlibrary.org/wp-content/uploads/2024/02/Pajama-Storytime-1.jpg
END:VEVENT
BEGIN:VEVENT
DTSTART;TZID=America/Chicago:20240312T140000
DTEND;TZID=America/Chicago:20240312T150000
DTSTAMP:20260425T140043
CREATED:20240220T014242Z
LAST-MODIFIED:20240220T222806Z
UID:34419-1710252000-1710255600@www.fortlibrary.org
SUMMARY:The Parenting Play Group
DESCRIPTION:The Parenting Play Group is a shared time for parents and their children\, ages zero to five years of age\, to engage in social connections through open-ended playtime\, specific developmental activities\, and interactions with other families. This group is led by registered nurses with the Jefferson County Health Department\, specializing in Breastfeeding Support\, Car Seat Safety\, Social Connectedness\, and Developmental Stages. \nEl Grupo de Juego para Padres es un tiempo compartido para los padres y sus hijos\, de cero a cinco años de edad\, para participar en las conexiones sociales a través de tiempo de juego abierto\, actividades específicas de desarrollo\, y las interacciones con otras familias. Este grupo es conducido por las enfermeras registradas con el departamento de la salud del condado de Jefferson\, especializándose en ayuda del amamantamiento\, seguridad del asiento de coche\, conexión social\, y etapas de desarrollo.
URL:https://www.fortlibrary.org/event/the-parenting-play-group/
ATTACH;FMTTYPE=image/jpeg:https://www.fortlibrary.org/wp-content/uploads/2024/02/Parenting-Play-Group-1.jpg
END:VEVENT
BEGIN:VEVENT
DTSTART;TZID=America/Chicago:20240311T180000
DTEND;TZID=America/Chicago:20240311T190000
DTSTAMP:20260425T140043
CREATED:20240213T222941Z
LAST-MODIFIED:20240312T150753Z
UID:34309-1710180000-1710183600@www.fortlibrary.org
SUMMARY:Spanish/English Language Exchange. Intercambio Lengua Español/Inglés
DESCRIPTION:Practice your language skills\, make new friends and have some fun. Fluency is not required. The group is participant-led. No registration is required. All ages welcome! \nPractique sus conocimientos lingüísticos\, haga nuevos amigos y diviértase. No se requiere fluidez. El grupo está dirigido por los participantes. No es necesario inscribirse. Todas las edades son bienvenidas.
URL:https://www.fortlibrary.org/event/spanish-english-language-exchange-intercambio-leguna-espanol-ingles/
LOCATION:Dwight Foster Public Library – FCCU Community Room
ATTACH;FMTTYPE=image/jpeg:https://www.fortlibrary.org/wp-content/uploads/2024/02/SpanishEnglish-Language-Exchange-300-x-300-px-1.jpg
END:VEVENT
BEGIN:VEVENT
DTSTART;TZID=America/Chicago:20240311T140000
DTEND;TZID=America/Chicago:20240311T150000
DTSTAMP:20260425T140043
CREATED:20240215T170801Z
LAST-MODIFIED:20240220T222105Z
UID:34362-1710165600-1710169200@www.fortlibrary.org
SUMMARY:Gardening Small
DESCRIPTION:Join Julie Hill\, Horticulture Outreach Specialist at the UW-Madison Extension\, who will kick off the opening of our Seed Library with a talk about Gardening Small.
URL:https://www.fortlibrary.org/event/gardening-small/
LOCATION:Dwight Foster Public Library – FCCU Community Room
ATTACH;FMTTYPE=image/jpeg:https://www.fortlibrary.org/wp-content/uploads/2024/02/Small-Gardening-Julie-Hill-Website-Square-300-x-300-px.jpg
END:VEVENT
BEGIN:VEVENT
DTSTART;TZID=America/Chicago:20240311T080000
DTEND;TZID=America/Chicago:20240311T200000
DTSTAMP:20260425T140043
CREATED:20240215T215019Z
LAST-MODIFIED:20240215T215114Z
UID:34370-1710144000-1710187200@www.fortlibrary.org
SUMMARY:Seed Library starts today!
DESCRIPTION:This year’s Seed Library kicks off on Monday\, March 11 at the Gardening Small program! \nBe sure to stop in to our lobby to pick up seeds to get ready for your spring planting.
URL:https://www.fortlibrary.org/event/seed-library-starts-today/
ATTACH;FMTTYPE=image/jpeg:https://www.fortlibrary.org/wp-content/uploads/2024/02/Seed-Library-Banner-Facebook-Cover.jpg
END:VEVENT
BEGIN:VEVENT
DTSTART;TZID=America/Chicago:20240307T100000
DTEND;TZID=America/Chicago:20240307T103000
DTSTAMP:20260425T140043
CREATED:20240220T011514Z
LAST-MODIFIED:20240220T221609Z
UID:34381-1709805600-1709807400@www.fortlibrary.org
SUMMARY:Baby Time
DESCRIPTION:Baby Time is a fun time for babies from birth to 18 months and their parents or caregivers. Each gathering consists of rhymes\, songs\, and a few simple books. Baby Time introduces babies to literacy and encourages talking and positive interactions between the baby and the adult. Baby Time occurs Thursday mornings at 10 a.m. in the Storytime Room
URL:https://www.fortlibrary.org/event/baby-time-10/
ATTACH;FMTTYPE=image/jpeg:https://www.fortlibrary.org/wp-content/uploads/2023/10/Baby-Time.jpg
END:VEVENT
END:VCALENDAR