BEGIN:VCALENDAR
VERSION:2.0
PRODID:-//Dwight Foster Public Library - ECPv6.15.20//NONSGML v1.0//EN
CALSCALE:GREGORIAN
METHOD:PUBLISH
X-WR-CALNAME:Dwight Foster Public Library
X-ORIGINAL-URL:https://www.fortlibrary.org
X-WR-CALDESC:Events for Dwight Foster Public Library
REFRESH-INTERVAL;VALUE=DURATION:PT1H
X-Robots-Tag:noindex
X-PUBLISHED-TTL:PT1H
BEGIN:VTIMEZONE
TZID:America/Chicago
BEGIN:DAYLIGHT
TZOFFSETFROM:-0600
TZOFFSETTO:-0500
TZNAME:CDT
DTSTART:20240310T080000
END:DAYLIGHT
BEGIN:STANDARD
TZOFFSETFROM:-0500
TZOFFSETTO:-0600
TZNAME:CST
DTSTART:20241103T070000
END:STANDARD
BEGIN:DAYLIGHT
TZOFFSETFROM:-0600
TZOFFSETTO:-0500
TZNAME:CDT
DTSTART:20250309T080000
END:DAYLIGHT
BEGIN:STANDARD
TZOFFSETFROM:-0500
TZOFFSETTO:-0600
TZNAME:CST
DTSTART:20251102T070000
END:STANDARD
BEGIN:DAYLIGHT
TZOFFSETFROM:-0600
TZOFFSETTO:-0500
TZNAME:CDT
DTSTART:20260308T080000
END:DAYLIGHT
BEGIN:STANDARD
TZOFFSETFROM:-0500
TZOFFSETTO:-0600
TZNAME:CST
DTSTART:20261101T070000
END:STANDARD
BEGIN:DAYLIGHT
TZOFFSETFROM:-0600
TZOFFSETTO:-0500
TZNAME:CDT
DTSTART:20270314T080000
END:DAYLIGHT
BEGIN:STANDARD
TZOFFSETFROM:-0500
TZOFFSETTO:-0600
TZNAME:CST
DTSTART:20271107T070000
END:STANDARD
BEGIN:DAYLIGHT
TZOFFSETFROM:-0600
TZOFFSETTO:-0500
TZNAME:CDT
DTSTART:20280312T080000
END:DAYLIGHT
BEGIN:STANDARD
TZOFFSETFROM:-0500
TZOFFSETTO:-0600
TZNAME:CST
DTSTART:20281105T070000
END:STANDARD
END:VTIMEZONE
BEGIN:VEVENT
DTSTART;TZID=America/Chicago:20251108T090000
DTEND;TZID=America/Chicago:20251108T120000
DTSTAMP:20260425T071845
CREATED:20211213T212512Z
LAST-MODIFIED:20240220T221824Z
UID:34230-1762592400-1762603200@www.fortlibrary.org
SUMMARY:Friends of the Library Book Sale
DESCRIPTION:The first hour (9 a.m. to 10 a.m.) is open to Friends of the Library members only. Memberships are always sold at the sale. The Friends have adult and children’s books\, DVDs and audio books.
URL:https://www.fortlibrary.org/event/friends-of-the-library-book-sale-2025-11-08/
LOCATION:Dwight Foster Public Library Rogers Room
ATTACH;FMTTYPE=image/jpeg:https://www.fortlibrary.org/wp-content/uploads/2021/12/Friends-book-sale-WEBSITE-300-x-300-px.jpg
END:VEVENT
BEGIN:VEVENT
DTSTART;TZID=America/Chicago:20251110T093000
DTEND;TZID=America/Chicago:20251110T103000
DTSTAMP:20260425T071845
CREATED:20220429T185907Z
LAST-MODIFIED:20240416T203154Z
UID:33194-1762767000-1762770600@www.fortlibrary.org
SUMMARY:Library Board Meeting
DESCRIPTION:The Library Board meets generally the second Monday of the month at 9:30 a.m. in the Library meeting rooms. View our current Strategic Plan here.
URL:https://www.fortlibrary.org/event/library-board-meeting-2025-11-10/
LOCATION:Dwight Foster Public Library – Rotary Room
ATTACH;FMTTYPE=image/jpeg:https://www.fortlibrary.org/wp-content/uploads/2022/04/Library-Board-Meeting-Website-square-300-x-300-px.jpg
END:VEVENT
BEGIN:VEVENT
DTSTART;TZID=America/Chicago:20251118T183000
DTEND;TZID=America/Chicago:20251118T193000
DTSTAMP:20260425T071845
CREATED:20230725T135840Z
LAST-MODIFIED:20240305T191156Z
UID:34676-1763490600-1763494200@www.fortlibrary.org
SUMMARY:Cooking Club
DESCRIPTION:The DFPL Cooking Club meets on the third Tuesday of each month from 6:30 – 7:30 p.m. in the Community Room. The selected cookbook will be on display at the 2nd Floor Service Desk so simply stop by the library to choose a recipe and then bring the dish you make to the Cooking Club. We will eat together in the Community Room while we talk about the recipes we made and then choose the next month’s cookbook.
URL:https://www.fortlibrary.org/event/dfpl-cooking-club-2-2025-11-18/
LOCATION:Dwight Foster Public Library – FCCU Community Room
ATTACH;FMTTYPE=image/jpeg:https://www.fortlibrary.org/wp-content/uploads/2023/07/cooking-club-Website-Square-300-x-300-px.jpg
END:VEVENT
BEGIN:VEVENT
DTSTART;TZID=America/Chicago:20251208T093000
DTEND;TZID=America/Chicago:20251208T103000
DTSTAMP:20260425T071845
CREATED:20220429T185907Z
LAST-MODIFIED:20240416T203154Z
UID:33919-1765186200-1765189800@www.fortlibrary.org
SUMMARY:Library Board Meeting
DESCRIPTION:The Library Board meets generally the second Monday of the month at 9:30 a.m. in the Library meeting rooms. View our current Strategic Plan here.
URL:https://www.fortlibrary.org/event/library-board-meeting-2025-12-08/
LOCATION:Dwight Foster Public Library – Rotary Room
ATTACH;FMTTYPE=image/jpeg:https://www.fortlibrary.org/wp-content/uploads/2022/04/Library-Board-Meeting-Website-square-300-x-300-px.jpg
END:VEVENT
BEGIN:VEVENT
DTSTART;TZID=America/Chicago:20251213T090000
DTEND;TZID=America/Chicago:20251213T120000
DTSTAMP:20260425T071845
CREATED:20211213T212512Z
LAST-MODIFIED:20240220T221824Z
UID:34231-1765616400-1765627200@www.fortlibrary.org
SUMMARY:Friends of the Library Book Sale
DESCRIPTION:The first hour (9 a.m. to 10 a.m.) is open to Friends of the Library members only. Memberships are always sold at the sale. The Friends have adult and children’s books\, DVDs and audio books.
URL:https://www.fortlibrary.org/event/friends-of-the-library-book-sale-2025-12-13/
LOCATION:Dwight Foster Public Library Rogers Room
ATTACH;FMTTYPE=image/jpeg:https://www.fortlibrary.org/wp-content/uploads/2021/12/Friends-book-sale-WEBSITE-300-x-300-px.jpg
END:VEVENT
BEGIN:VEVENT
DTSTART;TZID=America/Chicago:20260110T090000
DTEND;TZID=America/Chicago:20260110T120000
DTSTAMP:20260425T071845
CREATED:20211213T212512Z
LAST-MODIFIED:20240220T221825Z
UID:34232-1768035600-1768046400@www.fortlibrary.org
SUMMARY:Friends of the Library Book Sale
DESCRIPTION:The first hour (9 a.m. to 10 a.m.) is open to Friends of the Library members only. Memberships are always sold at the sale. The Friends have adult and children’s books\, DVDs and audio books.
URL:https://www.fortlibrary.org/event/friends-of-the-library-book-sale-2026-01-10/
LOCATION:Dwight Foster Public Library Rogers Room
ATTACH;FMTTYPE=image/jpeg:https://www.fortlibrary.org/wp-content/uploads/2021/12/Friends-book-sale-WEBSITE-300-x-300-px.jpg
END:VEVENT
BEGIN:VEVENT
DTSTART;TZID=America/Chicago:20260112T093000
DTEND;TZID=America/Chicago:20260112T103000
DTSTAMP:20260425T071845
CREATED:20220429T185907Z
LAST-MODIFIED:20240416T203154Z
UID:34101-1768210200-1768213800@www.fortlibrary.org
SUMMARY:Library Board Meeting
DESCRIPTION:The Library Board meets generally the second Monday of the month at 9:30 a.m. in the Library meeting rooms. View our current Strategic Plan here.
URL:https://www.fortlibrary.org/event/library-board-meeting-2026-01-12/
LOCATION:Dwight Foster Public Library – Rotary Room
ATTACH;FMTTYPE=image/jpeg:https://www.fortlibrary.org/wp-content/uploads/2022/04/Library-Board-Meeting-Website-square-300-x-300-px.jpg
END:VEVENT
BEGIN:VEVENT
DTSTART;TZID=America/Chicago:20260209T093000
DTEND;TZID=America/Chicago:20260209T103000
DTSTAMP:20260425T071845
CREATED:20220429T185907Z
LAST-MODIFIED:20240416T203154Z
UID:34305-1770629400-1770633000@www.fortlibrary.org
SUMMARY:Library Board Meeting
DESCRIPTION:The Library Board meets generally the second Monday of the month at 9:30 a.m. in the Library meeting rooms. View our current Strategic Plan here.
URL:https://www.fortlibrary.org/event/library-board-meeting-2026-02-09/
LOCATION:Dwight Foster Public Library – Rotary Room
ATTACH;FMTTYPE=image/jpeg:https://www.fortlibrary.org/wp-content/uploads/2022/04/Library-Board-Meeting-Website-square-300-x-300-px.jpg
END:VEVENT
BEGIN:VEVENT
DTSTART;TZID=America/Chicago:20260214T090000
DTEND;TZID=America/Chicago:20260214T120000
DTSTAMP:20260425T071845
CREATED:20211213T212512Z
LAST-MODIFIED:20240220T221825Z
UID:34360-1771059600-1771070400@www.fortlibrary.org
SUMMARY:Friends of the Library Book Sale
DESCRIPTION:The first hour (9 a.m. to 10 a.m.) is open to Friends of the Library members only. Memberships are always sold at the sale. The Friends have adult and children’s books\, DVDs and audio books.
URL:https://www.fortlibrary.org/event/friends-of-the-library-book-sale-2026-02-14/
LOCATION:Dwight Foster Public Library Rogers Room
ATTACH;FMTTYPE=image/jpeg:https://www.fortlibrary.org/wp-content/uploads/2021/12/Friends-book-sale-WEBSITE-300-x-300-px.jpg
END:VEVENT
BEGIN:VEVENT
DTSTART;TZID=America/Chicago:20260309T093000
DTEND;TZID=America/Chicago:20260309T103000
DTSTAMP:20260425T071845
CREATED:20220429T185907Z
LAST-MODIFIED:20240416T203155Z
UID:34723-1773048600-1773052200@www.fortlibrary.org
SUMMARY:Library Board Meeting
DESCRIPTION:The Library Board meets generally the second Monday of the month at 9:30 a.m. in the Library meeting rooms. View our current Strategic Plan here.
URL:https://www.fortlibrary.org/event/library-board-meeting-2026-03-09/
LOCATION:Dwight Foster Public Library – Rotary Room
ATTACH;FMTTYPE=image/jpeg:https://www.fortlibrary.org/wp-content/uploads/2022/04/Library-Board-Meeting-Website-square-300-x-300-px.jpg
END:VEVENT
BEGIN:VEVENT
DTSTART;TZID=America/Chicago:20260314T090000
DTEND;TZID=America/Chicago:20260314T120000
DTSTAMP:20260425T071845
CREATED:20211213T212512Z
LAST-MODIFIED:20211213T212512Z
UID:34798-1773478800-1773489600@www.fortlibrary.org
SUMMARY:Friends of the Library Book Sale
DESCRIPTION:The first hour (9 a.m. to 10 a.m.) is open to Friends of the Library members only. Memberships are always sold at the sale. The Friends have adult and children’s books\, DVDs and audio books.
URL:https://www.fortlibrary.org/event/friends-of-the-library-book-sale-2026-03-14/
LOCATION:Dwight Foster Public Library Rogers Room
ATTACH;FMTTYPE=image/jpeg:https://www.fortlibrary.org/wp-content/uploads/2021/12/Friends-book-sale-WEBSITE-300-x-300-px.jpg
END:VEVENT
BEGIN:VEVENT
DTSTART;TZID=America/Chicago:20260411T090000
DTEND;TZID=America/Chicago:20260411T120000
DTSTAMP:20260425T071845
CREATED:20211213T212512Z
LAST-MODIFIED:20211213T212512Z
UID:34944-1775898000-1775908800@www.fortlibrary.org
SUMMARY:Friends of the Library Book Sale
DESCRIPTION:The first hour (9 a.m. to 10 a.m.) is open to Friends of the Library members only. Memberships are always sold at the sale. The Friends have adult and children’s books\, DVDs and audio books.
URL:https://www.fortlibrary.org/event/friends-of-the-library-book-sale-2026-04-11/
LOCATION:Dwight Foster Public Library Rogers Room
ATTACH;FMTTYPE=image/jpeg:https://www.fortlibrary.org/wp-content/uploads/2021/12/Friends-book-sale-WEBSITE-300-x-300-px.jpg
END:VEVENT
BEGIN:VEVENT
DTSTART;TZID=America/Chicago:20260413T093000
DTEND;TZID=America/Chicago:20260413T103000
DTSTAMP:20260425T071845
CREATED:20220429T185907Z
LAST-MODIFIED:20240416T203155Z
UID:34946-1776072600-1776076200@www.fortlibrary.org
SUMMARY:Library Board Meeting
DESCRIPTION:The Library Board meets generally the second Monday of the month at 9:30 a.m. in the Library meeting rooms. View our current Strategic Plan here.
URL:https://www.fortlibrary.org/event/library-board-meeting-2026-04-13/
LOCATION:Dwight Foster Public Library – Rotary Room
ATTACH;FMTTYPE=image/jpeg:https://www.fortlibrary.org/wp-content/uploads/2022/04/Library-Board-Meeting-Website-square-300-x-300-px.jpg
END:VEVENT
BEGIN:VEVENT
DTSTART;TZID=America/Chicago:20260509T090000
DTEND;TZID=America/Chicago:20260509T120000
DTSTAMP:20260425T071845
CREATED:20211213T212512Z
LAST-MODIFIED:20211213T212512Z
UID:35237-1778317200-1778328000@www.fortlibrary.org
SUMMARY:Friends of the Library Book Sale
DESCRIPTION:The first hour (9 a.m. to 10 a.m.) is open to Friends of the Library members only. Memberships are always sold at the sale. The Friends have adult and children’s books\, DVDs and audio books.
URL:https://www.fortlibrary.org/event/friends-of-the-library-book-sale-2026-05-09/
LOCATION:Dwight Foster Public Library Rogers Room
ATTACH;FMTTYPE=image/jpeg:https://www.fortlibrary.org/wp-content/uploads/2021/12/Friends-book-sale-WEBSITE-300-x-300-px.jpg
END:VEVENT
BEGIN:VEVENT
DTSTART;TZID=America/Chicago:20260511T093000
DTEND;TZID=America/Chicago:20260511T103000
DTSTAMP:20260425T071845
CREATED:20220429T185907Z
LAST-MODIFIED:20220429T185907Z
UID:35238-1778491800-1778495400@www.fortlibrary.org
SUMMARY:Library Board Meeting
DESCRIPTION:The Library Board meets generally the second Monday of the month at 9:30 a.m. in the Library meeting rooms. View our current Strategic Plan here.
URL:https://www.fortlibrary.org/event/library-board-meeting-2026-05-11/
LOCATION:Dwight Foster Public Library – Rotary Room
ATTACH;FMTTYPE=image/jpeg:https://www.fortlibrary.org/wp-content/uploads/2022/04/Library-Board-Meeting-Website-square-300-x-300-px.jpg
END:VEVENT
BEGIN:VEVENT
DTSTART;TZID=America/Chicago:20260608T093000
DTEND;TZID=America/Chicago:20260608T103000
DTSTAMP:20260425T071845
CREATED:20220429T185907Z
LAST-MODIFIED:20220429T185907Z
UID:35319-1780911000-1780914600@www.fortlibrary.org
SUMMARY:Library Board Meeting
DESCRIPTION:The Library Board meets generally the second Monday of the month at 9:30 a.m. in the Library meeting rooms. View our current Strategic Plan here.
URL:https://www.fortlibrary.org/event/library-board-meeting-2026-06-08/
LOCATION:Dwight Foster Public Library – Rotary Room
ATTACH;FMTTYPE=image/jpeg:https://www.fortlibrary.org/wp-content/uploads/2022/04/Library-Board-Meeting-Website-square-300-x-300-px.jpg
END:VEVENT
BEGIN:VEVENT
DTSTART;TZID=America/Chicago:20260613T090000
DTEND;TZID=America/Chicago:20260613T120000
DTSTAMP:20260425T071845
CREATED:20211213T212512Z
LAST-MODIFIED:20211213T212512Z
UID:35336-1781341200-1781352000@www.fortlibrary.org
SUMMARY:Friends of the Library Book Sale
DESCRIPTION:The first hour (9 a.m. to 10 a.m.) is open to Friends of the Library members only. Memberships are always sold at the sale. The Friends have adult and children’s books\, DVDs and audio books.
URL:https://www.fortlibrary.org/event/friends-of-the-library-book-sale-2026-06-13/
LOCATION:Dwight Foster Public Library Rogers Room
ATTACH;FMTTYPE=image/jpeg:https://www.fortlibrary.org/wp-content/uploads/2021/12/Friends-book-sale-WEBSITE-300-x-300-px.jpg
END:VEVENT
BEGIN:VEVENT
DTSTART;TZID=America/Chicago:20260711T090000
DTEND;TZID=America/Chicago:20260711T120000
DTSTAMP:20260425T071845
CREATED:20211213T212512Z
LAST-MODIFIED:20211213T212512Z
UID:35508-1783760400-1783771200@www.fortlibrary.org
SUMMARY:Friends of the Library Book Sale
DESCRIPTION:The first hour (9 a.m. to 10 a.m.) is open to Friends of the Library members only. Memberships are always sold at the sale. The Friends have adult and children’s books\, DVDs and audio books.
URL:https://www.fortlibrary.org/event/friends-of-the-library-book-sale-2026-07-11/
LOCATION:Dwight Foster Public Library Rogers Room
ATTACH;FMTTYPE=image/jpeg:https://www.fortlibrary.org/wp-content/uploads/2021/12/Friends-book-sale-WEBSITE-300-x-300-px.jpg
END:VEVENT
BEGIN:VEVENT
DTSTART;TZID=America/Chicago:20260713T093000
DTEND;TZID=America/Chicago:20260713T103000
DTSTAMP:20260425T071845
CREATED:20220429T185907Z
LAST-MODIFIED:20220429T185907Z
UID:35509-1783935000-1783938600@www.fortlibrary.org
SUMMARY:Library Board Meeting
DESCRIPTION:The Library Board meets generally the second Monday of the month at 9:30 a.m. in the Library meeting rooms. View our current Strategic Plan here.
URL:https://www.fortlibrary.org/event/library-board-meeting-2026-07-13/
LOCATION:Dwight Foster Public Library – Rotary Room
ATTACH;FMTTYPE=image/jpeg:https://www.fortlibrary.org/wp-content/uploads/2022/04/Library-Board-Meeting-Website-square-300-x-300-px.jpg
END:VEVENT
BEGIN:VEVENT
DTSTART;TZID=America/Chicago:20260808T090000
DTEND;TZID=America/Chicago:20260808T120000
DTSTAMP:20260425T071845
CREATED:20211213T212512Z
LAST-MODIFIED:20211213T212512Z
UID:35615-1786179600-1786190400@www.fortlibrary.org
SUMMARY:Friends of the Library Book Sale
DESCRIPTION:The first hour (9 a.m. to 10 a.m.) is open to Friends of the Library members only. Memberships are always sold at the sale. The Friends have adult and children’s books\, DVDs and audio books.
URL:https://www.fortlibrary.org/event/friends-of-the-library-book-sale-2026-08-08/
LOCATION:Dwight Foster Public Library Rogers Room
ATTACH;FMTTYPE=image/jpeg:https://www.fortlibrary.org/wp-content/uploads/2021/12/Friends-book-sale-WEBSITE-300-x-300-px.jpg
END:VEVENT
BEGIN:VEVENT
DTSTART;TZID=America/Chicago:20260810T093000
DTEND;TZID=America/Chicago:20260810T103000
DTSTAMP:20260425T071845
CREATED:20220429T185907Z
LAST-MODIFIED:20220429T185907Z
UID:35663-1786354200-1786357800@www.fortlibrary.org
SUMMARY:Library Board Meeting
DESCRIPTION:The Library Board meets generally the second Monday of the month at 9:30 a.m. in the Library meeting rooms. View our current Strategic Plan here.
URL:https://www.fortlibrary.org/event/library-board-meeting-2026-08-10/
LOCATION:Dwight Foster Public Library – Rotary Room
ATTACH;FMTTYPE=image/jpeg:https://www.fortlibrary.org/wp-content/uploads/2022/04/Library-Board-Meeting-Website-square-300-x-300-px.jpg
END:VEVENT
BEGIN:VEVENT
DTSTART;TZID=America/Chicago:20260912T090000
DTEND;TZID=America/Chicago:20260912T120000
DTSTAMP:20260425T071845
CREATED:20211213T212512Z
LAST-MODIFIED:20211213T212512Z
UID:35727-1789203600-1789214400@www.fortlibrary.org
SUMMARY:Friends of the Library Book Sale
DESCRIPTION:The first hour (9 a.m. to 10 a.m.) is open to Friends of the Library members only. Memberships are always sold at the sale. The Friends have adult and children’s books\, DVDs and audio books.
URL:https://www.fortlibrary.org/event/friends-of-the-library-book-sale-2026-09-12/
LOCATION:Dwight Foster Public Library Rogers Room
ATTACH;FMTTYPE=image/jpeg:https://www.fortlibrary.org/wp-content/uploads/2021/12/Friends-book-sale-WEBSITE-300-x-300-px.jpg
END:VEVENT
BEGIN:VEVENT
DTSTART;TZID=America/Chicago:20260914T093000
DTEND;TZID=America/Chicago:20260914T103000
DTSTAMP:20260425T071845
CREATED:20220429T185907Z
LAST-MODIFIED:20220429T185907Z
UID:35728-1789378200-1789381800@www.fortlibrary.org
SUMMARY:Library Board Meeting
DESCRIPTION:The Library Board meets generally the second Monday of the month at 9:30 a.m. in the Library meeting rooms. View our current Strategic Plan here.
URL:https://www.fortlibrary.org/event/library-board-meeting-2026-09-14/
LOCATION:Dwight Foster Public Library – Rotary Room
ATTACH;FMTTYPE=image/jpeg:https://www.fortlibrary.org/wp-content/uploads/2022/04/Library-Board-Meeting-Website-square-300-x-300-px.jpg
END:VEVENT
BEGIN:VEVENT
DTSTART;TZID=America/Chicago:20261010T090000
DTEND;TZID=America/Chicago:20261010T120000
DTSTAMP:20260425T071845
CREATED:20211213T212512Z
LAST-MODIFIED:20211213T212512Z
UID:35770-1791622800-1791633600@www.fortlibrary.org
SUMMARY:Friends of the Library Book Sale
DESCRIPTION:The first hour (9 a.m. to 10 a.m.) is open to Friends of the Library members only. Memberships are always sold at the sale. The Friends have adult and children’s books\, DVDs and audio books.
URL:https://www.fortlibrary.org/event/friends-of-the-library-book-sale-2026-10-10/
LOCATION:Dwight Foster Public Library Rogers Room
ATTACH;FMTTYPE=image/jpeg:https://www.fortlibrary.org/wp-content/uploads/2021/12/Friends-book-sale-WEBSITE-300-x-300-px.jpg
END:VEVENT
BEGIN:VEVENT
DTSTART;TZID=America/Chicago:20261012T093000
DTEND;TZID=America/Chicago:20261012T103000
DTSTAMP:20260425T071845
CREATED:20220429T185907Z
LAST-MODIFIED:20220429T185907Z
UID:35771-1791797400-1791801000@www.fortlibrary.org
SUMMARY:Library Board Meeting
DESCRIPTION:The Library Board meets generally the second Monday of the month at 9:30 a.m. in the Library meeting rooms. View our current Strategic Plan here.
URL:https://www.fortlibrary.org/event/library-board-meeting-2026-10-12/
LOCATION:Dwight Foster Public Library – Rotary Room
ATTACH;FMTTYPE=image/jpeg:https://www.fortlibrary.org/wp-content/uploads/2022/04/Library-Board-Meeting-Website-square-300-x-300-px.jpg
END:VEVENT
BEGIN:VEVENT
DTSTART;TZID=America/Chicago:20261109T093000
DTEND;TZID=America/Chicago:20261109T103000
DTSTAMP:20260425T071845
CREATED:20220429T185907Z
LAST-MODIFIED:20220429T185907Z
UID:35802-1794216600-1794220200@www.fortlibrary.org
SUMMARY:Library Board Meeting
DESCRIPTION:The Library Board meets generally the second Monday of the month at 9:30 a.m. in the Library meeting rooms. View our current Strategic Plan here.
URL:https://www.fortlibrary.org/event/library-board-meeting-2026-11-09/
LOCATION:Dwight Foster Public Library – Rotary Room
ATTACH;FMTTYPE=image/jpeg:https://www.fortlibrary.org/wp-content/uploads/2022/04/Library-Board-Meeting-Website-square-300-x-300-px.jpg
END:VEVENT
BEGIN:VEVENT
DTSTART;TZID=America/Chicago:20261114T090000
DTEND;TZID=America/Chicago:20261114T120000
DTSTAMP:20260425T071845
CREATED:20211213T212512Z
LAST-MODIFIED:20211213T212512Z
UID:35822-1794646800-1794657600@www.fortlibrary.org
SUMMARY:Friends of the Library Book Sale
DESCRIPTION:The first hour (9 a.m. to 10 a.m.) is open to Friends of the Library members only. Memberships are always sold at the sale. The Friends have adult and children’s books\, DVDs and audio books.
URL:https://www.fortlibrary.org/event/friends-of-the-library-book-sale-2026-11-14/
LOCATION:Dwight Foster Public Library Rogers Room
ATTACH;FMTTYPE=image/jpeg:https://www.fortlibrary.org/wp-content/uploads/2021/12/Friends-book-sale-WEBSITE-300-x-300-px.jpg
END:VEVENT
BEGIN:VEVENT
DTSTART;TZID=America/Chicago:20261212T090000
DTEND;TZID=America/Chicago:20261212T120000
DTSTAMP:20260425T071845
CREATED:20211213T212512Z
LAST-MODIFIED:20211213T212512Z
UID:35858-1797066000-1797076800@www.fortlibrary.org
SUMMARY:Friends of the Library Book Sale
DESCRIPTION:The first hour (9 a.m. to 10 a.m.) is open to Friends of the Library members only. Memberships are always sold at the sale. The Friends have adult and children’s books\, DVDs and audio books.
URL:https://www.fortlibrary.org/event/friends-of-the-library-book-sale-2026-12-12/
LOCATION:Dwight Foster Public Library Rogers Room
ATTACH;FMTTYPE=image/jpeg:https://www.fortlibrary.org/wp-content/uploads/2021/12/Friends-book-sale-WEBSITE-300-x-300-px.jpg
END:VEVENT
BEGIN:VEVENT
DTSTART;TZID=America/Chicago:20261214T093000
DTEND;TZID=America/Chicago:20261214T103000
DTSTAMP:20260425T071845
CREATED:20220429T185907Z
LAST-MODIFIED:20220429T185907Z
UID:35859-1797240600-1797244200@www.fortlibrary.org
SUMMARY:Library Board Meeting
DESCRIPTION:The Library Board meets generally the second Monday of the month at 9:30 a.m. in the Library meeting rooms. View our current Strategic Plan here.
URL:https://www.fortlibrary.org/event/library-board-meeting-2026-12-14/
LOCATION:Dwight Foster Public Library – Rotary Room
ATTACH;FMTTYPE=image/jpeg:https://www.fortlibrary.org/wp-content/uploads/2022/04/Library-Board-Meeting-Website-square-300-x-300-px.jpg
END:VEVENT
BEGIN:VEVENT
DTSTART;TZID=America/Chicago:20270109T090000
DTEND;TZID=America/Chicago:20270109T120000
DTSTAMP:20260425T071845
CREATED:20211213T212512Z
LAST-MODIFIED:20211213T212512Z
UID:35880-1799485200-1799496000@www.fortlibrary.org
SUMMARY:Friends of the Library Book Sale
DESCRIPTION:The first hour (9 a.m. to 10 a.m.) is open to Friends of the Library members only. Memberships are always sold at the sale. The Friends have adult and children’s books\, DVDs and audio books.
URL:https://www.fortlibrary.org/event/friends-of-the-library-book-sale-2027-01-09/
LOCATION:Dwight Foster Public Library Rogers Room
ATTACH;FMTTYPE=image/jpeg:https://www.fortlibrary.org/wp-content/uploads/2021/12/Friends-book-sale-WEBSITE-300-x-300-px.jpg
END:VEVENT
END:VCALENDAR