BEGIN:VCALENDAR
VERSION:2.0
PRODID:-//Dwight Foster Public Library - ECPv6.15.20//NONSGML v1.0//EN
CALSCALE:GREGORIAN
METHOD:PUBLISH
X-ORIGINAL-URL:https://www.fortlibrary.org
X-WR-CALDESC:Events for Dwight Foster Public Library
REFRESH-INTERVAL;VALUE=DURATION:PT1H
X-Robots-Tag:noindex
X-PUBLISHED-TTL:PT1H
BEGIN:VTIMEZONE
TZID:America/Chicago
BEGIN:DAYLIGHT
TZOFFSETFROM:-0600
TZOFFSETTO:-0500
TZNAME:CDT
DTSTART:20250309T080000
END:DAYLIGHT
BEGIN:STANDARD
TZOFFSETFROM:-0500
TZOFFSETTO:-0600
TZNAME:CST
DTSTART:20251102T070000
END:STANDARD
BEGIN:DAYLIGHT
TZOFFSETFROM:-0600
TZOFFSETTO:-0500
TZNAME:CDT
DTSTART:20260308T080000
END:DAYLIGHT
BEGIN:STANDARD
TZOFFSETFROM:-0500
TZOFFSETTO:-0600
TZNAME:CST
DTSTART:20261101T070000
END:STANDARD
BEGIN:DAYLIGHT
TZOFFSETFROM:-0600
TZOFFSETTO:-0500
TZNAME:CDT
DTSTART:20270314T080000
END:DAYLIGHT
BEGIN:STANDARD
TZOFFSETFROM:-0500
TZOFFSETTO:-0600
TZNAME:CST
DTSTART:20271107T070000
END:STANDARD
END:VTIMEZONE
BEGIN:VEVENT
DTSTART;TZID=America/Chicago:20260413T093000
DTEND;TZID=America/Chicago:20260413T103000
DTSTAMP:20260422T171017
CREATED:20220429T185907Z
LAST-MODIFIED:20240416T203155Z
UID:34946-1776072600-1776076200@www.fortlibrary.org
SUMMARY:Library Board Meeting
DESCRIPTION:The Library Board meets generally the second Monday of the month at 9:30 a.m. in the Library meeting rooms. View our current Strategic Plan here.
URL:https://www.fortlibrary.org/event/library-board-meeting-2026-04-13/
LOCATION:Dwight Foster Public Library – Rotary Room
ATTACH;FMTTYPE=image/jpeg:https://www.fortlibrary.org/wp-content/uploads/2022/04/Library-Board-Meeting-Website-square-300-x-300-px.jpg
END:VEVENT
END:VCALENDAR