BEGIN:VCALENDAR
VERSION:2.0
PRODID:-//Dwight Foster Public Library - ECPv6.15.20//NONSGML v1.0//EN
CALSCALE:GREGORIAN
METHOD:PUBLISH
X-ORIGINAL-URL:https://www.fortlibrary.org
X-WR-CALDESC:Events for Dwight Foster Public Library
REFRESH-INTERVAL;VALUE=DURATION:PT1H
X-Robots-Tag:noindex
X-PUBLISHED-TTL:PT1H
BEGIN:VTIMEZONE
TZID:America/Chicago
BEGIN:DAYLIGHT
TZOFFSETFROM:-0600
TZOFFSETTO:-0500
TZNAME:CDT
DTSTART:20250309T080000
END:DAYLIGHT
BEGIN:STANDARD
TZOFFSETFROM:-0500
TZOFFSETTO:-0600
TZNAME:CST
DTSTART:20251102T070000
END:STANDARD
BEGIN:DAYLIGHT
TZOFFSETFROM:-0600
TZOFFSETTO:-0500
TZNAME:CDT
DTSTART:20260308T080000
END:DAYLIGHT
BEGIN:STANDARD
TZOFFSETFROM:-0500
TZOFFSETTO:-0600
TZNAME:CST
DTSTART:20261101T070000
END:STANDARD
BEGIN:DAYLIGHT
TZOFFSETFROM:-0600
TZOFFSETTO:-0500
TZNAME:CDT
DTSTART:20270314T080000
END:DAYLIGHT
BEGIN:STANDARD
TZOFFSETFROM:-0500
TZOFFSETTO:-0600
TZNAME:CST
DTSTART:20271107T070000
END:STANDARD
END:VTIMEZONE
BEGIN:VEVENT
DTSTART;TZID=America/Chicago:20260411T090000
DTEND;TZID=America/Chicago:20260411T120000
DTSTAMP:20260422T170953
CREATED:20211213T212512Z
LAST-MODIFIED:20211213T212512Z
UID:34944-1775898000-1775908800@www.fortlibrary.org
SUMMARY:Friends of the Library Book Sale
DESCRIPTION:The first hour (9 a.m. to 10 a.m.) is open to Friends of the Library members only. Memberships are always sold at the sale. The Friends have adult and children’s books\, DVDs and audio books.
URL:https://www.fortlibrary.org/event/friends-of-the-library-book-sale-2026-04-11/
LOCATION:Dwight Foster Public Library Rogers Room
ATTACH;FMTTYPE=image/jpeg:https://www.fortlibrary.org/wp-content/uploads/2021/12/Friends-book-sale-WEBSITE-300-x-300-px.jpg
END:VEVENT
END:VCALENDAR